Workbook

Sheet TARI 2026
A1: VALORI INFLAZIONATI (LORDO IVA)
A2: Comune | B2: PEF 2026 lordo CONAI | C2: AR+CONAI in Tariffa QUOTA COMUNE | D2: AR+CONAI in Tariffa QUOTA COVAR | E2: PEF 2026 Netto CONAI (CALCOLATO TEORICO) | F2: ENTRATE TARIFFARIE (∑Ta-1) | G2: (1+p) | H2: INCREMENTO MAX LIMITE ALLA CRESCITA | I2: PEF 2026 APPLICABILE | J2: Detrazioni di cui al comma 4.5 della Determina 1/DTAC/2025 | K2: TOTALE ENTRATE TARIFFARIE (TARI 2026) | L2: di cui TV | M2: PESO % TV | N2: di cui TF | O2: PESO % TF
A3: BEINASCO | B3: =+E3+C3 -> 4080448.4 | C3: =+'CONAI con IVA'!L3 -> 113488.03 | D3: =+'CONAI con IVA'!M3 -> 170232.04 | E3: =+[1]PEF!$F$52 -> 3966960.3 | F3: =+[1]PEF!$F$76 -> 3372084.1 | G3: =+[1]PEF!$F$72 -> 1.0479 | H3: =+F3*G3 -> 3533606.9 | I3: =+[1]PEF!$F$84 -> 3533607.3 | J3: =+[1]PEF!$F$87 -> 0 | K3: =+I3-J3 -> 3533607.3 | L3: =+[1]PEF!$F$89 -> 1852829.1 | M3: =+L3/K3 -> 0.52434492 | N3: =+[1]PEF!$F$90 -> 1680778.3 | O3: =+N3/K3 -> 0.47565508 | S3: 2428240 | T3: 1533118.5 | U3: =SUM(S3:T3) -> 3961358.6
A4: BRUINO | B4: =+E4+C4 -> 1888828.2 | C4: =+'CONAI con IVA'!L4 -> 27653.581 | D4: =+'CONAI con IVA'!M4 -> 110614.33 | E4: =+[2]PEF!$F$52 -> 1861174.6 | F4: =+[2]PEF!$F$76 -> 1469958.5 | G4: =+[2]PEF!$F$72 -> 1.0479 | H4: =+F4*G4 -> 1540369.5 | I4: =+[2]PEF!$F$84 -> 1540369.6 | J4: =+[2]PEF!$F$87 -> 54268.02 | K4: =+I4-J4 -> 1486101.6 | L4: =+[2]PEF!$F$89 -> 821037.4 | M4: =+L4/K4 -> 0.55247731 | N4: =+[2]PEF!$F$90 -> 665064.17 | O4: =+N4/K4 -> 0.44752269 | R4: 52689 | S4: =+S3/U3 -> 0.61298163 | T4: =+T3/U3 -> 0.38701837
A5: CANDIOLO | B5: =+E5+C5 -> 1090956.5 | C5: =+'CONAI con IVA'!L5 -> 18431.923 | D5: =+'CONAI con IVA'!M5 -> 73727.692 | E5: =+[3]PEF!$F$52 -> 1072524.6 | F5: =+[3]PEF!$F$76 -> 1103841.5 | G5: =+[3]PEF!$F$72 -> 1.048 | H5: =+F5*G5 -> 1156825.9 | I5: =+[3]PEF!$F$84 -> 1072524.6 | J5: =+[3]PEF!$F$87 -> 53842.52 | K5: =+I5-J5 -> 1018682 | L5: =+[3]PEF!$F$89 -> 581733.26 | M5: =+L5/K5 -> 0.5710646 | N5: =+[3]PEF!$F$90 -> 436948.79 | O5: =+N5/K5 -> 0.4289354
A6: CARIGNANO | B6: =+E6+C6 -> 1663876.7 | C6: =+'CONAI con IVA'!L6 -> 30615.93 | D6: =+'CONAI con IVA'!M6 -> 122463.72 | E6: =+[4]PEF!$F$52 -> 1633260.8 | F6: =+[4]PEF!$F$76 -> 1567363.8 | G6: =+[4]PEF!$F$72 -> 1.048 | H6: =+F6*G6 -> 1642597.3 | I6: =+[4]PEF!$F$84 -> 1633260.8 | J6: =+[4]PEF!$F$87 -> 19119.02 | K6: =+I6-J6 -> 1614141.7 | L6: =+[4]PEF!$F$89 -> 939396.57 | M6: =+L6/K6 -> 0.58197898 | N6: =+[4]PEF!$F$90 -> 674745.18 | O6: =+N6/K6 -> 0.41802102 | S6: =+R4*S4 -> 32297.389 | T6: =+R4*T4 -> 20391.611
A7: CASTAGNOLE | B7: =+E7+C7 -> 346524.37 | C7: =+'CONAI con IVA'!L7 -> 7408.003 | D7: =+'CONAI con IVA'!M7 -> 29632.012 | E7: =+[5]PEF!$F$52 -> 339116.36 | F7: =+[5]PEF!$F$76 -> 330947.51 | G7: =+[5]PEF!$F$72 -> 1.048 | H7: =+F7*G7 -> 346832.99 | I7: =+[5]PEF!$F$84 -> 339116.36 | J7: =+[5]PEF!$F$87 -> 7343.48 | K7: =+I7-J7 -> 331772.88 | L7: =+[5]PEF!$F$89 -> 190871.06 | M7: =+L7/K7 -> 0.57530638 | N7: =+[5]PEF!$F$90 -> 140901.83 | O7: =+N7/K7 -> 0.42469362
A8: LA LOGGIA | B8: =+E8+C8 -> 1428448.7 | C8: =+'CONAI con IVA'!L8 -> 28734.474 | D8: =+'CONAI con IVA'!M8 -> 114937.9 | E8: =+[6]PEF!$F$52 -> 1399714.2 | F8: =+[6]PEF!$F$76 -> 1442955.9 | G8: =+[6]PEF!$F$72 -> 1.048 | H8: =+F8*G8 -> 1512217.8 | I8: =+[6]PEF!$F$84 -> 1399714.2 | J8: =+[6]PEF!$F$87 -> 9565.73 | K8: =+I8-J8 -> 1390148.5 | L8: =+[6]PEF!$F$89 -> 788580.03 | M8: =+L8/K8 -> 0.56726318 | N8: =+[6]PEF!$F$90 -> 601568.42 | O8: =+N8/K8 -> 0.43273682
A9: LOMBRIASCO | B9: =+E9+C9 -> 135871.91 | C9: =+'CONAI con IVA'!L9 -> 3631.7562 | D9: =+'CONAI con IVA'!M9 -> 14527.025 | E9: =+[7]PEF!$F$52 -> 132240.15 | F9: =+[7]PEF!$F$76 -> 135755.79 | G9: =+[7]PEF!$F$72 -> 1.0576 | H9: =+F9*G9 -> 143575.32 | I9: =+[7]PEF!$F$84 -> 132240.15 | J9: =+[7]PEF!$F$87 -> 579.62 | K9: =+I9-J9 -> 131660.53 | L9: =+[7]PEF!$F$89 -> 74407.75 | M9: =+L9/K9 -> 0.56514847 | N9: =+[7]PEF!$F$90 -> 57252.785 | O9: =+N9/K9 -> 0.43485153
A10: MONCALIERI | B10: =+E10+C10 -> 10607656 | C10: =+'CONAI con IVA'!L10 -> 185184.86 | D10: =+'CONAI con IVA'!M10 -> 740739.46 | E10: =+[8]PEF!$F$52 -> 10422471 | F10: =+[8]PEF!$F$76 -> 9973632.3 | G10: =+[8]PEF!$F$72 -> 1.048 | H10: =+F10*G10 -> 10452367 | I10: =+[8]PEF!$F$84 -> 10422471 | J10: =+[8]PEF!$F$87 -> 47787.4 | K10: =+I10-J10 -> 10374683 | L10: =+[8]PEF!$F$89 -> 5899564.3 | M10: =+L10/K10 -> 0.56865006 | N10: =+[8]PEF!$F$90 -> 4475119 | O10: =+N10/K10 -> 0.43134994
A11: NICHELINO | B11: =+E11+C11 -> 9534423.6 | C11: =+'CONAI con IVA'!L11 -> 298937.15 | D11: =+'CONAI con IVA'!M11 -> 448405.73 | E11: =+[9]PEF!$F$52 -> 9235486.4 | F11: =+[9]PEF!$F$76 -> 9072186.9 | G11: =+[9]PEF!$F$72 -> 1.048 | H11: =+F11*G11 -> 9507651.9 | I11: =+[9]PEF!$F$84 -> 9235486.4 | J11: =+[9]PEF!$F$87 -> 34739.14 | K11: =+I11-J11 -> 9200747.3 | L11: =+[9]PEF!$F$89 -> 5130388.7 | M11: =+L11/K11 -> 0.55760566 | N11: =+[9]PEF!$F$90 -> 4070358.6 | O11: =+N11/K11 -> 0.44239434
A12: ORBASSANO | B12: =+E12+C12 -> 4904226.9 | C12: =+'CONAI con IVA'!L12 -> 150193.46 | D12: =+'CONAI con IVA'!M12 -> 225290.19 | E12: =+[10]PEF!$F$52 -> 4754033.5 | F12: =+[10]PEF!$F$76 -> 4437185.2 | G12: =+[10]PEF!$F$72 -> 1.048 | H12: =+F12*G12 -> 4650170.1 | I12: =+[10]PEF!$F$84 -> 4650170.5 | J12: =+[10]PEF!$F$87 -> 0 | K12: =+I12-J12 -> 4650170.5 | L12: =+[10]PEF!$F$89 -> 2798492.1 | M12: =+L12/K12 -> 0.6018042 | N12: =+[10]PEF!$F$90 -> 1851678.3 | O12: =+N12/K12 -> 0.3981958
A13: OSASIO | B13: =+E13+C13 -> 137760.91 | C13: =+'CONAI con IVA'!L13 -> 3097.2321 | D13: =+'CONAI con IVA'!M13 -> 12388.929 | E13: =+[11]PEF!$F$52 -> 134663.67 | F13: =+[11]PEF!$F$76 -> 117022.02 | G13: =+[11]PEF!$F$72 -> 1.0479 | H13: =+F13*G13 -> 122627.38 | I13: =+[11]PEF!$F$84 -> 122627.67 | J13: =+[11]PEF!$F$87 -> 4481.3 | K13: =+I13-J13 -> 118146.37 | L13: =+[11]PEF!$F$89 -> 67179.788 | M13: =+L13/K13 -> 0.5686149 | N13: =+[11]PEF!$F$90 -> 50966.586 | O13: =+N13/K13 -> 0.4313851
A14: PANCALIERI | B14: =+E14+C14 -> 278623.34 | C14: =+'CONAI con IVA'!L14 -> 6849.8922 | D14: =+'CONAI con IVA'!M14 -> 27399.569 | E14: =+[12]PEF!$F$52 -> 271773.45 | F14: =+[12]PEF!$F$76 -> 266500.53 | G14: =+[12]PEF!$F$72 -> 1.058 | H14: =+F14*G14 -> 281957.56 | I14: =+[12]PEF!$F$84 -> 271773.45 | J14: =+[12]PEF!$F$87 -> 4452.95 | K14: =+I14-J14 -> 267320.5 | L14: =+[12]PEF!$F$89 -> 171362.07 | M14: =+L14/K14 -> 0.64103604 | N14: =+[12]PEF!$F$90 -> 95958.424 | O14: =+N14/K14 -> 0.35896396
A15: PIOBESI | B15: =+E15+C15 -> 842094.95 | C15: =+'CONAI con IVA'!L15 -> 12846.092 | D15: =+'CONAI con IVA'!M15 -> 51384.366 | E15: =+[13]PEF!$F$52 -> 829248.86 | F15: =+[13]PEF!$F$76 -> 833045.44 | G15: =+[13]PEF!$F$72 -> 1.048 | H15: =+F15*G15 -> 873031.63 | I15: =+[13]PEF!$F$84 -> 829248.86 | J15: =+[13]PEF!$F$87 -> 60088.97 | K15: =+I15-J15 -> 769159.89 | L15: =+[13]PEF!$F$89 -> 427123.89 | M15: =+L15/K15 -> 0.55531223 | N15: =+[13]PEF!$F$90 -> 342035.99 | O15: =+N15/K15 -> 0.44468777
A16: PIOSSASCO | B16: =+E16+C16 -> 3148523.2 | C16: =+'CONAI con IVA'!L16 -> 59656.142 | D16: =+'CONAI con IVA'!M16 -> 238624.57 | E16: =+[14]PEF!$F$52 -> 3088867.1 | F16: =+[14]PEF!$F$76 -> 2838227.6 | G16: =+[14]PEF!$F$72 -> 1.048 | H16: =+F16*G16 -> 2974462.5 | I16: =+[14]PEF!$F$84 -> 2974462.1 | J16: =+[14]PEF!$F$87 -> 172434.48 | K16: =+I16-J16 -> 2802027.6 | L16: =+[14]PEF!$F$89 -> 1677231.9 | M16: =+L16/K16 -> 0.59857795 | N16: =+[14]PEF!$F$90 -> 1124795.7 | O16: =+N16/K16 -> 0.40142205
A17: RIVALTA | B17: =+E17+C17 -> 3795359 | C17: =+'CONAI con IVA'!L17 -> 65712.489 | D17: =+'CONAI con IVA'!M17 -> 262849.96 | E17: =+[15]PEF!$F$52 -> 3729646.5 | F17: =+[15]PEF!$F$76 -> 4008893 | G17: =+[15]PEF!$F$72 -> 1.048 | H17: =+F17*G17 -> 4201319.9 | I17: =+[15]PEF!$F$84 -> 3729646.5 | J17: =+[15]PEF!$F$87 -> 14214.55 | K17: =+I17-J17 -> 3715432 | L17: =+[15]PEF!$F$89 -> 2266838.4 | M17: =+L17/K17 -> 0.61011436 | N17: =+[15]PEF!$F$90 -> 1448593.6 | O17: =+N17/K17 -> 0.38988564
A18: TROFARELLO | B18: =+E18+C18 -> 2072116.5 | C18: =+'CONAI con IVA'!L18 -> 34861.35 | D18: =+'CONAI con IVA'!M18 -> 139445.4 | E18: =+[16]PEF!$F$52 -> 2037255.1 | F18: =+[16]PEF!$F$76 -> 1841778.4 | G18: =+[16]PEF!$F$72 -> 1.048 | H18: =+F18*G18 -> 1930183.8 | I18: =+[16]PEF!$F$84 -> 1930184.1 | J18: =+[16]PEF!$F$87 -> 7200 | K18: =+I18-J18 -> 1922984.1 | L18: =+[16]PEF!$F$89 -> 1123076.3 | M18: =+L18/K18 -> 0.58402783 | N18: =+[16]PEF!$F$90 -> 799907.89 | O18: =+N18/K18 -> 0.41597217
A19: VILLASTELLONE | B19: =+E19+C19 -> 863856.53 | C19: =+'CONAI con IVA'!L19 -> 15003.933 | D19: =+'CONAI con IVA'!M19 -> 60015.731 | E19: =+[17]PEF!$F$52 -> 848852.59 | F19: =+[17]PEF!$F$76 -> 833234.24 | G19: =+[17]PEF!$F$72 -> 1.048 | H19: =+F19*G19 -> 873229.49 | I19: =+[17]PEF!$F$84 -> 848852.59 | J19: =+[17]PEF!$F$87 -> 3068.59 | K19: =+I19-J19 -> 845784 | L19: =+[17]PEF!$F$89 -> 425113.21 | M19: =+L19/K19 -> 0.50262621 | N19: =+[17]PEF!$F$90 -> 420670.79 | O19: =+N19/K19 -> 0.49737379
A20: VINOVO | B20: =+E20+C20 -> 2432296.1 | C20: =+'CONAI con IVA'!L20 -> 49047.482 | D20: =+'CONAI con IVA'!M20 -> 196189.93 | E20: =+[18]PEF!$F$52 -> 2383248.6 | F20: =+[18]PEF!$F$76 -> 2372258.9 | G20: =+[18]PEF!$F$72 -> 1.048 | H20: =+F20*G20 -> 2486127.3 | I20: =+[18]PEF!$F$84 -> 2383248.6 | J20: =+[18]PEF!$F$87 -> 115721.76 | K20: =+I20-J20 -> 2267526.8 | L20: =+[18]PEF!$F$89 -> 1351317.6 | M20: =+L20/K20 -> 0.59594339 | N20: =+[18]PEF!$F$90 -> 916209.2 | O20: =+N20/K20 -> 0.40405661
A21: VIRLE | B21: =+E21+C21 -> 174062.14 | C21: =+'CONAI con IVA'!L21 -> 4055.3305 | D21: =+'CONAI con IVA'!M21 -> 16221.322 | E21: =+[19]PEF!$F$52 -> 170006.81 | F21: =+[19]PEF!$F$76 -> 181107.14 | G21: =+[19]PEF!$F$72 -> 1.048 | H21: =+F21*G21 -> 189800.28 | I21: =+[19]PEF!$F$84 -> 170006.81 | J21: =+[19]PEF!$F$87 -> 3744.43 | K21: =+I21-J21 -> 166262.38 | L21: =+[19]PEF!$F$89 -> 90446.512 | M21: =+L21/K21 -> 0.54399866 | N21: =+[19]PEF!$F$90 -> 75815.868 | O21: =+N21/K21 -> 0.45600134
A23: Totali | B23: =SUM(B3:B21) -> 49425953 | C23: =SUM(C3:C21) -> 1115409.1 | D23: =SUM(D3:D21) -> 3055089.9 | E23: =SUM(E3:E21) -> 48310544 | F23: =SUM(F3:F21) -> 46197979 | H23: =SUM(H3:H21) -> 48418954 | I23: =SUM(I3:I21) -> 47219011 | J23: =SUM(J3:J21) -> 612651.96 | K23: =SUM(K3:K21) -> 46606359 | L23: =SUM(L3:L21) -> 26676990 | N23: =SUM(N3:N21) -> 19929369
I25: =+I23-E23 -> -1091533

Sheet CONAI con IVA
A2: AR + CONAI TOTALI (inflazionati con IVA) | C2: DI CUI: | D2: AR | E2: AR conai | G2: b | H2: AR con sharing | I2: AR conai con sharing | K2: Comune | L2: QUOTE COMUNE | M2: QUOTE COVAR
A3: BEINASCO | B3: =+D3+E3 -> 283720.07 | D3: 838.75832 | E3: 282881.31 | G3: 0.4 | H3: =+D3*G3 -> 335.50333 | I3: =+E3*G3 -> 113152.52 | K3: BEINASCO | L3: =+H3+I3 -> 113488.03 | M3: =+B3-L3 -> 170232.04 | N3: =SUM(L3:M3) -> 283720.07
A4: BRUINO | B4: =+D4+E4 -> 138267.91 | D4: 408.7598 | E4: 137859.15 | G4: 0.2 | H4: =+D4*G4 -> 81.751959 | I4: =+E4*G4 -> 27571.829 | K4: BRUINO | L4: =+H4+I4 -> 27653.581 | M4: =+B4-L4 -> 110614.33 | N4: =SUM(L4:M4) -> 138267.91
A5: CANDIOLO | B5: =+D5+E5 -> 92159.615 | D5: 272.45039 | E5: 91887.164 | G5: 0.2 | H5: =+D5*G5 -> 54.490078 | I5: =+E5*G5 -> 18377.433 | K5: CANDIOLO | L5: =+H5+I5 -> 18431.923 | M5: =+B5-L5 -> 73727.692 | N5: =SUM(L5:M5) -> 92159.615
A6: CARIGNANO | B6: =+D6+E6 -> 153079.65 | D6: 452.54758 | E6: 152627.1 | G6: 0.2 | H6: =+D6*G6 -> 90.509516 | I6: =+E6*G6 -> 30525.42 | K6: CARIGNANO | L6: =+H6+I6 -> 30615.93 | M6: =+B6-L6 -> 122463.72 | N6: =SUM(L6:M6) -> 153079.65
A7: CASTAGNOLE PIEMONTE | B7: =+D7+E7 -> 37040.015 | D7: 109.50096 | E7: 36930.514 | G7: 0.2 | H7: =+D7*G7 -> 21.900193 | I7: =+E7*G7 -> 7386.1028 | K7: CASTAGNOLE PIEMONTE | L7: =+H7+I7 -> 7408.003 | M7: =+B7-L7 -> 29632.012 | N7: =SUM(L7:M7) -> 37040.015
A8: LA LOGGIA | B8: =+D8+E8 -> 143672.37 | D8: 424.73695 | E8: 143247.63 | G8: 0.2 | H8: =+D8*G8 -> 84.94739 | I8: =+E8*G8 -> 28649.527 | K8: LA LOGGIA | L8: =+H8+I8 -> 28734.474 | M8: =+B8-L8 -> 114937.9 | N8: =SUM(L8:M8) -> 143672.37
A9: LOMBRIASCO | B9: =+D9+E9 -> 18158.781 | D9: 53.682592 | E9: 18105.098 | G9: 0.2 | H9: =+D9*G9 -> 10.736518 | I9: =+E9*G9 -> 3621.0197 | K9: LOMBRIASCO | L9: =+H9+I9 -> 3631.7562 | M9: =+B9-L9 -> 14527.025 | N9: =SUM(L9:M9) -> 18158.781
A10: MONCALIERI | B10: =+D10+E10 -> 925924.32 | D10: 2737.2993 | E10: 923187.02 | G10: 0.2 | H10: =+D10*G10 -> 547.45985 | I10: =+E10*G10 -> 184637.4 | K10: MONCALIERI | L10: =+H10+I10 -> 185184.86 | M10: =+B10-L10 -> 740739.46 | N10: =SUM(L10:M10) -> 925924.32
A11: NICHELINO | B11: =+D11+E11 -> 747342.88 | D11: 2209.361 | E11: 745133.52 | G11: 0.4 | H11: =+D11*G11 -> 883.74441 | I11: =+E11*G11 -> 298053.41 | K11: NICHELINO | L11: =+H11+I11 -> 298937.15 | M11: =+B11-L11 -> 448405.73 | N11: =SUM(L11:M11) -> 747342.88
A12: ORBASSANO | B12: =+D12+E12 -> 375483.66 | D12: 1110.0379 | E12: 374373.62 | G12: 0.4 | H12: =+D12*G12 -> 444.01518 | I12: =+E12*G12 -> 149749.45 | K12: ORBASSANO | L12: =+H12+I12 -> 150193.46 | M12: =+B12-L12 -> 225290.19 | N12: =SUM(L12:M12) -> 375483.66
A13: OSASIO | B13: =+D13+E13 -> 15486.161 | D13: 45.781556 | E13: 15440.379 | G13: 0.2 | H13: =+D13*G13 -> 9.1563112 | I13: =+E13*G13 -> 3088.0758 | K13: OSASIO | L13: =+H13+I13 -> 3097.2321 | M13: =+B13-L13 -> 12388.929 | N13: =SUM(L13:M13) -> 15486.161
A14: PANCALIERI | B14: =+D14+E14 -> 34249.461 | D14: 101.25128 | E14: 34148.21 | G14: 0.2 | H14: =+D14*G14 -> 20.250256 | I14: =+E14*G14 -> 6829.6419 | K14: PANCALIERI | L14: =+H14+I14 -> 6849.8922 | M14: =+B14-L14 -> 27399.569 | N14: =SUM(L14:M14) -> 34249.461
... A21: VIRLE PIEMONTE | B21: =+D21+E21 -> 20276.653 | D21: 59.943631 | E21: 20216.709 | G21: 0.2 | H21: =+D21*G21 -> 11.988726 | I21: =+E21*G21 -> 4043.3418 | K21: VIRLE PIEMONTE | L21: =+H21+I21 -> 4055.3305 | M21: =+B21-L21 -> 16221.322 | N21: =SUM(L21:M21) -> 20276.653
B22: =SUM(B3:B21) -> 4170499 | D22: =SUM(D3:D21) -> 12329.197 | E22: =SUM(E3:E21) -> 4158169.8 | H22: =SUM(H3:H21) -> 3297.4709 | I22: =SUM(I3:I21) -> 1112111.6 | L22: =SUM(L3:L21) -> 1115409.1 | M22: =+B22-L22 -> 3055089.9 | N22: =SUM(L22:M22) -> 4170499
