Workbook

Sheet Y1a - Y2a
B28: Rispetto obiettivi di raccolta differenziata raggiunti
B29: Y1a | D29: Valutazione soddisfacente
D30: -0.19999 | E30: 0
C31: Valutazione non soddisfacente
C32: -0.4 | D32: -0.2
C34: % Raccolta differenziata conseguita | D34: % Obiettivi comunitari | E34: Differenziale | F34: % Raccolta differenziata conseguita | G34: Massimo | H34: Minimo | M34: Valutazione soddisfacente | O34: Valutazione non soddisfacente
E35: 0.15
B36: BEINASCO | C36: 0.63576805 | D36: 0.65 | E36: =$E$35 -> 0.15 | F36: =IF(C36>G36,G36,IF(C36<H36,H36,C36)) -> 0.63576805 | G36: =D36+E36 -> 0.8 | H36: =D36-E36 -> 0.5 | I36: =(G36-D36) -> 0.15 | J36: =($D$30-$E$30)/I36 -> -1.3332667 | K36: =(H36-D36) -> -0.15 | L36: =($C$32-$D$32)/K36 -> 1.3333333 | M36: =IF(F36>=D36,$M$34,0) -> 0 | N36: =IF(F36>=D36,-(F36-G36)*J36,0) -> 0 | O36: =IF(F36<D36,$O$34,0) -> Valutazione non soddisfacente | P36: =IF(F36<D36,((F36-H36)*L36)+$C$32,0) -> -0.21897593 | R36: ok
B37: BRUINO | C37: 0.79912313 | D37: 0.65 | E37: =$E$35 -> 0.15 | F37: =IF(C37>G37,G37,IF(C37<H37,H37,C37)) -> 0.79912313 | G37: =D37+E37 -> 0.8 | H37: =D37-E37 -> 0.5 | I37: =(G37-D37) -> 0.15 | J37: =($D$30-$E$30)/I37 -> -1.3332667 | K37: =(H37-D37) -> -0.15 | L37: =($C$32-$D$32)/K37 -> 1.3333333 | M37: =IF(F37>=D37,$M$34,0) -> Valutazione soddisfacente | N37: =IF(F37>=D37,-(F37-G37)*J37,0) -> -0.001169103 | O37: =IF(F37<D37,$O$34,0) -> 0 | P37: =IF(F37<D37,((F37-H37)*L37)+$C$32,0) -> 0
B38: CANDIOLO | C38: 0.77755172 | D38: 0.65 | E38: =$E$35 -> 0.15 | F38: =IF(C38>G38,G38,IF(C38<H38,H38,C38)) -> 0.77755172 | G38: =D38+E38 -> 0.8 | H38: =D38-E38 -> 0.5 | I38: =(G38-D38) -> 0.15 | J38: =($D$30-$E$30)/I38 -> -1.3332667 | K38: =(H38-D38) -> -0.15 | L38: =($C$32-$D$32)/K38 -> 1.3333333 | M38: =IF(F38>=D38,$M$34,0) -> Valutazione soddisfacente | N38: =IF(F38>=D38,-(F38-G38)*J38,0) -> -0.029929537 | O38: =IF(F38<D38,$O$34,0) -> 0 | P38: =IF(F38<D38,((F38-H38)*L38)+$C$32,0) -> 0
B39: CARIGNANO | C39: 0.75943007 | D39: 0.65 | E39: =$E$35 -> 0.15 | F39: =IF(C39>G39,G39,IF(C39<H39,H39,C39)) -> 0.75943007 | G39: =D39+E39 -> 0.8 | H39: =D39-E39 -> 0.5 | I39: =(G39-D39) -> 0.15 | J39: =($D$30-$E$30)/I39 -> -1.3332667 | K39: =(H39-D39) -> -0.15 | L39: =($C$32-$D$32)/K39 -> 1.3333333 | M39: =IF(F39>=D39,$M$34,0) -> Valutazione soddisfacente | N39: =IF(F39>=D39,-(F39-G39)*J39,0) -> -0.054090541 | O39: =IF(F39<D39,$O$34,0) -> 0 | P39: =IF(F39<D39,((F39-H39)*L39)+$C$32,0) -> 0
B40: CASTAGNOLE PIEMONTE | C40: 0.73248795 | D40: 0.65 | E40: =$E$35 -> 0.15 | F40: =IF(C40>G40,G40,IF(C40<H40,H40,C40)) -> 0.73248795 | G40: =D40+E40 -> 0.8 | H40: =D40-E40 -> 0.5 | I40: =(G40-D40) -> 0.15 | J40: =($D$30-$E$30)/I40 -> -1.3332667 | K40: =(H40-D40) -> -0.15 | L40: =($C$32-$D$32)/K40 -> 1.3333333 | M40: =IF(F40>=D40,$M$34,0) -> Valutazione soddisfacente | N40: =IF(F40>=D40,-(F40-G40)*J40,0) -> -0.090011571 | O40: =IF(F40<D40,$O$34,0) -> 0 | P40: =IF(F40<D40,((F40-H40)*L40)+$C$32,0) -> 0
B41: LA LOGGIA | C41: 0.71077433 | D41: 0.65 | E41: =$E$35 -> 0.15 | F41: =IF(C41>G41,G41,IF(C41<H41,H41,C41)) -> 0.71077433 | G41: =D41+E41 -> 0.8 | H41: =D41-E41 -> 0.5 | I41: =(G41-D41) -> 0.15 | J41: =($D$30-$E$30)/I41 -> -1.3332667 | K41: =(H41-D41) -> -0.15 | L41: =($C$32-$D$32)/K41 -> 1.3333333 | M41: =IF(F41>=D41,$M$34,0) -> Valutazione soddisfacente | N41: =IF(F41>=D41,-(F41-G41)*J41,0) -> -0.11896161 | O41: =IF(F41<D41,$O$34,0) -> 0 | P41: =IF(F41<D41,((F41-H41)*L41)+$C$32,0) -> 0
B42: LOMBRIASCO | C42: 0.70614912 | D42: 0.65 | E42: =$E$35 -> 0.15 | F42: =IF(C42>G42,G42,IF(C42<H42,H42,C42)) -> 0.70614912 | G42: =D42+E42 -> 0.8 | H42: =D42-E42 -> 0.5 | I42: =(G42-D42) -> 0.15 | J42: =($D$30-$E$30)/I42 -> -1.3332667 | K42: =(H42-D42) -> -0.15 | L42: =($C$32-$D$32)/K42 -> 1.3333333 | M42: =IF(F42>=D42,$M$34,0) -> Valutazione soddisfacente | N42: =IF(F42>=D42,-(F42-G42)*J42,0) -> -0.12512826 | O42: =IF(F42<D42,$O$34,0) -> 0 | P42: =IF(F42<D42,((F42-H42)*L42)+$C$32,0) -> 0
B43: MONCALIERI | C43: 0.65838728 | D43: 0.65 | E43: =$E$35 -> 0.15 | F43: =IF(C43>G43,G43,IF(C43<H43,H43,C43)) -> 0.65838728 | G43: =D43+E43 -> 0.8 | H43: =D43-E43 -> 0.5 | I43: =(G43-D43) -> 0.15 | J43: =($D$30-$E$30)/I43 -> -1.3332667 | K43: =(H43-D43) -> -0.15 | L43: =($C$32-$D$32)/K43 -> 1.3333333 | M43: =IF(F43>=D43,$M$34,0) -> Valutazione soddisfacente | N43: =IF(F43>=D43,-(F43-G43)*J43,0) -> -0.18880752 | O43: =IF(F43<D43,$O$34,0) -> 0 | P43: =IF(F43<D43,((F43-H43)*L43)+$C$32,0) -> 0
B44: NICHELINO | C44: 0.60600963 | D44: 0.65 | E44: =$E$35 -> 0.15 | F44: =IF(C44>G44,G44,IF(C44<H44,H44,C44)) -> 0.60600963 | G44: =D44+E44 -> 0.8 | H44: =D44-E44 -> 0.5 | I44: =(G44-D44) -> 0.15 | J44: =($D$30-$E$30)/I44 -> -1.3332667 | K44: =(H44-D44) -> -0.15 | L44: =($C$32-$D$32)/K44 -> 1.3333333 | M44: =IF(F44>=D44,$M$34,0) -> 0 | N44: =IF(F44>=D44,-(F44-G44)*J44,0) -> 0 | O44: =IF(F44<D44,$O$34,0) -> Valutazione non soddisfacente | P44: =IF(F44<D44,((F44-H44)*L44)+$C$32,0) -> -0.25865383
B45: ORBASSANO | C45: 0.64343727 | D45: 0.65 | E45: =$E$35 -> 0.15 | F45: =IF(C45>G45,G45,IF(C45<H45,H45,C45)) -> 0.64343727 | G45: =D45+E45 -> 0.8 | H45: =D45-E45 -> 0.5 | I45: =(G45-D45) -> 0.15 | J45: =($D$30-$E$30)/I45 -> -1.3332667 | K45: =(H45-D45) -> -0.15 | L45: =($C$32-$D$32)/K45 -> 1.3333333 | M45: =IF(F45>=D45,$M$34,0) -> 0 | N45: =IF(F45>=D45,-(F45-G45)*J45,0) -> 0 | O45: =IF(F45<D45,$O$34,0) -> Valutazione non soddisfacente | P45: =IF(F45<D45,((F45-H45)*L45)+$C$32,0) -> -0.2087503
B46: OSASIO | C46: 0.72550389 | D46: 0.65 | E46: =$E$35 -> 0.15 | F46: =IF(C46>G46,G46,IF(C46<H46,H46,C46)) -> 0.72550389 | G46: =D46+E46 -> 0.8 | H46: =D46-E46 -> 0.5 | I46: =(G46-D46) -> 0.15 | J46: =($D$30-$E$30)/I46 -> -1.3332667 | K46: =(H46-D46) -> -0.15 | L46: =($C$32-$D$32)/K46 -> 1.3333333 | M46: =IF(F46>=D46,$M$34,0) -> Valutazione soddisfacente | N46: =IF(F46>=D46,-(F46-G46)*J46,0) -> -0.099323182 | O46: =IF(F46<D46,$O$34,0) -> 0 | P46: =IF(F46<D46,((F46-H46)*L46)+$C$32,0) -> 0
B47: PANCALIERI | C47: 0.68981756 | D47: 0.65 | E47: =$E$35 -> 0.15 | F47: =IF(C47>G47,G47,IF(C47<H47,H47,C47)) -> 0.68981756 | G47: =D47+E47 -> 0.8 | H47: =D47-E47 -> 0.5 | I47: =(G47-D47) -> 0.15 | J47: =($D$30-$E$30)/I47 -> -1.3332667 | K47: =(H47-D47) -> -0.15 | L47: =($C$32-$D$32)/K47 -> 1.3333333 | M47: =IF(F47>=D47,$M$34,0) -> Valutazione soddisfacente | N47: =IF(F47>=D47,-(F47-G47)*J47,0) -> -0.14690258 | O47: =IF(F47<D47,$O$34,0) -> 0 | P47: =IF(F47<D47,((F47-H47)*L47)+$C$32,0) -> 0
B48: PIOBESI TORINESE | C48: 0.82659018 | D48: 0.65 | E48: =$E$35 -> 0.15 | F48: =IF(C48>G48,G48,IF(C48<H48,H48,C48)) -> 0.8 | G48: =D48+E48 -> 0.8 | H48: =D48-E48 -> 0.5 | I48: =(G48-D48) -> 0.15 | J48: =($D$30-$E$30)/I48 -> -1.3332667 | K48: =(H48-D48) -> -0.15 | L48: =($C$32-$D$32)/K48 -> 1.3333333 | M48: =IF(F48>=D48,$M$34,0) -> Valutazione soddisfacente | N48: =IF(F48>=D48,-(F48-G48)*J48,0) -> 0 | O48: =IF(F48<D48,$O$34,0) -> 0 | P48: =IF(F48<D48,((F48-H48)*L48)+$C$32,0) -> 0
... B54: VIRLE PIEMONTE | C54: 0.70709736 | D54: 0.65 | E54: =$E$35 -> 0.15 | F54: =IF(C54>G54,G54,IF(C54<H54,H54,C54)) -> 0.70709736 | G54: =D54+E54 -> 0.8 | H54: =D54-E54 -> 0.5 | I54: =(G54-D54) -> 0.15 | J54: =($D$30-$E$30)/I54 -> -1.3332667 | K54: =(H54-D54) -> -0.15 | L54: =($C$32-$D$32)/K54 -> 1.3333333 | M54: =IF(F54>=D54,$M$34,0) -> Valutazione soddisfacente | N54: =IF(F54>=D54,-(F54-G54)*J54,0) -> -0.12386399 | O54: =IF(F54<D54,$O$34,0) -> 0 | P54: =IF(F54<D54,((F54-H54)*L54)+$C$32,0) -> 0
B56: Efficacia delle attività di preparazione per il riutilizzo e il riciclo
B57: Y2a | D57: Valutazione soddisfacente
D58: -0.14999 | E58: 0
C59: Valutazione non soddisfacente
C60: -0.3 | D60: -0.15
C62: Efficacia AVVicRD sc differenziata avviata a recupero | D62: % Obiettivi | E62: Differenziale | F62: Efficacia AVVicRD sc differenziata avviata a recupero | G62: Massimo | H62: Minimo | M62: Valutazione soddisfacente | O62: Valutazione non soddisfacente
D63: 1 | E63: 0.15 | H63: 0.85
B64: BEINASCO | C64: ='Efficacia R1'!$G$58 -> 0.96743519 | D64: =$D$63 -> 1 | E64: =$E$63 -> 0.15 | F64: =C64 -> 0.96743519 | G64: =D64 -> 1 | H64: =$H$63-$E$63 -> 0.7 | I64: =IF(F64>=$H$63,D64-F64,0) -> 0.032564811 | K64: =IF(F64<$H$63,$H$63-F64,0) -> 0 | M64: =IF(F64>=$H$63,$M$62,0) -> Valutazione soddisfacente | N64: =IF(F64>=$H$63,$E$58-I64,0) -> -0.032564811 | O64: =IF(F64<$H$63,$O$62,0) -> 0 | P64: =IF(F64<$H$63,$D$60-K64,0) -> 0
B65: BRUINO | C65: ='Efficacia R1'!$G$58 -> 0.96743519 | D65: =$D$63 -> 1 | E65: =$E$63 -> 0.15 | F65: =C65 -> 0.96743519 | G65: =D65 -> 1 | H65: =$H$63-$E$63 -> 0.7 | I65: =IF(F65>=$H$63,D65-F65,0) -> 0.032564811 | K65: =IF(F65<$H$63,$H$63-F65,0) -> 0 | M65: =IF(F65>=$H$63,$M$62,0) -> Valutazione soddisfacente | N65: =IF(F65>=$H$63,$E$58-I65,0) -> -0.032564811 | O65: =IF(F65<$H$63,$O$62,0) -> 0 | P65: =IF(F65<$H$63,$D$60-K65,0) -> 0
B66: CANDIOLO | C66: ='Efficacia R1'!$G$58 -> 0.96743519 | D66: =$D$63 -> 1 | E66: =$E$63 -> 0.15 | F66: =C66 -> 0.96743519 | G66: =D66 -> 1 | H66: =$H$63-$E$63 -> 0.7 | I66: =IF(F66>=$H$63,D66-F66,0) -> 0.032564811 | K66: =IF(F66<$H$63,$H$63-F66,0) -> 0 | M66: =IF(F66>=$H$63,$M$62,0) -> Valutazione soddisfacente | N66: =IF(F66>=$H$63,$E$58-I66,0) -> -0.032564811 | O66: =IF(F66<$H$63,$O$62,0) -> 0 | P66: =IF(F66<$H$63,$D$60-K66,0) -> 0
B67: CARIGNANO | C67: ='Efficacia R1'!$G$58 -> 0.96743519 | D67: =$D$63 -> 1 | E67: =$E$63 -> 0.15 | F67: =C67 -> 0.96743519 | G67: =D67 -> 1 | H67: =$H$63-$E$63 -> 0.7 | I67: =IF(F67>=$H$63,D67-F67,0) -> 0.032564811 | K67: =IF(F67<$H$63,$H$63-F67,0) -> 0 | M67: =IF(F67>=$H$63,$M$62,0) -> Valutazione soddisfacente | N67: =IF(F67>=$H$63,$E$58-I67,0) -> -0.032564811 | O67: =IF(F67<$H$63,$O$62,0) -> 0 | P67: =IF(F67<$H$63,$D$60-K67,0) -> 0
B68: CASTAGNOLE PIEMONTE | C68: ='Efficacia R1'!$G$58 -> 0.96743519 | D68: =$D$63 -> 1 | E68: =$E$63 -> 0.15 | F68: =C68 -> 0.96743519 | G68: =D68 -> 1 | H68: =$H$63-$E$63 -> 0.7 | I68: =IF(F68>=$H$63,D68-F68,0) -> 0.032564811 | K68: =IF(F68<$H$63,$H$63-F68,0) -> 0 | M68: =IF(F68>=$H$63,$M$62,0) -> Valutazione soddisfacente | N68: =IF(F68>=$H$63,$E$58-I68,0) -> -0.032564811 | O68: =IF(F68<$H$63,$O$62,0) -> 0 | P68: =IF(F68<$H$63,$D$60-K68,0) -> 0
B69: LA LOGGIA | C69: ='Efficacia R1'!$G$58 -> 0.96743519 | D69: =$D$63 -> 1 | E69: =$E$63 -> 0.15 | F69: =C69 -> 0.96743519 | G69: =D69 -> 1 | H69: =$H$63-$E$63 -> 0.7 | I69: =IF(F69>=$H$63,D69-F69,0) -> 0.032564811 | K69: =IF(F69<$H$63,$H$63-F69,0) -> 0 | M69: =IF(F69>=$H$63,$M$62,0) -> Valutazione soddisfacente | N69: =IF(F69>=$H$63,$E$58-I69,0) -> -0.032564811 | O69: =IF(F69<$H$63,$O$62,0) -> 0 | P69: =IF(F69<$H$63,$D$60-K69,0) -> 0
B70: LOMBRIASCO | C70: ='Efficacia R1'!$G$58 -> 0.96743519 | D70: =$D$63 -> 1 | E70: =$E$63 -> 0.15 | F70: =C70 -> 0.96743519 | G70: =D70 -> 1 | H70: =$H$63-$E$63 -> 0.7 | I70: =IF(F70>=$H$63,D70-F70,0) -> 0.032564811 | K70: =IF(F70<$H$63,$H$63-F70,0) -> 0 | M70: =IF(F70>=$H$63,$M$62,0) -> Valutazione soddisfacente | N70: =IF(F70>=$H$63,$E$58-I70,0) -> -0.032564811 | O70: =IF(F70<$H$63,$O$62,0) -> 0 | P70: =IF(F70<$H$63,$D$60-K70,0) -> 0
B71: MONCALIERI | C71: ='Efficacia R1'!$G$58 -> 0.96743519 | D71: =$D$63 -> 1 | E71: =$E$63 -> 0.15 | F71: =C71 -> 0.96743519 | G71: =D71 -> 1 | H71: =$H$63-$E$63 -> 0.7 | I71: =IF(F71>=$H$63,D71-F71,0) -> 0.032564811 | K71: =IF(F71<$H$63,$H$63-F71,0) -> 0 | M71: =IF(F71>=$H$63,$M$62,0) -> Valutazione soddisfacente | N71: =IF(F71>=$H$63,$E$58-I71,0) -> -0.032564811 | O71: =IF(F71<$H$63,$O$62,0) -> 0 | P71: =IF(F71<$H$63,$D$60-K71,0) -> 0
B72: NICHELINO | C72: ='Efficacia R1'!$G$58 -> 0.96743519 | D72: =$D$63 -> 1 | E72: =$E$63 -> 0.15 | F72: =C72 -> 0.96743519 | G72: =D72 -> 1 | H72: =$H$63-$E$63 -> 0.7 | I72: =IF(F72>=$H$63,D72-F72,0) -> 0.032564811 | K72: =IF(F72<$H$63,$H$63-F72,0) -> 0 | M72: =IF(F72>=$H$63,$M$62,0) -> Valutazione soddisfacente | N72: =IF(F72>=$H$63,$E$58-I72,0) -> -0.032564811 | O72: =IF(F72<$H$63,$O$62,0) -> 0 | P72: =IF(F72<$H$63,$D$60-K72,0) -> 0
B73: ORBASSANO | C73: ='Efficacia R1'!$G$58 -> 0.96743519 | D73: =$D$63 -> 1 | E73: =$E$63 -> 0.15 | F73: =C73 -> 0.96743519 | G73: =D73 -> 1 | H73: =$H$63-$E$63 -> 0.7 | I73: =IF(F73>=$H$63,D73-F73,0) -> 0.032564811 | K73: =IF(F73<$H$63,$H$63-F73,0) -> 0 | M73: =IF(F73>=$H$63,$M$62,0) -> Valutazione soddisfacente | N73: =IF(F73>=$H$63,$E$58-I73,0) -> -0.032564811 | O73: =IF(F73<$H$63,$O$62,0) -> 0 | P73: =IF(F73<$H$63,$D$60-K73,0) -> 0
B74: OSASIO | C74: ='Efficacia R1'!$G$58 -> 0.96743519 | D74: =$D$63 -> 1 | E74: =$E$63 -> 0.15 | F74: =C74 -> 0.96743519 | G74: =D74 -> 1 | H74: =$H$63-$E$63 -> 0.7 | I74: =IF(F74>=$H$63,D74-F74,0) -> 0.032564811 | K74: =IF(F74<$H$63,$H$63-F74,0) -> 0 | M74: =IF(F74>=$H$63,$M$62,0) -> Valutazione soddisfacente | N74: =IF(F74>=$H$63,$E$58-I74,0) -> -0.032564811 | O74: =IF(F74<$H$63,$O$62,0) -> 0 | P74: =IF(F74<$H$63,$D$60-K74,0) -> 0
B75: PANCALIERI | C75: ='Efficacia R1'!$G$58 -> 0.96743519 | D75: =$D$63 -> 1 | E75: =$E$63 -> 0.15 | F75: =C75 -> 0.96743519 | G75: =D75 -> 1 | H75: =$H$63-$E$63 -> 0.7 | I75: =IF(F75>=$H$63,D75-F75,0) -> 0.032564811 | K75: =IF(F75<$H$63,$H$63-F75,0) -> 0 | M75: =IF(F75>=$H$63,$M$62,0) -> Valutazione soddisfacente | N75: =IF(F75>=$H$63,$E$58-I75,0) -> -0.032564811 | O75: =IF(F75<$H$63,$O$62,0) -> 0 | P75: =IF(F75<$H$63,$D$60-K75,0) -> 0
...

Sheet Sharing ba
J2: Delibera 397 art 3.4
J7: MEDIA
J8: =(0.4-0.2)/2+0.2 -> 0.3 | K8: =(0.55-0.4)/2+0.4 -> 0.475
J9: =(0.7-0.55)/2+0.55 -> 0.625 | K9: =(0.9-0.7)/2+0.7 -> 0.8 | M9: scelta Covar valore più basso perché valorizza di più i comuni
W13: ok
C14: Rispetto obiettivi di raccolta differenziata raggiunti differenziata avviata a recupero | D14: Efficacia delle attività di preparazione per il riutilizzo e il riciclo | E14: Y1a | G14: Y2a | I14: sharing ba
C15: Y1a | D15: Y2a | E15: -0.2 | F15: 0 | G15: -0.15 | H15: 0
E16: -0.4 | F16: -0.2 | G16: -0.3 | H16: -0.15 | I16: 0.2 | K16: 0.4 | M16: 0.55 | O16: 0.9
B17: BEINASCO | C17: ='Y1a - Y2a'!N36+'Y1a - Y2a'!P36 -> -0.21897593 | D17: ='Y1a - Y2a'!N64+'Y1a - Y2a'!P64 -> -0.032564811 | I17: =IF(D17<=$H$15,IF(D17>$G$15,1,0)) -> 1 | J17: =IF(C17<=$F$15,IF(C17>$E$15,1,0)) -> 0 | K17: =IF(D17<=$H$15,IF(D17>$G$15,1,0)) -> 1 | L17: =IF(C17<=$F$16,IF(C17>$E$16,1,0)) -> 1 | M17: =IF(D17<=$H$16,IF(D17>$G$16,1,0)) -> FALSE | N17: =IF(C17<=$F$15,IF(C17>=$E$15,1,0)) -> 0 | O17: =IF(D17<=$H$16,IF(D17>$G$16,1,0)) -> FALSE | P17: =IF(C17<=$F$16,IF(C17>=$E$16,1,0)) -> 1 | Q17: =IF(I17+J17=2,$I$16,0) -> 0 | R17: =IF(K17+L17=2,$K$16,0) -> 0.4 | S17: =IF(M17+N17=2,$M$16,0) -> 0 | T17: =IF(O17+P17=2,$O$16,0) -> 0 | U17: =SUM(Q17:T17) -> 0.4
B18: BRUINO | C18: ='Y1a - Y2a'!N37+'Y1a - Y2a'!P37 -> -0.001169103 | D18: ='Y1a - Y2a'!N65+'Y1a - Y2a'!P65 -> -0.032564811 | I18: =IF(D18<=$H$15,IF(D18>$G$15,1,0)) -> 1 | J18: =IF(C18<=$F$15,IF(C18>$E$15,1,0)) -> 1 | K18: =IF(D18<=$H$15,IF(D18>$G$15,1,0)) -> 1 | L18: =IF(C18<=$F$16,IF(C18>$E$16,1,0)) -> FALSE | M18: =IF(D18<=$H$16,IF(D18>$G$16,1,0)) -> FALSE | N18: =IF(C18<=$F$15,IF(C18>=$E$15,1,0)) -> 1 | O18: =IF(D18<=$H$16,IF(D18>$G$16,1,0)) -> FALSE | P18: =IF(C18<=$F$16,IF(C18>=$E$16,1,0)) -> FALSE | Q18: =IF(I18+J18=2,$I$16,0) -> 0.2 | R18: =IF(K18+L18=2,$K$16,0) -> 0 | S18: =IF(M18+N18=2,$M$16,0) -> 0 | T18: =IF(O18+P18=2,$O$16,0) -> 0 | U18: =SUM(Q18:T18) -> 0.2
B19: CANDIOLO | C19: ='Y1a - Y2a'!N38+'Y1a - Y2a'!P38 -> -0.029929537 | D19: ='Y1a - Y2a'!N66+'Y1a - Y2a'!P66 -> -0.032564811 | I19: =IF(D19<=$H$15,IF(D19>$G$15,1,0)) -> 1 | J19: =IF(C19<=$F$15,IF(C19>$E$15,1,0)) -> 1 | K19: =IF(D19<=$H$15,IF(D19>$G$15,1,0)) -> 1 | L19: =IF(C19<=$F$16,IF(C19>$E$16,1,0)) -> FALSE | M19: =IF(D19<=$H$16,IF(D19>$G$16,1,0)) -> FALSE | N19: =IF(C19<=$F$15,IF(C19>=$E$15,1,0)) -> 1 | O19: =IF(D19<=$H$16,IF(D19>$G$16,1,0)) -> FALSE | P19: =IF(C19<=$F$16,IF(C19>=$E$16,1,0)) -> FALSE | Q19: =IF(I19+J19=2,$I$16,0) -> 0.2 | R19: =IF(K19+L19=2,$K$16,0) -> 0 | S19: =IF(M19+N19=2,$M$16,0) -> 0 | T19: =IF(O19+P19=2,$O$16,0) -> 0 | U19: =SUM(Q19:T19) -> 0.2
B20: CARIGNANO | C20: ='Y1a - Y2a'!N39+'Y1a - Y2a'!P39 -> -0.054090541 | D20: ='Y1a - Y2a'!N67+'Y1a - Y2a'!P67 -> -0.032564811 | I20: =IF(D20<=$H$15,IF(D20>$G$15,1,0)) -> 1 | J20: =IF(C20<=$F$15,IF(C20>$E$15,1,0)) -> 1 | K20: =IF(D20<=$H$15,IF(D20>$G$15,1,0)) -> 1 | L20: =IF(C20<=$F$16,IF(C20>$E$16,1,0)) -> FALSE | M20: =IF(D20<=$H$16,IF(D20>$G$16,1,0)) -> FALSE | N20: =IF(C20<=$F$15,IF(C20>=$E$15,1,0)) -> 1 | O20: =IF(D20<=$H$16,IF(D20>$G$16,1,0)) -> FALSE | P20: =IF(C20<=$F$16,IF(C20>=$E$16,1,0)) -> FALSE | Q20: =IF(I20+J20=2,$I$16,0) -> 0.2 | R20: =IF(K20+L20=2,$K$16,0) -> 0 | S20: =IF(M20+N20=2,$M$16,0) -> 0 | T20: =IF(O20+P20=2,$O$16,0) -> 0 | U20: =SUM(Q20:T20) -> 0.2
B21: CASTAGNOLE PIEMONTE | C21: ='Y1a - Y2a'!N40+'Y1a - Y2a'!P40 -> -0.090011571 | D21: ='Y1a - Y2a'!N68+'Y1a - Y2a'!P68 -> -0.032564811 | I21: =IF(D21<=$H$15,IF(D21>$G$15,1,0)) -> 1 | J21: =IF(C21<=$F$15,IF(C21>$E$15,1,0)) -> 1 | K21: =IF(D21<=$H$15,IF(D21>$G$15,1,0)) -> 1 | L21: =IF(C21<=$F$16,IF(C21>$E$16,1,0)) -> FALSE | M21: =IF(D21<=$H$16,IF(D21>$G$16,1,0)) -> FALSE | N21: =IF(C21<=$F$15,IF(C21>=$E$15,1,0)) -> 1 | O21: =IF(D21<=$H$16,IF(D21>$G$16,1,0)) -> FALSE | P21: =IF(C21<=$F$16,IF(C21>=$E$16,1,0)) -> FALSE | Q21: =IF(I21+J21=2,$I$16,0) -> 0.2 | R21: =IF(K21+L21=2,$K$16,0) -> 0 | S21: =IF(M21+N21=2,$M$16,0) -> 0 | T21: =IF(O21+P21=2,$O$16,0) -> 0 | U21: =SUM(Q21:T21) -> 0.2
B22: LA LOGGIA | C22: ='Y1a - Y2a'!N41+'Y1a - Y2a'!P41 -> -0.11896161 | D22: ='Y1a - Y2a'!N69+'Y1a - Y2a'!P69 -> -0.032564811 | I22: =IF(D22<=$H$15,IF(D22>$G$15,1,0)) -> 1 | J22: =IF(C22<=$F$15,IF(C22>$E$15,1,0)) -> 1 | K22: =IF(D22<=$H$15,IF(D22>$G$15,1,0)) -> 1 | L22: =IF(C22<=$F$16,IF(C22>$E$16,1,0)) -> FALSE | M22: =IF(D22<=$H$16,IF(D22>$G$16,1,0)) -> FALSE | N22: =IF(C22<=$F$15,IF(C22>=$E$15,1,0)) -> 1 | O22: =IF(D22<=$H$16,IF(D22>$G$16,1,0)) -> FALSE | P22: =IF(C22<=$F$16,IF(C22>=$E$16,1,0)) -> FALSE | Q22: =IF(I22+J22=2,$I$16,0) -> 0.2 | R22: =IF(K22+L22=2,$K$16,0) -> 0 | S22: =IF(M22+N22=2,$M$16,0) -> 0 | T22: =IF(O22+P22=2,$O$16,0) -> 0 | U22: =SUM(Q22:T22) -> 0.2
B23: LOMBRIASCO | C23: ='Y1a - Y2a'!N42+'Y1a - Y2a'!P42 -> -0.12512826 | D23: ='Y1a - Y2a'!N70+'Y1a - Y2a'!P70 -> -0.032564811 | I23: =IF(D23<=$H$15,IF(D23>$G$15,1,0)) -> 1 | J23: =IF(C23<=$F$15,IF(C23>$E$15,1,0)) -> 1 | K23: =IF(D23<=$H$15,IF(D23>$G$15,1,0)) -> 1 | L23: =IF(C23<=$F$16,IF(C23>$E$16,1,0)) -> FALSE | M23: =IF(D23<=$H$16,IF(D23>$G$16,1,0)) -> FALSE | N23: =IF(C23<=$F$15,IF(C23>=$E$15,1,0)) -> 1 | O23: =IF(D23<=$H$16,IF(D23>$G$16,1,0)) -> FALSE | P23: =IF(C23<=$F$16,IF(C23>=$E$16,1,0)) -> FALSE | Q23: =IF(I23+J23=2,$I$16,0) -> 0.2 | R23: =IF(K23+L23=2,$K$16,0) -> 0 | S23: =IF(M23+N23=2,$M$16,0) -> 0 | T23: =IF(O23+P23=2,$O$16,0) -> 0 | U23: =SUM(Q23:T23) -> 0.2
B24: MONCALIERI | C24: ='Y1a - Y2a'!N43+'Y1a - Y2a'!P43 -> -0.18880752 | D24: ='Y1a - Y2a'!N71+'Y1a - Y2a'!P71 -> -0.032564811 | I24: =IF(D24<=$H$15,IF(D24>$G$15,1,0)) -> 1 | J24: =IF(C24<=$F$15,IF(C24>$E$15,1,0)) -> 1 | K24: =IF(D24<=$H$15,IF(D24>$G$15,1,0)) -> 1 | L24: =IF(C24<=$F$16,IF(C24>$E$16,1,0)) -> FALSE | M24: =IF(D24<=$H$16,IF(D24>$G$16,1,0)) -> FALSE | N24: =IF(C24<=$F$15,IF(C24>=$E$15,1,0)) -> 1 | O24: =IF(D24<=$H$16,IF(D24>$G$16,1,0)) -> FALSE | P24: =IF(C24<=$F$16,IF(C24>=$E$16,1,0)) -> FALSE | Q24: =IF(I24+J24=2,$I$16,0) -> 0.2 | R24: =IF(K24+L24=2,$K$16,0) -> 0 | S24: =IF(M24+N24=2,$M$16,0) -> 0 | T24: =IF(O24+P24=2,$O$16,0) -> 0 | U24: =SUM(Q24:T24) -> 0.2
B25: NICHELINO | C25: ='Y1a - Y2a'!N44+'Y1a - Y2a'!P44 -> -0.25865383 | D25: ='Y1a - Y2a'!N72+'Y1a - Y2a'!P72 -> -0.032564811 | I25: =IF(D25<=$H$15,IF(D25>$G$15,1,0)) -> 1 | J25: =IF(C25<=$F$15,IF(C25>$E$15,1,0)) -> 0 | K25: =IF(D25<=$H$15,IF(D25>$G$15,1,0)) -> 1 | L25: =IF(C25<=$F$16,IF(C25>$E$16,1,0)) -> 1 | M25: =IF(D25<=$H$16,IF(D25>$G$16,1,0)) -> FALSE | N25: =IF(C25<=$F$15,IF(C25>=$E$15,1,0)) -> 0 | O25: =IF(D25<=$H$16,IF(D25>$G$16,1,0)) -> FALSE | P25: =IF(C25<=$F$16,IF(C25>=$E$16,1,0)) -> 1 | Q25: =IF(I25+J25=2,$I$16,0) -> 0 | R25: =IF(K25+L25=2,$K$16,0) -> 0.4 | S25: =IF(M25+N25=2,$M$16,0) -> 0 | T25: =IF(O25+P25=2,$O$16,0) -> 0 | U25: =SUM(Q25:T25) -> 0.4
B26: ORBASSANO | C26: ='Y1a - Y2a'!N45+'Y1a - Y2a'!P45 -> -0.2087503 | D26: ='Y1a - Y2a'!N73+'Y1a - Y2a'!P73 -> -0.032564811 | I26: =IF(D26<=$H$15,IF(D26>$G$15,1,0)) -> 1 | J26: =IF(C26<=$F$15,IF(C26>$E$15,1,0)) -> 0 | K26: =IF(D26<=$H$15,IF(D26>$G$15,1,0)) -> 1 | L26: =IF(C26<=$F$16,IF(C26>$E$16,1,0)) -> 1 | M26: =IF(D26<=$H$16,IF(D26>$G$16,1,0)) -> FALSE | N26: =IF(C26<=$F$15,IF(C26>=$E$15,1,0)) -> 0 | O26: =IF(D26<=$H$16,IF(D26>$G$16,1,0)) -> FALSE | P26: =IF(C26<=$F$16,IF(C26>=$E$16,1,0)) -> 1 | Q26: =IF(I26+J26=2,$I$16,0) -> 0 | R26: =IF(K26+L26=2,$K$16,0) -> 0.4 | S26: =IF(M26+N26=2,$M$16,0) -> 0 | T26: =IF(O26+P26=2,$O$16,0) -> 0 | U26: =SUM(Q26:T26) -> 0.4
B27: OSASIO | C27: ='Y1a - Y2a'!N46+'Y1a - Y2a'!P46 -> -0.099323182 | D27: ='Y1a - Y2a'!N74+'Y1a - Y2a'!P74 -> -0.032564811 | I27: =IF(D27<=$H$15,IF(D27>$G$15,1,0)) -> 1 | J27: =IF(C27<=$F$15,IF(C27>$E$15,1,0)) -> 1 | K27: =IF(D27<=$H$15,IF(D27>$G$15,1,0)) -> 1 | L27: =IF(C27<=$F$16,IF(C27>$E$16,1,0)) -> FALSE | M27: =IF(D27<=$H$16,IF(D27>$G$16,1,0)) -> FALSE | N27: =IF(C27<=$F$15,IF(C27>=$E$15,1,0)) -> 1 | O27: =IF(D27<=$H$16,IF(D27>$G$16,1,0)) -> FALSE | P27: =IF(C27<=$F$16,IF(C27>=$E$16,1,0)) -> FALSE | Q27: =IF(I27+J27=2,$I$16,0) -> 0.2 | R27: =IF(K27+L27=2,$K$16,0) -> 0 | S27: =IF(M27+N27=2,$M$16,0) -> 0 | T27: =IF(O27+P27=2,$O$16,0) -> 0 | U27: =SUM(Q27:T27) -> 0.2
B28: PANCALIERI | C28: ='Y1a - Y2a'!N47+'Y1a - Y2a'!P47 -> -0.14690258 | D28: ='Y1a - Y2a'!N75+'Y1a - Y2a'!P75 -> -0.032564811 | I28: =IF(D28<=$H$15,IF(D28>$G$15,1,0)) -> 1 | J28: =IF(C28<=$F$15,IF(C28>$E$15,1,0)) -> 1 | K28: =IF(D28<=$H$15,IF(D28>$G$15,1,0)) -> 1 | L28: =IF(C28<=$F$16,IF(C28>$E$16,1,0)) -> FALSE | M28: =IF(D28<=$H$16,IF(D28>$G$16,1,0)) -> FALSE | N28: =IF(C28<=$F$15,IF(C28>=$E$15,1,0)) -> 1 | O28: =IF(D28<=$H$16,IF(D28>$G$16,1,0)) -> FALSE | P28: =IF(C28<=$F$16,IF(C28>=$E$16,1,0)) -> FALSE | Q28: =IF(I28+J28=2,$I$16,0) -> 0.2 | R28: =IF(K28+L28=2,$K$16,0) -> 0 | S28: =IF(M28+N28=2,$M$16,0) -> 0 | T28: =IF(O28+P28=2,$O$16,0) -> 0 | U28: =SUM(Q28:T28) -> 0.2
... B35: VIRLE PIEMONTE | C35: ='Y1a - Y2a'!N54+'Y1a - Y2a'!P54 -> -0.12386399 | D35: ='Y1a - Y2a'!N82+'Y1a - Y2a'!P82 -> -0.032564811 | I35: =IF(D35<=$H$15,IF(D35>$G$15,1,0)) -> 1 | J35: =IF(C35<=$F$15,IF(C35>$E$15,1,0)) -> 1 | K35: =IF(D35<=$H$15,IF(D35>$G$15,1,0)) -> 1 | L35: =IF(C35<=$F$16,IF(C35>$E$16,1,0)) -> FALSE | M35: =IF(D35<=$H$16,IF(D35>$G$16,1,0)) -> FALSE | N35: =IF(C35<=$F$15,IF(C35>=$E$15,1,0)) -> 1 | O35: =IF(D35<=$H$16,IF(D35>$G$16,1,0)) -> FALSE | P35: =IF(C35<=$F$16,IF(C35>=$E$16,1,0)) -> FALSE | Q35: =IF(I35+J35=2,$I$16,0) -> 0.2 | R35: =IF(K35+L35=2,$K$16,0) -> 0 | S35: =IF(M35+N35=2,$M$16,0) -> 0 | T35: =IF(O35+P35=2,$O$16,0) -> 0 | U35: =SUM(Q35:T35) -> 0.2

Sheet Ka
C2: ART 5
C3: COEFFICIENTE DI POTENZIAMENTO DEL SERVIZIO
C18: Cueff a-2 | G18: Benchmark | H18: Cueff a-2/Benchmark | I18: Rispetto obiettivi di raccolta differenziata raggiunti differenziata avviata a recupero | J18: Efficacia delle attività di preparazione per il riutilizzo e il riciclo | K18: Livello di qualità ambientale delle prestazioni | M18: miglioramento III quadro TQRF (1 + Ya) | N18: Ka | Y18: =Y19 -> -0.98 | AA18: =AA19 -> 0.98 | AB18: scelta nel range di scelta covar -0,3 e 0,101 più vai verso lo 0.1 e più è avanzato, occorrerebbe essere più vicini allo 0,3
C19: TV 2024 | D19: TF | E19: q (t/anno) | F19: Cueff a-2 | I19: Y1a | J19: Y2a | K19: Ya =Y1a+Y2a | L19: (1 + Ya) | M19: 0.5 | U19: diff benchmarking | V19: diff qualitativo | W19: dii tra i 2 preced | X19: % diff preced | Y19: -0.98 | Z19: 0 | AA19: 0.98
N20: Ka <= 3 % | O20: Ka <= 5 % | P20: Ka <= 5 % | Q20: Ka <= 7 % | R20: Ka | S20: Valore prescelto | Y20: 5 | Z20: 4 | AA20: 3
B21: BEINASCO | C21: 1771014.3 | D21: 1716133.1 | E21: 7882.093 | F21: =(C21+D21)/E21 -> 442.41389 | G21: 351.23 | H21: =(F21)/G21 -> 1.259613 | I21: ='Y1a - Y2a'!N36+'Y1a - Y2a'!P36 -> -0.21897593 | J21: ='Y1a - Y2a'!N64+'Y1a - Y2a'!P64 -> -0.032564811 | K21: =I21+J21 -> -0.25154074 | L21: =1+K21 -> 0.74845926 | M21: >0,5 | N21: =IF(L21=$M$19,IF(H21>1.05,1,0)) -> FALSE | O21: =IF(L21=$M$19,IF(H21>1.05,1,0)) -> FALSE | P21: =IF(L21>$M$19,IF(H21>1.05,1,0)) -> 1 | Q21: =IF(L21>=$M$19,IF(H21<=1.05,1,0)) -> 0 | R21: =IF(N21=1,$N$20,IF(O21=1,$O$20,IF(P21=1,$P$20,IF(Q21=1,$Q$20)))) -> Ka <= 5 % | S21: =AD21/10000 -> 0.0307 | U21: =(F21-G21)/G21 -> 0.25961305 | V21: =(L21-$M$19)/$M$19 -> 0.49691852 | W21: =V21-U21 -> 0.23730547 | X21: =W21 -> 0.23730547 | Y21: =IF(X21<0,($Y$18-X21)*10%+$Y$20,0) -> 0 | Z21: =IF(X21=0,$Z$20,0) -> 0 | AA21: =IF(X21>0,($AA$18-X21)*10%+$AA$20,0) -> 3.0742695 | AB21: =Y21+Z21+AA21 -> 3.0742695 | AC21: =AB21*100 -> 307.42695 | AD21: =ROUND(AC21,0.0001) -> 307
B22: BRUINO | C22: 902583.28 | D22: 619458.59 | E22: 3982.922 | F22: =(C22+D22)/E22 -> 382.14202 | G22: 295.1 | H22: =(F22)/G22 -> 1.2949577 | I22: ='Y1a - Y2a'!N37+'Y1a - Y2a'!P37 -> -0.001169103 | J22: ='Y1a - Y2a'!N65+'Y1a - Y2a'!P65 -> -0.032564811 | K22: =I22+J22 -> -0.033733914 | L22: =1+K22 -> 0.96626609 | M22: >0,5 | N22: =IF(L22=$M$19,IF(H22>1.05,1,0)) -> FALSE | O22: =IF(L22=$M$19,IF(H22>1.05,1,0)) -> FALSE | P22: =IF(L22>$M$19,IF(H22>1.05,1,0)) -> 1 | Q22: =IF(L22>=$M$19,IF(H22<=1.05,1,0)) -> 0 | R22: =IF(N22=1,$N$20,IF(O22=1,$O$20,IF(P22=1,$P$20,IF(Q22=1,$Q$20)))) -> Ka <= 5 % | S22: =AD22/10000 -> 0.0303 | U22: =(F22-G22)/G22 -> 0.29495772 | V22: =(L22-$M$19)/$M$19 -> 0.93253217 | W22: =V22-U22 -> 0.63757445 | X22: =W22 -> 0.63757445 | Y22: =IF(X22<0,($Y$18-X22)*10%+$Y$20,0) -> 0 | Z22: =IF(X22=0,$Z$20,0) -> 0 | AA22: =IF(X22>0,($AA$18-X22)*10%+$AA$20,0) -> 3.0342426 | AB22: =Y22+Z22+AA22 -> 3.0342426 | AC22: =AB22*100 -> 303.42426 | AD22: =ROUND(AC22,0.0001) -> 303
B23: CANDIOLO | C23: 709268.5 | D23: 329695.38 | E23: 2878.804 | F23: =(C23+D23)/E23 -> 360.90122 | G23: 273.05 | H23: =(F23)/G23 -> 1.3217404 | I23: ='Y1a - Y2a'!N38+'Y1a - Y2a'!P38 -> -0.029929537 | J23: ='Y1a - Y2a'!N66+'Y1a - Y2a'!P66 -> -0.032564811 | K23: =I23+J23 -> -0.062494348 | L23: =1+K23 -> 0.93750565 | M23: >0,5 | N23: =IF(L23=$M$19,IF(H23>1.05,1,0)) -> FALSE | O23: =IF(L23=$M$19,IF(H23>1.05,1,0)) -> FALSE | P23: =IF(L23>$M$19,IF(H23>1.05,1,0)) -> 1 | Q23: =IF(L23>=$M$19,IF(H23<=1.05,1,0)) -> 0 | R23: =IF(N23=1,$N$20,IF(O23=1,$O$20,IF(P23=1,$P$20,IF(Q23=1,$Q$20)))) -> Ka <= 5 % | S23: =AD23/10000 -> 0.0304 | U23: =(F23-G23)/G23 -> 0.32174042 | V23: =(L23-$M$19)/$M$19 -> 0.8750113 | W23: =V23-U23 -> 0.55327089 | X23: =W23 -> 0.55327089 | Y23: =IF(X23<0,($Y$18-X23)*10%+$Y$20,0) -> 0 | Z23: =IF(X23=0,$Z$20,0) -> 0 | AA23: =IF(X23>0,($AA$18-X23)*10%+$AA$20,0) -> 3.0426729 | AB23: =Y23+Z23+AA23 -> 3.0426729 | AC23: =AB23*100 -> 304.26729 | AD23: =ROUND(AC23,0.0001) -> 304
B24: CARIGNANO | C24: 743304.64 | D24: 685671.49 | E24: 4269.146 | F24: =(C24+D24)/E24 -> 334.72177 | G24: 292.54 | H24: =(F24)/G24 -> 1.1441915 | I24: ='Y1a - Y2a'!N39+'Y1a - Y2a'!P39 -> -0.054090541 | J24: ='Y1a - Y2a'!N67+'Y1a - Y2a'!P67 -> -0.032564811 | K24: =I24+J24 -> -0.086655352 | L24: =1+K24 -> 0.91334465 | M24: >0,5 | N24: =IF(L24=$M$19,IF(H24>1.05,1,0)) -> FALSE | O24: =IF(L24=$M$19,IF(H24>1.05,1,0)) -> FALSE | P24: =IF(L24>$M$19,IF(H24>1.05,1,0)) -> 1 | Q24: =IF(L24>=$M$19,IF(H24<=1.05,1,0)) -> 0 | R24: =IF(N24=1,$N$20,IF(O24=1,$O$20,IF(P24=1,$P$20,IF(Q24=1,$Q$20)))) -> Ka <= 5 % | S24: =AD24/10000 -> 0.0303 | U24: =(F24-G24)/G24 -> 0.14419148 | V24: =(L24-$M$19)/$M$19 -> 0.8266893 | W24: =V24-U24 -> 0.68249782 | X24: =W24 -> 0.68249782 | Y24: =IF(X24<0,($Y$18-X24)*10%+$Y$20,0) -> 0 | Z24: =IF(X24=0,$Z$20,0) -> 0 | AA24: =IF(X24>0,($AA$18-X24)*10%+$AA$20,0) -> 3.0297502 | AB24: =Y24+Z24+AA24 -> 3.0297502 | AC24: =AB24*100 -> 302.97502 | AD24: =ROUND(AC24,0.0001) -> 303
B25: CASTAGNOLE PIEMONTE | C25: 192166.13 | D25: 109866.11 | E25: 827.945 | F25: =(C25+D25)/E25 -> 364.79747 | G25: 266.42 | H25: =(F25)/G25 -> 1.3692571 | I25: ='Y1a - Y2a'!N40+'Y1a - Y2a'!P40 -> -0.090011571 | J25: ='Y1a - Y2a'!N68+'Y1a - Y2a'!P68 -> -0.032564811 | K25: =I25+J25 -> -0.12257638 | L25: =1+K25 -> 0.87742362 | M25: >0,5 | N25: =IF(L25=$M$19,IF(H25>1.05,1,0)) -> FALSE | O25: =IF(L25=$M$19,IF(H25>1.05,1,0)) -> FALSE | P25: =IF(L25>$M$19,IF(H25>1.05,1,0)) -> 1 | Q25: =IF(L25>=$M$19,IF(H25<=1.05,1,0)) -> 0 | R25: =IF(N25=1,$N$20,IF(O25=1,$O$20,IF(P25=1,$P$20,IF(Q25=1,$Q$20)))) -> Ka <= 5 % | S25: =AD25/10000 -> 0.0306 | U25: =(F25-G25)/G25 -> 0.36925707 | V25: =(L25-$M$19)/$M$19 -> 0.75484724 | W25: =V25-U25 -> 0.38559017 | X25: =W25 -> 0.38559017 | Y25: =IF(X25<0,($Y$18-X25)*10%+$Y$20,0) -> 0 | Z25: =IF(X25=0,$Z$20,0) -> 0 | AA25: =IF(X25>0,($AA$18-X25)*10%+$AA$20,0) -> 3.059441 | AB25: =Y25+Z25+AA25 -> 3.059441 | AC25: =AB25*100 -> 305.9441 | AD25: =ROUND(AC25,0.0001) -> 306
B26: LA LOGGIA | C26: 838933.17 | D26: 663023.23 | E26: 3827.596 | F26: =(C26+D26)/E26 -> 392.40202 | G26: 282.5 | H26: =(F26)/G26 -> 1.3890337 | I26: ='Y1a - Y2a'!N41+'Y1a - Y2a'!P41 -> -0.11896161 | J26: ='Y1a - Y2a'!N69+'Y1a - Y2a'!P69 -> -0.032564811 | K26: =I26+J26 -> -0.15152642 | L26: =1+K26 -> 0.84847358 | M26: >0,5 | N26: =IF(L26=$M$19,IF(H26>1.05,1,0)) -> FALSE | O26: =IF(L26=$M$19,IF(H26>1.05,1,0)) -> FALSE | P26: =IF(L26>$M$19,IF(H26>1.05,1,0)) -> 1 | Q26: =IF(L26>=$M$19,IF(H26<=1.05,1,0)) -> 0 | R26: =IF(N26=1,$N$20,IF(O26=1,$O$20,IF(P26=1,$P$20,IF(Q26=1,$Q$20)))) -> Ka <= 5 % | S26: =AD26/10000 -> 0.0307 | U26: =(F26-G26)/G26 -> 0.3890337 | V26: =(L26-$M$19)/$M$19 -> 0.69694716 | W26: =V26-U26 -> 0.30791346 | X26: =W26 -> 0.30791346 | Y26: =IF(X26<0,($Y$18-X26)*10%+$Y$20,0) -> 0 | Z26: =IF(X26=0,$Z$20,0) -> 0 | AA26: =IF(X26>0,($AA$18-X26)*10%+$AA$20,0) -> 3.0672087 | AB26: =Y26+Z26+AA26 -> 3.0672087 | AC26: =AB26*100 -> 306.72087 | AD26: =ROUND(AC26,0.0001) -> 307
B27: LOMBRIASCO | C27: 84922.19 | D27: 38849.816 | E27: 335.589 | F27: =(C27+D27)/E27 -> 368.82021 | G27: 333.97 | H27: =(F27)/G27 -> 1.1043513 | I27: ='Y1a - Y2a'!N42+'Y1a - Y2a'!P42 -> -0.12512826 | J27: ='Y1a - Y2a'!N70+'Y1a - Y2a'!P70 -> -0.032564811 | K27: =I27+J27 -> -0.15769307 | L27: =1+K27 -> 0.84230693 | M27: >0,5 | N27: =IF(L27=$M$19,IF(H27>1.05,1,0)) -> FALSE | O27: =IF(L27=$M$19,IF(H27>1.05,1,0)) -> FALSE | P27: =IF(L27>$M$19,IF(H27>1.05,1,0)) -> 1 | Q27: =IF(L27>=$M$19,IF(H27<=1.05,1,0)) -> 0 | R27: =IF(N27=1,$N$20,IF(O27=1,$O$20,IF(P27=1,$P$20,IF(Q27=1,$Q$20)))) -> Ka <= 5 % | S27: 0.04
B28: MONCALIERI | C28: 5827611.1 | D28: 4555065.2 | E28: 25716.872 | F28: =(C28+D28)/E28 -> 403.73014 | G28: 337.97 | H28: =(F28)/G28 -> 1.1945739 | I28: ='Y1a - Y2a'!N43+'Y1a - Y2a'!P43 -> -0.18880752 | J28: ='Y1a - Y2a'!N71+'Y1a - Y2a'!P71 -> -0.032564811 | K28: =I28+J28 -> -0.22137233 | L28: =1+K28 -> 0.77862767 | M28: >0,5 | N28: =IF(L28=$M$19,IF(H28>1.05,1,0)) -> FALSE | O28: =IF(L28=$M$19,IF(H28>1.05,1,0)) -> FALSE | P28: =IF(L28>$M$19,IF(H28>1.05,1,0)) -> 1 | Q28: =IF(L28>=$M$19,IF(H28<=1.05,1,0)) -> 0 | R28: =IF(N28=1,$N$20,IF(O28=1,$O$20,IF(P28=1,$P$20,IF(Q28=1,$Q$20)))) -> Ka <= 5 % | S28: =AD28/10000 -> 0.0306 | U28: =(F28-G28)/G28 -> 0.1945739 | V28: =(L28-$M$19)/$M$19 -> 0.55725533 | W28: =V28-U28 -> 0.36268143 | X28: =W28 -> 0.36268143 | Y28: =IF(X28<0,($Y$18-X28)*10%+$Y$20,0) -> 0 | Z28: =IF(X28=0,$Z$20,0) -> 0 | AA28: =IF(X28>0,($AA$18-X28)*10%+$AA$20,0) -> 3.0617319 | AB28: =Y28+Z28+AA28 -> 3.0617319 | AC28: =AB28*100 -> 306.17319 | AD28: =ROUND(AC28,0.0001) -> 306
B29: NICHELINO | C29: 4877228.3 | D29: 4526511.4 | E29: 22085.065 | F29: =(C29+D29)/E29 -> 425.79633 | G29: 352.71 | H29: =(F29)/G29 -> 1.2072137 | I29: ='Y1a - Y2a'!N44+'Y1a - Y2a'!P44 -> -0.25865383 | J29: ='Y1a - Y2a'!N72+'Y1a - Y2a'!P72 -> -0.032564811 | K29: =I29+J29 -> -0.29121864 | L29: =1+K29 -> 0.70878136 | M29: >0,5 | N29: =IF(L29=$M$19,IF(H29>1.05,1,0)) -> FALSE | O29: =IF(L29=$M$19,IF(H29>1.05,1,0)) -> FALSE | P29: =IF(L29>$M$19,IF(H29>1.05,1,0)) -> 1 | Q29: =IF(L29>=$M$19,IF(H29<=1.05,1,0)) -> 0 | R29: =IF(N29=1,$N$20,IF(O29=1,$O$20,IF(P29=1,$P$20,IF(Q29=1,$Q$20)))) -> Ka <= 5 % | S29: =AD29/10000 -> 0.0308 | U29: =(F29-G29)/G29 -> 0.20721367 | V29: =(L29-$M$19)/$M$19 -> 0.41756271 | W29: =V29-U29 -> 0.21034904 | X29: =W29 -> 0.21034904 | Y29: =IF(X29<0,($Y$18-X29)*10%+$Y$20,0) -> 0 | Z29: =IF(X29=0,$Z$20,0) -> 0 | AA29: =IF(X29>0,($AA$18-X29)*10%+$AA$20,0) -> 3.0769651 | AB29: =Y29+Z29+AA29 -> 3.0769651 | AC29: =AB29*100 -> 307.69651 | AD29: =ROUND(AC29,0.0001) -> 308
B30: ORBASSANO | C30: 2390962.8 | D30: 2193784.2 | E30: 11329.836 | F30: =(C30+D30)/E30 -> 404.66138 | G30: 307.18 | H30: =(F30)/G30 -> 1.3173429 | I30: ='Y1a - Y2a'!N45+'Y1a - Y2a'!P45 -> -0.2087503 | J30: ='Y1a - Y2a'!N73+'Y1a - Y2a'!P73 -> -0.032564811 | K30: =I30+J30 -> -0.24131511 | L30: =1+K30 -> 0.75868489 | M30: >0,5 | N30: =IF(L30=$M$19,IF(H30>1.05,1,0)) -> FALSE | O30: =IF(L30=$M$19,IF(H30>1.05,1,0)) -> FALSE | P30: =IF(L30>$M$19,IF(H30>1.05,1,0)) -> 1 | Q30: =IF(L30>=$M$19,IF(H30<=1.05,1,0)) -> 0 | R30: =IF(N30=1,$N$20,IF(O30=1,$O$20,IF(P30=1,$P$20,IF(Q30=1,$Q$20)))) -> Ka <= 5 % | S30: =AD30/10000 -> 0.0308 | U30: =(F30-G30)/G30 -> 0.31734286 | V30: =(L30-$M$19)/$M$19 -> 0.51736977 | W30: =V30-U30 -> 0.20002691 | X30: =W30 -> 0.20002691 | Y30: =IF(X30<0,($Y$18-X30)*10%+$Y$20,0) -> 0 | Z30: =IF(X30=0,$Z$20,0) -> 0 | AA30: =IF(X30>0,($AA$18-X30)*10%+$AA$20,0) -> 3.0779973 | AB30: =Y30+Z30+AA30 -> 3.0779973 | AC30: =AB30*100 -> 307.79973 | AD30: =ROUND(AC30,0.0001) -> 308
B31: OSASIO | C31: 72410.071 | D31: 33191.144 | E31: 304.053 | F31: =(C31+D31)/E31 -> 347.31187 | G31: 267.08 | H31: =(F31)/G31 -> 1.3004039 | I31: ='Y1a - Y2a'!N46+'Y1a - Y2a'!P46 -> -0.099323182 | J31: ='Y1a - Y2a'!N74+'Y1a - Y2a'!P74 -> -0.032564811 | K31: =I31+J31 -> -0.13188799 | L31: =1+K31 -> 0.86811201 | M31: >0,5 | N31: =IF(L31=$M$19,IF(H31>1.05,1,0)) -> FALSE | O31: =IF(L31=$M$19,IF(H31>1.05,1,0)) -> FALSE | P31: =IF(L31>$M$19,IF(H31>1.05,1,0)) -> 1 | Q31: =IF(L31>=$M$19,IF(H31<=1.05,1,0)) -> 0 | R31: =IF(N31=1,$N$20,IF(O31=1,$O$20,IF(P31=1,$P$20,IF(Q31=1,$Q$20)))) -> Ka <= 5 % | S31: =AD31/10000 -> 0.0305 | U31: =(F31-G31)/G31 -> 0.30040388 | V31: =(L31-$M$19)/$M$19 -> 0.73622402 | W31: =V31-U31 -> 0.43582013 | X31: =W31 -> 0.43582013 | Y31: =IF(X31<0,($Y$18-X31)*10%+$Y$20,0) -> 0 | Z31: =IF(X31=0,$Z$20,0) -> 0 | AA31: =IF(X31>0,($AA$18-X31)*10%+$AA$20,0) -> 3.054418 | AB31: =Y31+Z31+AA31 -> 3.054418 | AC31: =AB31*100 -> 305.4418 | AD31: =ROUND(AC31,0.0001) -> 305
B32: PANCALIERI | C32: 189732.57 | D32: 51926.635 | E32: 899.725 | F32: =(C32+D32)/E32 -> 268.5923 | G32: 299.02 | H32: =(F32)/G32 -> 0.89824192 | I32: ='Y1a - Y2a'!N47+'Y1a - Y2a'!P47 -> -0.14690258 | J32: ='Y1a - Y2a'!N75+'Y1a - Y2a'!P75 -> -0.032564811 | K32: =I32+J32 -> -0.17946739 | L32: =1+K32 -> 0.82053261 | M32: >0,5 | N32: =IF(L32=$M$19,IF(H32>1.05,1,0)) -> FALSE | O32: =IF(L32=$M$19,IF(H32>1.05,1,0)) -> FALSE | P32: =IF(L32>$M$19,IF(H32>1.05,1,0)) -> 0 | Q32: =IF(L32>=$M$19,IF(H32<=1.05,1,0)) -> 1 | R32: =IF(N32=1,$N$20,IF(O32=1,$O$20,IF(P32=1,$P$20,IF(Q32=1,$Q$20)))) -> Ka <= 7 % | S32: 0.04
B33: PIOBESI TORINESE | C33: 529682.74 | D33: 228187.1 | E33: 1609.225 | F33: =(C33+D33)/E33 -> 470.95331 | G33: 279.04 | H33: =(F33)/G33 -> 1.6877627 | I33: ='Y1a - Y2a'!N48+'Y1a - Y2a'!P48 -> 0 | J33: ='Y1a - Y2a'!N76+'Y1a - Y2a'!P76 -> -0.032564811 | K33: =I33+J33 -> -0.032564811 | L33: =1+K33 -> 0.96743519 | M33: >0,5 | N33: =IF(L33=$M$19,IF(H33>1.05,1,0)) -> FALSE | O33: =IF(L33=$M$19,IF(H33>1.05,1,0)) -> FALSE | P33: =IF(L33>$M$19,IF(H33>1.05,1,0)) -> 1 | Q33: =IF(L33>=$M$19,IF(H33<=1.05,1,0)) -> 0 | R33: =IF(N33=1,$N$20,IF(O33=1,$O$20,IF(P33=1,$P$20,IF(Q33=1,$Q$20)))) -> Ka <= 5 % | S33: =AD33/10000 -> 0.0307 | U33: =(F33-G33)/G33 -> 0.68776272 | V33: =(L33-$M$19)/$M$19 -> 0.93487038 | W33: =V33-U33 -> 0.24710766 | X33: =W33 -> 0.24710766 | Y33: =IF(X33<0,($Y$18-X33)*10%+$Y$20,0) -> 0 | Z33: =IF(X33=0,$Z$20,0) -> 0 | AA33: =IF(X33>0,($AA$18-X33)*10%+$AA$20,0) -> 3.0732892 | AB33: =Y33+Z33+AA33 -> 3.0732892 | AC33: =AB33*100 -> 307.32892 | AD33: =ROUND(AC33,0.0001) -> 307
B34: PIOSSASCO | C34: 1822576.6 | D34: 1111872 | E34: 7076.28 | F34: =(C34+D34)/E34 -> 414.68804 | G34: 292.05 | H34: =(F34)/G34 -> 1.4199214 | I34: ='Y1a - Y2a'!N49+'Y1a - Y2a'!P49 -> -0.11642517 | J34: ='Y1a - Y2a'!N77+'Y1a - Y2a'!P77 -> -0.032564811 | K34: =I34+J34 -> -0.14898998 | L34: =1+K34 -> 0.85101002 | M34: >0,5 | N34: =IF(L34=$M$19,IF(H34>1.05,1,0)) -> FALSE | O34: =IF(L34=$M$19,IF(H34>1.05,1,0)) -> FALSE | P34: =IF(L34>$M$19,IF(H34>1.05,1,0)) -> 1 | Q34: =IF(L34>=$M$19,IF(H34<=1.05,1,0)) -> 0 | R34: =IF(N34=1,$N$20,IF(O34=1,$O$20,IF(P34=1,$P$20,IF(Q34=1,$Q$20)))) -> Ka <= 5 % | S34: =AD34/10000 -> 0.0307 | U34: =(F34-G34)/G34 -> 0.41992137 | V34: =(L34-$M$19)/$M$19 -> 0.70202004 | W34: =V34-U34 -> 0.28209867 | X34: =W34 -> 0.28209867 | Y34: =IF(X34<0,($Y$18-X34)*10%+$Y$20,0) -> 0 | Z34: =IF(X34=0,$Z$20,0) -> 0 | AA34: =IF(X34>0,($AA$18-X34)*10%+$AA$20,0) -> 3.0697901 | AB34: =Y34+Z34+AA34 -> 3.0697901 | AC34: =AB34*100 -> 306.97901 | AD34: =ROUND(AC34,0.0001) -> 307
B35: RIVALTA DI TORINO | C35: 2152889.5 | D35: 1675233 | E35: 9478.649 | F35: =(C35+D35)/E35 -> 403.86795 | G35: 296.54 | H35: =(F35)/G35 -> 1.3619341 | I35: ='Y1a - Y2a'!N50+'Y1a - Y2a'!P50 -> -0.10959935 | J35: ='Y1a - Y2a'!N78+'Y1a - Y2a'!P78 -> -0.032564811 | K35: =I35+J35 -> -0.14216416 | L35: =1+K35 -> 0.85783584 | M35: >0,5 | N35: =IF(L35=$M$19,IF(H35>1.05,1,0)) -> FALSE | O35: =IF(L35=$M$19,IF(H35>1.05,1,0)) -> FALSE | P35: =IF(L35>$M$19,IF(H35>1.05,1,0)) -> 1 | Q35: =IF(L35>=$M$19,IF(H35<=1.05,1,0)) -> 0 | R35: =IF(N35=1,$N$20,IF(O35=1,$O$20,IF(P35=1,$P$20,IF(Q35=1,$Q$20)))) -> Ka <= 5 % | S35: =AD35/10000 -> 0.0306 | U35: =(F35-G35)/G35 -> 0.36193414 | V35: =(L35-$M$19)/$M$19 -> 0.71567169 | W35: =V35-U35 -> 0.35373755 | X35: =W35 -> 0.35373755 | Y35: =IF(X35<0,($Y$18-X35)*10%+$Y$20,0) -> 0 | Z35: =IF(X35=0,$Z$20,0) -> 0 | AA35: =IF(X35>0,($AA$18-X35)*10%+$AA$20,0) -> 3.0626262 | AB35: =Y35+Z35+AA35 -> 3.0626262 | AC35: =AB35*100 -> 306.26262 | AD35: =ROUND(AC35,0.0001) -> 306
B36: TROFARELLO | C36: 1268959.9 | D36: 677706.9 | E36: 5122.358 | F36: =(C36+D36)/E36 -> 380.03334 | G36: 308.48 | H36: =(F36)/G36 -> 1.2319546 | I36: ='Y1a - Y2a'!N51+'Y1a - Y2a'!P51 -> -0.050254004 | J36: ='Y1a - Y2a'!N79+'Y1a - Y2a'!P79 -> -0.032564811 | K36: =I36+J36 -> -0.082818815 | L36: =1+K36 -> 0.91718119 | M36: >0,5 | N36: =IF(L36=$M$19,IF(H36>1.05,1,0)) -> FALSE | O36: =IF(L36=$M$19,IF(H36>1.05,1,0)) -> FALSE | P36: =IF(L36>$M$19,IF(H36>1.05,1,0)) -> 1 | Q36: =IF(L36>=$M$19,IF(H36<=1.05,1,0)) -> 0 | R36: =IF(N36=1,$N$20,IF(O36=1,$O$20,IF(P36=1,$P$20,IF(Q36=1,$Q$20)))) -> Ka <= 5 % | S36: =AD36/10000 -> 0.0304 | U36: =(F36-G36)/G36 -> 0.23195456 | V36: =(L36-$M$19)/$M$19 -> 0.83436237 | W36: =V36-U36 -> 0.60240781 | X36: =W36 -> 0.60240781 | Y36: =IF(X36<0,($Y$18-X36)*10%+$Y$20,0) -> 0 | Z36: =IF(X36=0,$Z$20,0) -> 0 | AA36: =IF(X36>0,($AA$18-X36)*10%+$AA$20,0) -> 3.0377592 | AB36: =Y36+Z36+AA36 -> 3.0377592 | AC36: =AB36*100 -> 303.77592 | AD36: =ROUND(AC36,0.0001) -> 304
B37: VILLASTELLONE | C37: 429081.37 | D37: 438483.77 | E37: 2063.675 | F37: =(C37+D37)/E37 -> 420.39814 | G37: 282.22 | H37: =(F37)/G37 -> 1.4896115 | I37: ='Y1a - Y2a'!N52+'Y1a - Y2a'!P52 -> 0 | J37: ='Y1a - Y2a'!N80+'Y1a - Y2a'!P80 -> -0.032564811 | K37: =I37+J37 -> -0.032564811 | L37: =1+K37 -> 0.96743519 | M37: >0,5 | N37: =IF(L37=$M$19,IF(H37>1.05,1,0)) -> FALSE | O37: =IF(L37=$M$19,IF(H37>1.05,1,0)) -> FALSE | P37: =IF(L37>$M$19,IF(H37>1.05,1,0)) -> 1 | Q37: =IF(L37>=$M$19,IF(H37<=1.05,1,0)) -> 0 | R37: =IF(N37=1,$N$20,IF(O37=1,$O$20,IF(P37=1,$P$20,IF(Q37=1,$Q$20)))) -> Ka <= 5 % | S37: =AD37/10000 -> 0.0305 | U37: =(F37-G37)/G37 -> 0.48961145 | V37: =(L37-$M$19)/$M$19 -> 0.93487038 | W37: =V37-U37 -> 0.44525892 | X37: =W37 -> 0.44525892 | Y37: =IF(X37<0,($Y$18-X37)*10%+$Y$20,0) -> 0 | Z37: =IF(X37=0,$Z$20,0) -> 0 | AA37: =IF(X37>0,($AA$18-X37)*10%+$AA$20,0) -> 3.0534741 | AB37: =Y37+Z37+AA37 -> 3.0534741 | AC37: =AB37*100 -> 305.34741 | AD37: =ROUND(AC37,0.0001) -> 305
B38: VINOVO | C38: 1571806.5 | D38: 593101.03 | E38: 6245.172 | F38: =(C38+D38)/E38 -> 346.65299 | G38: 259.45 | H38: =(F38)/G38 -> 1.3361071 | I38: ='Y1a - Y2a'!N53+'Y1a - Y2a'!P53 -> -0.059584272 | J38: ='Y1a - Y2a'!N81+'Y1a - Y2a'!P81 -> -0.032564811 | K38: =I38+J38 -> -0.092149082 | L38: =1+K38 -> 0.90785092 | M38: >0,5 | N38: =IF(L38=$M$19,IF(H38>1.05,1,0)) -> FALSE | O38: =IF(L38=$M$19,IF(H38>1.05,1,0)) -> FALSE | P38: =IF(L38>$M$19,IF(H38>1.05,1,0)) -> 1 | Q38: =IF(L38>=$M$19,IF(H38<=1.05,1,0)) -> 0 | R38: =IF(N38=1,$N$20,IF(O38=1,$O$20,IF(P38=1,$P$20,IF(Q38=1,$Q$20)))) -> Ka <= 5 % | S38: =AD38/10000 -> 0.0305 | U38: =(F38-G38)/G38 -> 0.33610712 | V38: =(L38-$M$19)/$M$19 -> 0.81570184 | W38: =V38-U38 -> 0.47959472 | X38: =W38 -> 0.47959472 | Y38: =IF(X38<0,($Y$18-X38)*10%+$Y$20,0) -> 0 | Z38: =IF(X38=0,$Z$20,0) -> 0 | AA38: =IF(X38>0,($AA$18-X38)*10%+$AA$20,0) -> 3.0500405 | AB38: =Y38+Z38+AA38 -> 3.0500405 | AC38: =AB38*100 -> 305.00405 | AD38: =ROUND(AC38,0.0001) -> 305
B39: VIRLE PIEMONTE | C39: 102865.68 | D39: 61927.216 | E39: 427.621 | F39: =(C39+D39)/E39 -> 385.37138 | G39: 322.95 | H39: =(F39)/G39 -> 1.193285 | I39: ='Y1a - Y2a'!N54+'Y1a - Y2a'!P54 -> -0.12386399 | J39: ='Y1a - Y2a'!N82+'Y1a - Y2a'!P82 -> -0.032564811 | K39: =I39+J39 -> -0.1564288 | L39: =1+K39 -> 0.8435712 | M39: >0,5 | N39: =IF(L39=$M$19,IF(H39>1.05,1,0)) -> FALSE | O39: =IF(L39=$M$19,IF(H39>1.05,1,0)) -> FALSE | P39: =IF(L39>$M$19,IF(H39>1.05,1,0)) -> 1 | Q39: =IF(L39>=$M$19,IF(H39<=1.05,1,0)) -> 0 | R39: =IF(N39=1,$N$20,IF(O39=1,$O$20,IF(P39=1,$P$20,IF(Q39=1,$Q$20)))) -> Ka <= 5 % | S39: =AD39/10000 -> 0.0305 | U39: =(F39-G39)/G39 -> 0.19328497 | V39: =(L39-$M$19)/$M$19 -> 0.68714239 | W39: =V39-U39 -> 0.49385742 | X39: =W39 -> 0.49385742 | Y39: =IF(X39<0,($Y$18-X39)*10%+$Y$20,0) -> 0 | Z39: =IF(X39=0,$Z$20,0) -> 0 | AA39: =IF(X39>0,($AA$18-X39)*10%+$AA$20,0) -> 3.0486143 | AB39: =Y39+Z39+AA39 -> 3.0486143 | AC39: =AB39*100 -> 304.86143 | AD39: =ROUND(AC39,0.0001) -> 305
K42: =SUM(K21:K41) -> -2.6191622 | L42: =SUM(L21:L41) -> 16.380838 | X42: =6.92/19 -> 0.36421053
K43: =K42/19 -> -0.13785064 | L43: =L42/19 -> 0.86214936
L44: =L43-K43 -> 1

Sheet Sintesi Ka
C3: Rispetto obiettivi di raccolta differenziata raggiunti differenziata avviata a recupero | D3: Efficacia delle attività di preparazione per il riutilizzo e il riciclo | E3: Livello di qualità ambientale delle prestazioni | F3: Ka | G3: Ka
C4: Y1a | D4: Y2a | E4: (1 + Ya)
G5: Valore prescelto
B6: BEINASCO | C6: ='Sharing ba'!C17 -> -0.21897593 | D6: ='Sharing ba'!D17 -> -0.032564811 | E6: 0.74845926 | F6: =Ka!R21 -> Ka <= 5 % | G6: =Ka!S21 -> 0.0307
B7: BRUINO | C7: ='Sharing ba'!C18 -> -0.001169103 | D7: ='Sharing ba'!D18 -> -0.032564811 | E7: 0.96626609 | F7: =Ka!R22 -> Ka <= 5 % | G7: =Ka!S22 -> 0.0303
B8: CANDIOLO | C8: ='Sharing ba'!C19 -> -0.029929537 | D8: ='Sharing ba'!D19 -> -0.032564811 | E8: 0.93750565 | F8: =Ka!R23 -> Ka <= 5 % | G8: =Ka!S23 -> 0.0304
B9: CARIGNANO | C9: ='Sharing ba'!C20 -> -0.054090541 | D9: ='Sharing ba'!D20 -> -0.032564811 | E9: 0.91334465 | F9: =Ka!R24 -> Ka <= 5 % | G9: =Ka!S24 -> 0.0303
B10: CASTAGNOLE PIEMONTE | C10: ='Sharing ba'!C21 -> -0.090011571 | D10: ='Sharing ba'!D21 -> -0.032564811 | E10: 0.87742362 | F10: =Ka!R25 -> Ka <= 5 % | G10: =Ka!S25 -> 0.0306
B11: LA LOGGIA | C11: ='Sharing ba'!C22 -> -0.11896161 | D11: ='Sharing ba'!D22 -> -0.032564811 | E11: 0.84847358 | F11: =Ka!R26 -> Ka <= 5 % | G11: =Ka!S26 -> 0.0307
B12: LOMBRIASCO | C12: ='Sharing ba'!C23 -> -0.12512826 | D12: ='Sharing ba'!D23 -> -0.032564811 | E12: 0.84230693 | F12: =Ka!R27 -> Ka <= 5 % | G12: =Ka!S27 -> 0.04
B13: MONCALIERI | C13: ='Sharing ba'!C24 -> -0.18880752 | D13: ='Sharing ba'!D24 -> -0.032564811 | E13: 0.77862767 | F13: =Ka!R28 -> Ka <= 5 % | G13: =Ka!S28 -> 0.0306
B14: NICHELINO | C14: ='Sharing ba'!C25 -> -0.25865383 | D14: ='Sharing ba'!D25 -> -0.032564811 | E14: 0.70878136 | F14: =Ka!R29 -> Ka <= 5 % | G14: =Ka!S29 -> 0.0308
B15: ORBASSANO | C15: ='Sharing ba'!C26 -> -0.2087503 | D15: ='Sharing ba'!D26 -> -0.032564811 | E15: 0.75868489 | F15: =Ka!R30 -> Ka <= 5 % | G15: =Ka!S30 -> 0.0308
B16: OSASIO | C16: ='Sharing ba'!C27 -> -0.099323182 | D16: ='Sharing ba'!D27 -> -0.032564811 | E16: 0.86811201 | F16: =Ka!R31 -> Ka <= 5 % | G16: =Ka!S31 -> 0.0305
B17: PANCALIERI | C17: ='Sharing ba'!C28 -> -0.14690258 | D17: ='Sharing ba'!D28 -> -0.032564811 | E17: 0.82053261 | F17: =Ka!R32 -> Ka <= 7 % | G17: =Ka!S32 -> 0.04
... B24: VIRLE PIEMONTE | C24: ='Sharing ba'!C35 -> -0.12386399 | D24: ='Sharing ba'!D35 -> -0.032564811 | E24: 0.8435712 | F24: =Ka!R39 -> Ka <= 5 % | G24: =Ka!S39 -> 0.0305

Sheet Xa
I7: ART 6 ALLEG. A DEL 397/2025
C24: Cueff a-2 | G24: Benchmark | H24: Rispetto obiettivi di raccolta differenziata raggiunti differenziata avviata a recupero | I24: Efficacia delle attività di preparazione per il riutilizzo e il riciclo | J24: Livello di qualità ambientale delle prestazioni | L24: (1 + Ya) | M24: Xa | X24: =X25 -> -0.98 | Z24: =Z25 -> 0.98
C25: TV | D25: TF | E25: q (t/anno 2024) | F25: Cueff a-2 | H25: Y1a | I25: Y2a | J25: Ya | K25: (1 + Ya) | L25: 0.5 | X25: -0.98 | Y25: 0 | Z25: 0.98
M26: 0,3 < Xa <= 0,5 % | N26: 0,1 < Xa <= 0,3 % | O26: 0,1 < Xa <= 0,3 % | P26: Xa = 0,1 % | R26: Valore prescelto | X26: 0.3 | Y26: 0.2 | Z26: 0.101
B27: BEINASCO | C27: 1771014.3 | D27: 1716133.1 | E27: 7882.093 | F27: =(C27+D27)/E27 -> 442.41389 | G27: 351.23 | H27: ='[1]Y1a - Y2a'!N36+'[1]Y1a - Y2a'!P36 -> -0.21897593 | I27: ='[1]Y1a - Y2a'!N64+'[1]Y1a - Y2a'!P64 -> -0.032564811 | J27: =H27+I27 -> -0.25154074 | K27: =1+J27 -> 0.74845926 | M27: =IF(K27<=$L$25,IF(F27>G27,1,0)) -> FALSE | N27: =IF(K27<=$L$25,IF(F27<=G27,1,0)) -> FALSE | O27: =IF(K27>$L$25,IF(F27>G27,1,0)) -> 1 | P27: =IF(K27>$L$25,IF(F27<=G27,1,0)) -> 0 | Q27: =IF(M27=1,$M$26,IF(N27=1,$N$26,IF(O27=1,$O$26,IF(P27=1,$P$26)))) -> 0,1 < Xa <= 0,3 % | R27: =AC27/10000 -> 0.0018 | T27: =(F27-G27)/G27 -> 0.25961305 | U27: =(K27-$L$25)/$L$25 -> 0.49691852 | V27: =U27-T27 -> 0.23730547 | W27: =V27 -> 0.23730547 | X27: =IF(W27<0,($X$24-W27)*10%+$X$26,0) -> 0 | Y27: =IF(W27=0,$Y$26,0) -> 0 | Z27: =IF(W27>0,($Z$24-W27)*10%+$Z$26,0) -> 0.17526945 | AA27: =X27+Y27+Z27 -> 0.17526945 | AB27: =AA27*100 -> 17.526945 | AC27: =ROUND(AB27,0.0001) -> 18 | AD27: OK
B28: BRUINO | C28: 902583.28 | D28: 619458.59 | E28: 3982.922 | F28: =(C28+D28)/E28 -> 382.14202 | G28: 295.1 | H28: ='[1]Y1a - Y2a'!N37+'[1]Y1a - Y2a'!P37 -> -0.001169103 | I28: ='[1]Y1a - Y2a'!N65+'[1]Y1a - Y2a'!P65 -> -0.032564811 | J28: =H28+I28 -> -0.033733914 | K28: =1+J28 -> 0.96626609 | M28: =IF(K28<=$L$25,IF(F28>G28,1,0)) -> FALSE | N28: =IF(K28<=$L$25,IF(F28<=G28,1,0)) -> FALSE | O28: =IF(K28>$L$25,IF(F28>G28,1,0)) -> 1 | P28: =IF(K28>$L$25,IF(F28<=G28,1,0)) -> 0 | Q28: =IF(M28=1,$M$26,IF(N28=1,$N$26,IF(O28=1,$O$26,IF(P28=1,$P$26)))) -> 0,1 < Xa <= 0,3 % | R28: =AC28/10000 -> 0.0014 | T28: =(F28-G28)/G28 -> 0.29495772 | U28: =(K28-$L$25)/$L$25 -> 0.93253217 | V28: =U28-T28 -> 0.63757445 | W28: =V28 -> 0.63757445 | X28: =IF(W28<0,($X$24-W28)*10%+$X$26,0) -> 0 | Y28: =IF(W28=0,$Y$26,0) -> 0 | Z28: =IF(W28>0,($Z$24-W28)*10%+$Z$26,0) -> 0.13524255 | AA28: =X28+Y28+Z28 -> 0.13524255 | AB28: =AA28*100 -> 13.524255 | AC28: =ROUND(AB28,0.0001) -> 14
B29: CANDIOLO | C29: 709268.5 | D29: 329695.38 | E29: 2878.804 | F29: =(C29+D29)/E29 -> 360.90122 | G29: 273.05 | H29: ='[1]Y1a - Y2a'!N38+'[1]Y1a - Y2a'!P38 -> -0.029929537 | I29: ='[1]Y1a - Y2a'!N66+'[1]Y1a - Y2a'!P66 -> -0.032564811 | J29: =H29+I29 -> -0.062494348 | K29: =1+J29 -> 0.93750565 | M29: =IF(K29<=$L$25,IF(F29>G29,1,0)) -> FALSE | N29: =IF(K29<=$L$25,IF(F29<=G29,1,0)) -> FALSE | O29: =IF(K29>$L$25,IF(F29>G29,1,0)) -> 1 | P29: =IF(K29>$L$25,IF(F29<=G29,1,0)) -> 0 | Q29: =IF(M29=1,$M$26,IF(N29=1,$N$26,IF(O29=1,$O$26,IF(P29=1,$P$26)))) -> 0,1 < Xa <= 0,3 % | R29: =AC29/10000 -> 0.0014 | T29: =(F29-G29)/G29 -> 0.32174042 | U29: =(K29-$L$25)/$L$25 -> 0.8750113 | V29: =U29-T29 -> 0.55327089 | W29: =V29 -> 0.55327089 | X29: =IF(W29<0,($X$24-W29)*10%+$X$26,0) -> 0 | Y29: =IF(W29=0,$Y$26,0) -> 0 | Z29: =IF(W29>0,($Z$24-W29)*10%+$Z$26,0) -> 0.14367291 | AA29: =X29+Y29+Z29 -> 0.14367291 | AB29: =AA29*100 -> 14.367291 | AC29: =ROUND(AB29,0.0001) -> 14
B30: CARIGNANO | C30: 743304.64 | D30: 685671.49 | E30: 4269.146 | F30: =(C30+D30)/E30 -> 334.72177 | G30: 292.54 | H30: ='[1]Y1a - Y2a'!N39+'[1]Y1a - Y2a'!P39 -> -0.054090541 | I30: ='[1]Y1a - Y2a'!N67+'[1]Y1a - Y2a'!P67 -> -0.032564811 | J30: =H30+I30 -> -0.086655352 | K30: =1+J30 -> 0.91334465 | M30: =IF(K30<=$L$25,IF(F30>G30,1,0)) -> FALSE | N30: =IF(K30<=$L$25,IF(F30<=G30,1,0)) -> FALSE | O30: =IF(K30>$L$25,IF(F30>G30,1,0)) -> 1 | P30: =IF(K30>$L$25,IF(F30<=G30,1,0)) -> 0 | Q30: =IF(M30=1,$M$26,IF(N30=1,$N$26,IF(O30=1,$O$26,IF(P30=1,$P$26)))) -> 0,1 < Xa <= 0,3 % | R30: =AC30/10000 -> 0.0013 | T30: =(F30-G30)/G30 -> 0.14419148 | U30: =(K30-$L$25)/$L$25 -> 0.8266893 | V30: =U30-T30 -> 0.68249782 | W30: =V30 -> 0.68249782 | X30: =IF(W30<0,($X$24-W30)*10%+$X$26,0) -> 0 | Y30: =IF(W30=0,$Y$26,0) -> 0 | Z30: =IF(W30>0,($Z$24-W30)*10%+$Z$26,0) -> 0.13075022 | AA30: =X30+Y30+Z30 -> 0.13075022 | AB30: =AA30*100 -> 13.075022 | AC30: =ROUND(AB30,0.0001) -> 13
B31: CASTAGNOLE PIEMONTE | C31: 192166.13 | D31: 109866.11 | E31: 827.945 | F31: =(C31+D31)/E31 -> 364.79747 | G31: 266.42 | H31: ='[1]Y1a - Y2a'!N40+'[1]Y1a - Y2a'!P40 -> -0.090011571 | I31: ='[1]Y1a - Y2a'!N68+'[1]Y1a - Y2a'!P68 -> -0.032564811 | J31: =H31+I31 -> -0.12257638 | K31: =1+J31 -> 0.87742362 | M31: =IF(K31<=$L$25,IF(F31>G31,1,0)) -> FALSE | N31: =IF(K31<=$L$25,IF(F31<=G31,1,0)) -> FALSE | O31: =IF(K31>$L$25,IF(F31>G31,1,0)) -> 1 | P31: =IF(K31>$L$25,IF(F31<=G31,1,0)) -> 0 | Q31: =IF(M31=1,$M$26,IF(N31=1,$N$26,IF(O31=1,$O$26,IF(P31=1,$P$26)))) -> 0,1 < Xa <= 0,3 % | R31: =AC31/10000 -> 0.0016 | T31: =(F31-G31)/G31 -> 0.36925707 | U31: =(K31-$L$25)/$L$25 -> 0.75484724 | V31: =U31-T31 -> 0.38559017 | W31: =V31 -> 0.38559017 | X31: =IF(W31<0,($X$24-W31)*10%+$X$26,0) -> 0 | Y31: =IF(W31=0,$Y$26,0) -> 0 | Z31: =IF(W31>0,($Z$24-W31)*10%+$Z$26,0) -> 0.16044098 | AA31: =X31+Y31+Z31 -> 0.16044098 | AB31: =AA31*100 -> 16.044098 | AC31: =ROUND(AB31,0.0001) -> 16
B32: LA LOGGIA | C32: 838933.17 | D32: 663023.23 | E32: 3827.596 | F32: =(C32+D32)/E32 -> 392.40202 | G32: 282.5 | H32: ='[1]Y1a - Y2a'!N41+'[1]Y1a - Y2a'!P41 -> -0.11896161 | I32: ='[1]Y1a - Y2a'!N69+'[1]Y1a - Y2a'!P69 -> -0.032564811 | J32: =H32+I32 -> -0.15152642 | K32: =1+J32 -> 0.84847358 | M32: =IF(K32<=$L$25,IF(F32>G32,1,0)) -> FALSE | N32: =IF(K32<=$L$25,IF(F32<=G32,1,0)) -> FALSE | O32: =IF(K32>$L$25,IF(F32>G32,1,0)) -> 1 | P32: =IF(K32>$L$25,IF(F32<=G32,1,0)) -> 0 | Q32: =IF(M32=1,$M$26,IF(N32=1,$N$26,IF(O32=1,$O$26,IF(P32=1,$P$26)))) -> 0,1 < Xa <= 0,3 % | R32: =AC32/10000 -> 0.0017 | T32: =(F32-G32)/G32 -> 0.3890337 | U32: =(K32-$L$25)/$L$25 -> 0.69694716 | V32: =U32-T32 -> 0.30791346 | W32: =V32 -> 0.30791346 | X32: =IF(W32<0,($X$24-W32)*10%+$X$26,0) -> 0 | Y32: =IF(W32=0,$Y$26,0) -> 0 | Z32: =IF(W32>0,($Z$24-W32)*10%+$Z$26,0) -> 0.16820865 | AA32: =X32+Y32+Z32 -> 0.16820865 | AB32: =AA32*100 -> 16.820865 | AC32: =ROUND(AB32,0.0001) -> 17
B33: LOMBRIASCO | C33: 84922.19 | D33: 38849.816 | E33: 335.589 | F33: =(C33+D33)/E33 -> 368.82021 | G33: 333.97 | H33: ='[1]Y1a - Y2a'!N42+'[1]Y1a - Y2a'!P42 -> -0.12512826 | I33: ='[1]Y1a - Y2a'!N70+'[1]Y1a - Y2a'!P70 -> -0.032564811 | J33: =H33+I33 -> -0.15769307 | K33: =1+J33 -> 0.84230693 | M33: =IF(K33<=$L$25,IF(F33>G33,1,0)) -> FALSE | N33: =IF(K33<=$L$25,IF(F33<=G33,1,0)) -> FALSE | O33: =IF(K33>$L$25,IF(F33>G33,1,0)) -> 1 | P33: =IF(K33>$L$25,IF(F33<=G33,1,0)) -> 0 | Q33: =IF(M33=1,$M$26,IF(N33=1,$N$26,IF(O33=1,$O$26,IF(P33=1,$P$26)))) -> 0,1 < Xa <= 0,3 % | R33: =AC33/10000 -> 0.0014 | T33: =(F33-G33)/G33 -> 0.10435133 | U33: =(K33-$L$25)/$L$25 -> 0.68461387 | V33: =U33-T33 -> 0.58026254 | W33: =V33 -> 0.58026254 | X33: =IF(W33<0,($X$24-W33)*10%+$X$26,0) -> 0 | Y33: =IF(W33=0,$Y$26,0) -> 0 | Z33: =IF(W33>0,($Z$24-W33)*10%+$Z$26,0) -> 0.14097375 | AA33: =X33+Y33+Z33 -> 0.14097375 | AB33: =AA33*100 -> 14.097375 | AC33: =ROUND(AB33,0.0001) -> 14
B34: MONCALIERI | C34: 5827611.1 | D34: 4555065.2 | E34: 25716.872 | F34: =(C34+D34)/E34 -> 403.73014 | G34: 337.97 | H34: ='[1]Y1a - Y2a'!N43+'[1]Y1a - Y2a'!P43 -> -0.18880752 | I34: ='[1]Y1a - Y2a'!N71+'[1]Y1a - Y2a'!P71 -> -0.032564811 | J34: =H34+I34 -> -0.22137233 | K34: =1+J34 -> 0.77862767 | M34: =IF(K34<=$L$25,IF(F34>G34,1,0)) -> FALSE | N34: =IF(K34<=$L$25,IF(F34<=G34,1,0)) -> FALSE | O34: =IF(K34>$L$25,IF(F34>G34,1,0)) -> 1 | P34: =IF(K34>$L$25,IF(F34<=G34,1,0)) -> 0 | Q34: =IF(M34=1,$M$26,IF(N34=1,$N$26,IF(O34=1,$O$26,IF(P34=1,$P$26)))) -> 0,1 < Xa <= 0,3 % | R34: =AC34/10000 -> 0.0016 | T34: =(F34-G34)/G34 -> 0.1945739 | U34: =(K34-$L$25)/$L$25 -> 0.55725533 | V34: =U34-T34 -> 0.36268143 | W34: =V34 -> 0.36268143 | X34: =IF(W34<0,($X$24-W34)*10%+$X$26,0) -> 0 | Y34: =IF(W34=0,$Y$26,0) -> 0 | Z34: =IF(W34>0,($Z$24-W34)*10%+$Z$26,0) -> 0.16273186 | AA34: =X34+Y34+Z34 -> 0.16273186 | AB34: =AA34*100 -> 16.273186 | AC34: =ROUND(AB34,0.0001) -> 16
B35: NICHELINO | C35: 4877228.3 | D35: 4526511.4 | E35: 22085.065 | F35: =(C35+D35)/E35 -> 425.79633 | G35: 352.71 | H35: ='[1]Y1a - Y2a'!N44+'[1]Y1a - Y2a'!P44 -> -0.25865383 | I35: ='[1]Y1a - Y2a'!N72+'[1]Y1a - Y2a'!P72 -> -0.032564811 | J35: =H35+I35 -> -0.29121864 | K35: =1+J35 -> 0.70878136 | M35: =IF(K35<=$L$25,IF(F35>G35,1,0)) -> FALSE | N35: =IF(K35<=$L$25,IF(F35<=G35,1,0)) -> FALSE | O35: =IF(K35>$L$25,IF(F35>G35,1,0)) -> 1 | P35: =IF(K35>$L$25,IF(F35<=G35,1,0)) -> 0 | Q35: =IF(M35=1,$M$26,IF(N35=1,$N$26,IF(O35=1,$O$26,IF(P35=1,$P$26)))) -> 0,1 < Xa <= 0,3 % | R35: =AC35/10000 -> 0.0018 | T35: =(F35-G35)/G35 -> 0.20721367 | U35: =(K35-$L$25)/$L$25 -> 0.41756271 | V35: =U35-T35 -> 0.21034904 | W35: =V35 -> 0.21034904 | X35: =IF(W35<0,($X$24-W35)*10%+$X$26,0) -> 0 | Y35: =IF(W35=0,$Y$26,0) -> 0 | Z35: =IF(W35>0,($Z$24-W35)*10%+$Z$26,0) -> 0.1779651 | AA35: =X35+Y35+Z35 -> 0.1779651 | AB35: =AA35*100 -> 17.79651 | AC35: =ROUND(AB35,0.0001) -> 18
B36: ORBASSANO | C36: 2390962.8 | D36: 2193784.2 | E36: 11329.836 | F36: =(C36+D36)/E36 -> 404.66138 | G36: 307.18 | H36: ='[1]Y1a - Y2a'!N45+'[1]Y1a - Y2a'!P45 -> -0.2087503 | I36: ='[1]Y1a - Y2a'!N73+'[1]Y1a - Y2a'!P73 -> -0.032564811 | J36: =H36+I36 -> -0.24131511 | K36: =1+J36 -> 0.75868489 | M36: =IF(K36<=$L$25,IF(F36>G36,1,0)) -> FALSE | N36: =IF(K36<=$L$25,IF(F36<=G36,1,0)) -> FALSE | O36: =IF(K36>$L$25,IF(F36>G36,1,0)) -> 1 | P36: =IF(K36>$L$25,IF(F36<=G36,1,0)) -> 0 | Q36: =IF(M36=1,$M$26,IF(N36=1,$N$26,IF(O36=1,$O$26,IF(P36=1,$P$26)))) -> 0,1 < Xa <= 0,3 % | R36: =AC36/10000 -> 0.0018 | T36: =(F36-G36)/G36 -> 0.31734286 | U36: =(K36-$L$25)/$L$25 -> 0.51736977 | V36: =U36-T36 -> 0.20002691 | W36: =V36 -> 0.20002691 | X36: =IF(W36<0,($X$24-W36)*10%+$X$26,0) -> 0 | Y36: =IF(W36=0,$Y$26,0) -> 0 | Z36: =IF(W36>0,($Z$24-W36)*10%+$Z$26,0) -> 0.17899731 | AA36: =X36+Y36+Z36 -> 0.17899731 | AB36: =AA36*100 -> 17.899731 | AC36: =ROUND(AB36,0.0001) -> 18
B37: OSASIO | C37: 72410.071 | D37: 33191.144 | E37: 304.053 | F37: =(C37+D37)/E37 -> 347.31187 | G37: 267.08 | H37: ='[1]Y1a - Y2a'!N46+'[1]Y1a - Y2a'!P46 -> -0.099323182 | I37: ='[1]Y1a - Y2a'!N74+'[1]Y1a - Y2a'!P74 -> -0.032564811 | J37: =H37+I37 -> -0.13188799 | K37: =1+J37 -> 0.86811201 | M37: =IF(K37<=$L$25,IF(F37>G37,1,0)) -> FALSE | N37: =IF(K37<=$L$25,IF(F37<=G37,1,0)) -> FALSE | O37: =IF(K37>$L$25,IF(F37>G37,1,0)) -> 1 | P37: =IF(K37>$L$25,IF(F37<=G37,1,0)) -> 0 | Q37: =IF(M37=1,$M$26,IF(N37=1,$N$26,IF(O37=1,$O$26,IF(P37=1,$P$26)))) -> 0,1 < Xa <= 0,3 % | R37: =AC37/10000 -> 0.0016 | T37: =(F37-G37)/G37 -> 0.30040388 | U37: =(K37-$L$25)/$L$25 -> 0.73622402 | V37: =U37-T37 -> 0.43582013 | W37: =V37 -> 0.43582013 | X37: =IF(W37<0,($X$24-W37)*10%+$X$26,0) -> 0 | Y37: =IF(W37=0,$Y$26,0) -> 0 | Z37: =IF(W37>0,($Z$24-W37)*10%+$Z$26,0) -> 0.15541799 | AA37: =X37+Y37+Z37 -> 0.15541799 | AB37: =AA37*100 -> 15.541799 | AC37: =ROUND(AB37,0.0001) -> 16
B38: PANCALIERI | C38: 189732.57 | D38: 51926.635 | E38: 899.725 | F38: =(C38+D38)/E38 -> 268.5923 | G38: 299.02 | H38: ='[1]Y1a - Y2a'!N47+'[1]Y1a - Y2a'!P47 -> -0.14690258 | I38: ='[1]Y1a - Y2a'!N75+'[1]Y1a - Y2a'!P75 -> -0.032564811 | J38: =H38+I38 -> -0.17946739 | K38: =1+J38 -> 0.82053261 | M38: =IF(K38<=$L$25,IF(F38>G38,1,0)) -> FALSE | N38: =IF(K38<=$L$25,IF(F38<=G38,1,0)) -> FALSE | O38: =IF(K38>$L$25,IF(F38>G38,1,0)) -> 0 | P38: =IF(K38>$L$25,IF(F38<=G38,1,0)) -> 1 | Q38: =IF(M38=1,$M$26,IF(N38=1,$N$26,IF(O38=1,$O$26,IF(P38=1,$P$26)))) -> Xa = 0,1 % | R38: 0.001
B39: PIOBESI TORINESE | C39: 529682.74 | D39: 228187.1 | E39: 1609.225 | F39: =(C39+D39)/E39 -> 470.95331 | G39: 279.04 | H39: ='[1]Y1a - Y2a'!N48+'[1]Y1a - Y2a'!P48 -> 0 | I39: ='[1]Y1a - Y2a'!N76+'[1]Y1a - Y2a'!P76 -> -0.032564811 | J39: =H39+I39 -> -0.032564811 | K39: =1+J39 -> 0.96743519 | M39: =IF(K39<=$L$25,IF(F39>G39,1,0)) -> FALSE | N39: =IF(K39<=$L$25,IF(F39<=G39,1,0)) -> FALSE | O39: =IF(K39>$L$25,IF(F39>G39,1,0)) -> 1 | P39: =IF(K39>$L$25,IF(F39<=G39,1,0)) -> 0 | Q39: =IF(M39=1,$M$26,IF(N39=1,$N$26,IF(O39=1,$O$26,IF(P39=1,$P$26)))) -> 0,1 < Xa <= 0,3 % | R39: =AC39/10000 -> 0.0017 | T39: =(F39-G39)/G39 -> 0.68776272 | U39: =(K39-$L$25)/$L$25 -> 0.93487038 | V39: =U39-T39 -> 0.24710766 | W39: =V39 -> 0.24710766 | X39: =IF(W39<0,($X$24-W39)*10%+$X$26,0) -> 0 | Y39: =IF(W39=0,$Y$26,0) -> 0 | Z39: =IF(W39>0,($Z$24-W39)*10%+$Z$26,0) -> 0.17428923 | AA39: =X39+Y39+Z39 -> 0.17428923 | AB39: =AA39*100 -> 17.428923 | AC39: =ROUND(AB39,0.0001) -> 17
B40: PIOSSASCO | C40: 1822576.6 | D40: 1111872 | E40: 7076.28 | F40: =(C40+D40)/E40 -> 414.68804 | G40: 292.05 | H40: ='[1]Y1a - Y2a'!N49+'[1]Y1a - Y2a'!P49 -> -0.11642517 | I40: ='[1]Y1a - Y2a'!N77+'[1]Y1a - Y2a'!P77 -> -0.032564811 | J40: =H40+I40 -> -0.14898998 | K40: =1+J40 -> 0.85101002 | M40: =IF(K40<=$L$25,IF(F40>G40,1,0)) -> FALSE | N40: =IF(K40<=$L$25,IF(F40<=G40,1,0)) -> FALSE | O40: =IF(K40>$L$25,IF(F40>G40,1,0)) -> 1 | P40: =IF(K40>$L$25,IF(F40<=G40,1,0)) -> 0 | Q40: =IF(M40=1,$M$26,IF(N40=1,$N$26,IF(O40=1,$O$26,IF(P40=1,$P$26)))) -> 0,1 < Xa <= 0,3 % | R40: =AC40/10000 -> 0.0017 | T40: =(F40-G40)/G40 -> 0.41992137 | U40: =(K40-$L$25)/$L$25 -> 0.70202004 | V40: =U40-T40 -> 0.28209867 | W40: =V40 -> 0.28209867 | X40: =IF(W40<0,($X$24-W40)*10%+$X$26,0) -> 0 | Y40: =IF(W40=0,$Y$26,0) -> 0 | Z40: =IF(W40>0,($Z$24-W40)*10%+$Z$26,0) -> 0.17079013 | AA40: =X40+Y40+Z40 -> 0.17079013 | AB40: =AA40*100 -> 17.079013 | AC40: =ROUND(AB40,0.0001) -> 17
B41: RIVALTA DI TORINO | C41: 2152889.5 | D41: 1675233 | E41: 9478.649 | F41: =(C41+D41)/E41 -> 403.86795 | G41: 296.54 | H41: ='[1]Y1a - Y2a'!N50+'[1]Y1a - Y2a'!P50 -> -0.10959935 | I41: ='[1]Y1a - Y2a'!N78+'[1]Y1a - Y2a'!P78 -> -0.032564811 | J41: =H41+I41 -> -0.14216416 | K41: =1+J41 -> 0.85783584 | M41: =IF(K41<=$L$25,IF(F41>G41,1,0)) -> FALSE | N41: =IF(K41<=$L$25,IF(F41<=G41,1,0)) -> FALSE | O41: =IF(K41>$L$25,IF(F41>G41,1,0)) -> 1 | P41: =IF(K41>$L$25,IF(F41<=G41,1,0)) -> 0 | Q41: =IF(M41=1,$M$26,IF(N41=1,$N$26,IF(O41=1,$O$26,IF(P41=1,$P$26)))) -> 0,1 < Xa <= 0,3 % | R41: =AC41/10000 -> 0.0016 | T41: =(F41-G41)/G41 -> 0.36193414 | U41: =(K41-$L$25)/$L$25 -> 0.71567169 | V41: =U41-T41 -> 0.35373755 | W41: =V41 -> 0.35373755 | X41: =IF(W41<0,($X$24-W41)*10%+$X$26,0) -> 0 | Y41: =IF(W41=0,$Y$26,0) -> 0 | Z41: =IF(W41>0,($Z$24-W41)*10%+$Z$26,0) -> 0.16362625 | AA41: =X41+Y41+Z41 -> 0.16362625 | AB41: =AA41*100 -> 16.362625 | AC41: =ROUND(AB41,0.0001) -> 16
