Workbook

Sheet Consolidato PEF
B1: PEF 2026-2029
D3: 2026 | G3: 2027 | J3: 2028 | M3: 2029
D4: CONSOLIDATO | G4: CONSOLIDATO | J4: CONSOLIDATO | M4: CONSOLIDATO
D5: Costi del/i gestore/i diverso/i dal Comune | E5: Costi del/i Comune/i | F5: Ciclo integrato RU (TOT PEF) | G5: Costi del/i gestore/i diverso/i dal Comune | H5: Costi del/i Comune/i | I5: Ciclo integrato RU (TOT PEF) | J5: Costi del/i gestore/i diverso/i dal Comune | K5: Costi del/i Comune/i | L5: Ciclo integrato RU (TOT PEF) | M5: Costi del/i gestore/i diverso/i dal Comune | N5: Costi del/i Comune/i | O5: Ciclo integrato RU (TOT PEF)
B6: Costi dell’attività di raccolta e trasporto dei rifiuti urbani indifferenziati CRT | D6: =+Beinasco!D6+Bruino!D6+Candiolo!D6+Carignano!D6+'Castagnole Piemonte'!D6+'La Loggia'!D6+Lombriasco!D6+Moncalieri!D6+Nichelino!D6+Orbassano!D6+Osasio!D6+Pancalieri!D6+'Piobesi Torinese'!D6+Piossasco!D6+'Rivalta di Torino'!D6+Trofarello!D6+Villastellone!D6+Vinovo!D6+'Virle Piemonte'!D6 -> 4135803.5 | E6: =+Beinasco!E6+Bruino!E6+Candiolo!E6+Carignano!E6+'Castagnole Piemonte'!E6+'La Loggia'!E6+Lombriasco!E6+Moncalieri!E6+Nichelino!E6+Orbassano!E6+Osasio!E6+Pancalieri!E6+'Piobesi Torinese'!E6+Piossasco!E6+'Rivalta di Torino'!E6+Trofarello!E6+Villastellone!E6+Vinovo!E6+'Virle Piemonte'!E6 -> 0 | F6: =+Beinasco!F6+Bruino!F6+Candiolo!F6+Carignano!F6+'Castagnole Piemonte'!F6+'La Loggia'!F6+Lombriasco!F6+Moncalieri!F6+Nichelino!F6+Orbassano!F6+Osasio!F6+Pancalieri!F6+'Piobesi Torinese'!F6+Piossasco!F6+'Rivalta di Torino'!F6+Trofarello!F6+Villastellone!F6+Vinovo!F6+'Virle Piemonte'!F6 -> 4135803.5 | G6: =+Beinasco!G6+Bruino!G6+Candiolo!G6+Carignano!G6+'Castagnole Piemonte'!G6+'La Loggia'!G6+Lombriasco!G6+Moncalieri!G6+Nichelino!G6+Orbassano!G6+Osasio!G6+Pancalieri!G6+'Piobesi Torinese'!G6+Piossasco!G6+'Rivalta di Torino'!G6+Trofarello!G6+Villastellone!G6+Vinovo!G6+'Virle Piemonte'!G6 -> 4094802.4 | H6: =+Beinasco!H6+Bruino!H6+Candiolo!H6+Carignano!H6+'Castagnole Piemonte'!H6+'La Loggia'!H6+Lombriasco!H6+Moncalieri!H6+Nichelino!H6+Orbassano!H6+Osasio!H6+Pancalieri!H6+'Piobesi Torinese'!H6+Piossasco!H6+'Rivalta di Torino'!H6+Trofarello!H6+Villastellone!H6+Vinovo!H6+'Virle Piemonte'!H6 -> 0 | I6: =+Beinasco!I6+Bruino!I6+Candiolo!I6+Carignano!I6+'Castagnole Piemonte'!I6+'La Loggia'!I6+Lombriasco!I6+Moncalieri!I6+Nichelino!I6+Orbassano!I6+Osasio!I6+Pancalieri!I6+'Piobesi Torinese'!I6+Piossasco!I6+'Rivalta di Torino'!I6+Trofarello!I6+Villastellone!I6+Vinovo!I6+'Virle Piemonte'!I6 -> 4094802.4 | J6: =+Beinasco!J6+Bruino!J6+Candiolo!J6+Carignano!J6+'Castagnole Piemonte'!J6+'La Loggia'!J6+Lombriasco!J6+Moncalieri!J6+Nichelino!J6+Orbassano!J6+Osasio!J6+Pancalieri!J6+'Piobesi Torinese'!J6+Piossasco!J6+'Rivalta di Torino'!J6+Trofarello!J6+Villastellone!J6+Vinovo!J6+'Virle Piemonte'!J6 -> 4094802.4 | K6: =+Beinasco!K6+Bruino!K6+Candiolo!K6+Carignano!K6+'Castagnole Piemonte'!K6+'La Loggia'!K6+Lombriasco!K6+Moncalieri!K6+Nichelino!K6+Orbassano!K6+Osasio!K6+Pancalieri!K6+'Piobesi Torinese'!K6+Piossasco!K6+'Rivalta di Torino'!K6+Trofarello!K6+Villastellone!K6+Vinovo!K6+'Virle Piemonte'!K6 -> 0 | ... O6: =+Beinasco!O6+Bruino!O6+Candiolo!O6+Carignano!O6+'Castagnole Piemonte'!O6+'La Loggia'!O6+Lombriasco!O6+Moncalieri!O6+Nichelino!O6+Orbassano!O6+Osasio!O6+Pancalieri!O6+'Piobesi Torinese'!O6+Piossasco!O6+'Rivalta di Torino'!O6+Trofarello!O6+Villastellone!O6+Vinovo!O6+'Virle Piemonte'!O6 -> 4094802.4
B7: Costi dell’attività di trattamento e smaltimento dei rifiuti urbani CTS | D7: =+Beinasco!D7+Bruino!D7+Candiolo!D7+Carignano!D7+'Castagnole Piemonte'!D7+'La Loggia'!D7+Lombriasco!D7+Moncalieri!D7+Nichelino!D7+Orbassano!D7+Osasio!D7+Pancalieri!D7+'Piobesi Torinese'!D7+Piossasco!D7+'Rivalta di Torino'!D7+Trofarello!D7+Villastellone!D7+Vinovo!D7+'Virle Piemonte'!D7 -> 5456884.4 | E7: =+Beinasco!E7+Bruino!E7+Candiolo!E7+Carignano!E7+'Castagnole Piemonte'!E7+'La Loggia'!E7+Lombriasco!E7+Moncalieri!E7+Nichelino!E7+Orbassano!E7+Osasio!E7+Pancalieri!E7+'Piobesi Torinese'!E7+Piossasco!E7+'Rivalta di Torino'!E7+Trofarello!E7+Villastellone!E7+Vinovo!E7+'Virle Piemonte'!E7 -> 247.7376 | F7: =+Beinasco!F7+Bruino!F7+Candiolo!F7+Carignano!F7+'Castagnole Piemonte'!F7+'La Loggia'!F7+Lombriasco!F7+Moncalieri!F7+Nichelino!F7+Orbassano!F7+Osasio!F7+Pancalieri!F7+'Piobesi Torinese'!F7+Piossasco!F7+'Rivalta di Torino'!F7+Trofarello!F7+Villastellone!F7+Vinovo!F7+'Virle Piemonte'!F7 -> 5457132.1 | G7: =+Beinasco!G7+Bruino!G7+Candiolo!G7+Carignano!G7+'Castagnole Piemonte'!G7+'La Loggia'!G7+Lombriasco!G7+Moncalieri!G7+Nichelino!G7+Orbassano!G7+Osasio!G7+Pancalieri!G7+'Piobesi Torinese'!G7+Piossasco!G7+'Rivalta di Torino'!G7+Trofarello!G7+Villastellone!G7+Vinovo!G7+'Virle Piemonte'!G7 -> 5891041.8 | H7: =+Beinasco!H7+Bruino!H7+Candiolo!H7+Carignano!H7+'Castagnole Piemonte'!H7+'La Loggia'!H7+Lombriasco!H7+Moncalieri!H7+Nichelino!H7+Orbassano!H7+Osasio!H7+Pancalieri!H7+'Piobesi Torinese'!H7+Piossasco!H7+'Rivalta di Torino'!H7+Trofarello!H7+Villastellone!H7+Vinovo!H7+'Virle Piemonte'!H7 -> 242.88 | I7: =+Beinasco!I7+Bruino!I7+Candiolo!I7+Carignano!I7+'Castagnole Piemonte'!I7+'La Loggia'!I7+Lombriasco!I7+Moncalieri!I7+Nichelino!I7+Orbassano!I7+Osasio!I7+Pancalieri!I7+'Piobesi Torinese'!I7+Piossasco!I7+'Rivalta di Torino'!I7+Trofarello!I7+Villastellone!I7+Vinovo!I7+'Virle Piemonte'!I7 -> 5891284.6 | J7: =+Beinasco!J7+Bruino!J7+Candiolo!J7+Carignano!J7+'Castagnole Piemonte'!J7+'La Loggia'!J7+Lombriasco!J7+Moncalieri!J7+Nichelino!J7+Orbassano!J7+Osasio!J7+Pancalieri!J7+'Piobesi Torinese'!J7+Piossasco!J7+'Rivalta di Torino'!J7+Trofarello!J7+Villastellone!J7+Vinovo!J7+'Virle Piemonte'!J7 -> 5891041.8 | K7: =+Beinasco!K7+Bruino!K7+Candiolo!K7+Carignano!K7+'Castagnole Piemonte'!K7+'La Loggia'!K7+Lombriasco!K7+Moncalieri!K7+Nichelino!K7+Orbassano!K7+Osasio!K7+Pancalieri!K7+'Piobesi Torinese'!K7+Piossasco!K7+'Rivalta di Torino'!K7+Trofarello!K7+Villastellone!K7+Vinovo!K7+'Virle Piemonte'!K7 -> 242.88 | ... O7: =+Beinasco!O7+Bruino!O7+Candiolo!O7+Carignano!O7+'Castagnole Piemonte'!O7+'La Loggia'!O7+Lombriasco!O7+Moncalieri!O7+Nichelino!O7+Orbassano!O7+Osasio!O7+Pancalieri!O7+'Piobesi Torinese'!O7+Piossasco!O7+'Rivalta di Torino'!O7+Trofarello!O7+Villastellone!O7+Vinovo!O7+'Virle Piemonte'!O7 -> 5891284.6
B8: Costi dell’attività di trattamento e recupero dei rifiuti urbani CTR | D8: =+Beinasco!D8+Bruino!D8+Candiolo!D8+Carignano!D8+'Castagnole Piemonte'!D8+'La Loggia'!D8+Lombriasco!D8+Moncalieri!D8+Nichelino!D8+Orbassano!D8+Osasio!D8+Pancalieri!D8+'Piobesi Torinese'!D8+Piossasco!D8+'Rivalta di Torino'!D8+Trofarello!D8+Villastellone!D8+Vinovo!D8+'Virle Piemonte'!D8 -> 3662966 | E8: =+Beinasco!E8+Bruino!E8+Candiolo!E8+Carignano!E8+'Castagnole Piemonte'!E8+'La Loggia'!E8+Lombriasco!E8+Moncalieri!E8+Nichelino!E8+Orbassano!E8+Osasio!E8+Pancalieri!E8+'Piobesi Torinese'!E8+Piossasco!E8+'Rivalta di Torino'!E8+Trofarello!E8+Villastellone!E8+Vinovo!E8+'Virle Piemonte'!E8 -> 0 | F8: =+Beinasco!F8+Bruino!F8+Candiolo!F8+Carignano!F8+'Castagnole Piemonte'!F8+'La Loggia'!F8+Lombriasco!F8+Moncalieri!F8+Nichelino!F8+Orbassano!F8+Osasio!F8+Pancalieri!F8+'Piobesi Torinese'!F8+Piossasco!F8+'Rivalta di Torino'!F8+Trofarello!F8+Villastellone!F8+Vinovo!F8+'Virle Piemonte'!F8 -> 3662966 | G8: =+Beinasco!G8+Bruino!G8+Candiolo!G8+Carignano!G8+'Castagnole Piemonte'!G8+'La Loggia'!G8+Lombriasco!G8+Moncalieri!G8+Nichelino!G8+Orbassano!G8+Osasio!G8+Pancalieri!G8+'Piobesi Torinese'!G8+Piossasco!G8+'Rivalta di Torino'!G8+Trofarello!G8+Villastellone!G8+Vinovo!G8+'Virle Piemonte'!G8 -> 3642732.3 | H8: =+Beinasco!H8+Bruino!H8+Candiolo!H8+Carignano!H8+'Castagnole Piemonte'!H8+'La Loggia'!H8+Lombriasco!H8+Moncalieri!H8+Nichelino!H8+Orbassano!H8+Osasio!H8+Pancalieri!H8+'Piobesi Torinese'!H8+Piossasco!H8+'Rivalta di Torino'!H8+Trofarello!H8+Villastellone!H8+Vinovo!H8+'Virle Piemonte'!H8 -> 0 | I8: =+Beinasco!I8+Bruino!I8+Candiolo!I8+Carignano!I8+'Castagnole Piemonte'!I8+'La Loggia'!I8+Lombriasco!I8+Moncalieri!I8+Nichelino!I8+Orbassano!I8+Osasio!I8+Pancalieri!I8+'Piobesi Torinese'!I8+Piossasco!I8+'Rivalta di Torino'!I8+Trofarello!I8+Villastellone!I8+Vinovo!I8+'Virle Piemonte'!I8 -> 3642732.3 | J8: =+Beinasco!J8+Bruino!J8+Candiolo!J8+Carignano!J8+'Castagnole Piemonte'!J8+'La Loggia'!J8+Lombriasco!J8+Moncalieri!J8+Nichelino!J8+Orbassano!J8+Osasio!J8+Pancalieri!J8+'Piobesi Torinese'!J8+Piossasco!J8+'Rivalta di Torino'!J8+Trofarello!J8+Villastellone!J8+Vinovo!J8+'Virle Piemonte'!J8 -> 3642732.3 | K8: =+Beinasco!K8+Bruino!K8+Candiolo!K8+Carignano!K8+'Castagnole Piemonte'!K8+'La Loggia'!K8+Lombriasco!K8+Moncalieri!K8+Nichelino!K8+Orbassano!K8+Osasio!K8+Pancalieri!K8+'Piobesi Torinese'!K8+Piossasco!K8+'Rivalta di Torino'!K8+Trofarello!K8+Villastellone!K8+Vinovo!K8+'Virle Piemonte'!K8 -> 0 | ... O8: =+Beinasco!O8+Bruino!O8+Candiolo!O8+Carignano!O8+'Castagnole Piemonte'!O8+'La Loggia'!O8+Lombriasco!O8+Moncalieri!O8+Nichelino!O8+Orbassano!O8+Osasio!O8+Pancalieri!O8+'Piobesi Torinese'!O8+Piossasco!O8+'Rivalta di Torino'!O8+Trofarello!O8+Villastellone!O8+Vinovo!O8+'Virle Piemonte'!O8 -> 3642732.3
B9: Costi dell’attività di raccolta e trasporto delle frazioni differenziate CRD | D9: =+Beinasco!D9+Bruino!D9+Candiolo!D9+Carignano!D9+'Castagnole Piemonte'!D9+'La Loggia'!D9+Lombriasco!D9+Moncalieri!D9+Nichelino!D9+Orbassano!D9+Osasio!D9+Pancalieri!D9+'Piobesi Torinese'!D9+Piossasco!D9+'Rivalta di Torino'!D9+Trofarello!D9+Villastellone!D9+Vinovo!D9+'Virle Piemonte'!D9 -> 12648167 | E9: =+Beinasco!E9+Bruino!E9+Candiolo!E9+Carignano!E9+'Castagnole Piemonte'!E9+'La Loggia'!E9+Lombriasco!E9+Moncalieri!E9+Nichelino!E9+Orbassano!E9+Osasio!E9+Pancalieri!E9+'Piobesi Torinese'!E9+Piossasco!E9+'Rivalta di Torino'!E9+Trofarello!E9+Villastellone!E9+Vinovo!E9+'Virle Piemonte'!E9 -> 0 | F9: =+Beinasco!F9+Bruino!F9+Candiolo!F9+Carignano!F9+'Castagnole Piemonte'!F9+'La Loggia'!F9+Lombriasco!F9+Moncalieri!F9+Nichelino!F9+Orbassano!F9+Osasio!F9+Pancalieri!F9+'Piobesi Torinese'!F9+Piossasco!F9+'Rivalta di Torino'!F9+Trofarello!F9+Villastellone!F9+Vinovo!F9+'Virle Piemonte'!F9 -> 12648167 | G9: =+Beinasco!G9+Bruino!G9+Candiolo!G9+Carignano!G9+'Castagnole Piemonte'!G9+'La Loggia'!G9+Lombriasco!G9+Moncalieri!G9+Nichelino!G9+Orbassano!G9+Osasio!G9+Pancalieri!G9+'Piobesi Torinese'!G9+Piossasco!G9+'Rivalta di Torino'!G9+Trofarello!G9+Villastellone!G9+Vinovo!G9+'Virle Piemonte'!G9 -> 13402607 | H9: =+Beinasco!H9+Bruino!H9+Candiolo!H9+Carignano!H9+'Castagnole Piemonte'!H9+'La Loggia'!H9+Lombriasco!H9+Moncalieri!H9+Nichelino!H9+Orbassano!H9+Osasio!H9+Pancalieri!H9+'Piobesi Torinese'!H9+Piossasco!H9+'Rivalta di Torino'!H9+Trofarello!H9+Villastellone!H9+Vinovo!H9+'Virle Piemonte'!H9 -> 0 | I9: =+Beinasco!I9+Bruino!I9+Candiolo!I9+Carignano!I9+'Castagnole Piemonte'!I9+'La Loggia'!I9+Lombriasco!I9+Moncalieri!I9+Nichelino!I9+Orbassano!I9+Osasio!I9+Pancalieri!I9+'Piobesi Torinese'!I9+Piossasco!I9+'Rivalta di Torino'!I9+Trofarello!I9+Villastellone!I9+Vinovo!I9+'Virle Piemonte'!I9 -> 13402607 | J9: =+Beinasco!J9+Bruino!J9+Candiolo!J9+Carignano!J9+'Castagnole Piemonte'!J9+'La Loggia'!J9+Lombriasco!J9+Moncalieri!J9+Nichelino!J9+Orbassano!J9+Osasio!J9+Pancalieri!J9+'Piobesi Torinese'!J9+Piossasco!J9+'Rivalta di Torino'!J9+Trofarello!J9+Villastellone!J9+Vinovo!J9+'Virle Piemonte'!J9 -> 13402607 | K9: =+Beinasco!K9+Bruino!K9+Candiolo!K9+Carignano!K9+'Castagnole Piemonte'!K9+'La Loggia'!K9+Lombriasco!K9+Moncalieri!K9+Nichelino!K9+Orbassano!K9+Osasio!K9+Pancalieri!K9+'Piobesi Torinese'!K9+Piossasco!K9+'Rivalta di Torino'!K9+Trofarello!K9+Villastellone!K9+Vinovo!K9+'Virle Piemonte'!K9 -> 0 | ... O9: =+Beinasco!O9+Bruino!O9+Candiolo!O9+Carignano!O9+'Castagnole Piemonte'!O9+'La Loggia'!O9+Lombriasco!O9+Moncalieri!O9+Nichelino!O9+Orbassano!O9+Osasio!O9+Pancalieri!O9+'Piobesi Torinese'!O9+Piossasco!O9+'Rivalta di Torino'!O9+Trofarello!O9+Villastellone!O9+Vinovo!O9+'Virle Piemonte'!O9 -> 13402607
B10: Costi operativi variabili previsionali di cui all'articolo 17.2 del MTR-3 CTS∆expTV | D10: =+Beinasco!D10+Bruino!D10+Candiolo!D10+Carignano!D10+'Castagnole Piemonte'!D10+'La Loggia'!D10+Lombriasco!D10+Moncalieri!D10+Nichelino!D10+Orbassano!D10+Osasio!D10+Pancalieri!D10+'Piobesi Torinese'!D10+Piossasco!D10+'Rivalta di Torino'!D10+Trofarello!D10+Villastellone!D10+Vinovo!D10+'Virle Piemonte'!D10 -> 0 | E10: =+Beinasco!E10+Bruino!E10+Candiolo!E10+Carignano!E10+'Castagnole Piemonte'!E10+'La Loggia'!E10+Lombriasco!E10+Moncalieri!E10+Nichelino!E10+Orbassano!E10+Osasio!E10+Pancalieri!E10+'Piobesi Torinese'!E10+Piossasco!E10+'Rivalta di Torino'!E10+Trofarello!E10+Villastellone!E10+Vinovo!E10+'Virle Piemonte'!E10 -> 0 | F10: =+Beinasco!F10+Bruino!F10+Candiolo!F10+Carignano!F10+'Castagnole Piemonte'!F10+'La Loggia'!F10+Lombriasco!F10+Moncalieri!F10+Nichelino!F10+Orbassano!F10+Osasio!F10+Pancalieri!F10+'Piobesi Torinese'!F10+Piossasco!F10+'Rivalta di Torino'!F10+Trofarello!F10+Villastellone!F10+Vinovo!F10+'Virle Piemonte'!F10 -> 0 | G10: =+Beinasco!G10+Bruino!G10+Candiolo!G10+Carignano!G10+'Castagnole Piemonte'!G10+'La Loggia'!G10+Lombriasco!G10+Moncalieri!G10+Nichelino!G10+Orbassano!G10+Osasio!G10+Pancalieri!G10+'Piobesi Torinese'!G10+Piossasco!G10+'Rivalta di Torino'!G10+Trofarello!G10+Villastellone!G10+Vinovo!G10+'Virle Piemonte'!G10 -> 0 | H10: =+Beinasco!H10+Bruino!H10+Candiolo!H10+Carignano!H10+'Castagnole Piemonte'!H10+'La Loggia'!H10+Lombriasco!H10+Moncalieri!H10+Nichelino!H10+Orbassano!H10+Osasio!H10+Pancalieri!H10+'Piobesi Torinese'!H10+Piossasco!H10+'Rivalta di Torino'!H10+Trofarello!H10+Villastellone!H10+Vinovo!H10+'Virle Piemonte'!H10 -> 0 | I10: =+Beinasco!I10+Bruino!I10+Candiolo!I10+Carignano!I10+'Castagnole Piemonte'!I10+'La Loggia'!I10+Lombriasco!I10+Moncalieri!I10+Nichelino!I10+Orbassano!I10+Osasio!I10+Pancalieri!I10+'Piobesi Torinese'!I10+Piossasco!I10+'Rivalta di Torino'!I10+Trofarello!I10+Villastellone!I10+Vinovo!I10+'Virle Piemonte'!I10 -> 0 | J10: =+Beinasco!J10+Bruino!J10+Candiolo!J10+Carignano!J10+'Castagnole Piemonte'!J10+'La Loggia'!J10+Lombriasco!J10+Moncalieri!J10+Nichelino!J10+Orbassano!J10+Osasio!J10+Pancalieri!J10+'Piobesi Torinese'!J10+Piossasco!J10+'Rivalta di Torino'!J10+Trofarello!J10+Villastellone!J10+Vinovo!J10+'Virle Piemonte'!J10 -> 0 | K10: =+Beinasco!K10+Bruino!K10+Candiolo!K10+Carignano!K10+'Castagnole Piemonte'!K10+'La Loggia'!K10+Lombriasco!K10+Moncalieri!K10+Nichelino!K10+Orbassano!K10+Osasio!K10+Pancalieri!K10+'Piobesi Torinese'!K10+Piossasco!K10+'Rivalta di Torino'!K10+Trofarello!K10+Villastellone!K10+Vinovo!K10+'Virle Piemonte'!K10 -> 0 | ... O10: =+Beinasco!O10+Bruino!O10+Candiolo!O10+Carignano!O10+'Castagnole Piemonte'!O10+'La Loggia'!O10+Lombriasco!O10+Moncalieri!O10+Nichelino!O10+Orbassano!O10+Osasio!O10+Pancalieri!O10+'Piobesi Torinese'!O10+Piossasco!O10+'Rivalta di Torino'!O10+Trofarello!O10+Villastellone!O10+Vinovo!O10+'Virle Piemonte'!O10 -> 0
B11: Costi operativi variabili previsionali di cui all'articolo 17.3 del MTR-3 COEXP116,TV | D11: =+Beinasco!D11+Bruino!D11+Candiolo!D11+Carignano!D11+'Castagnole Piemonte'!D11+'La Loggia'!D11+Lombriasco!D11+Moncalieri!D11+Nichelino!D11+Orbassano!D11+Osasio!D11+Pancalieri!D11+'Piobesi Torinese'!D11+Piossasco!D11+'Rivalta di Torino'!D11+Trofarello!D11+Villastellone!D11+Vinovo!D11+'Virle Piemonte'!D11 -> 0 | E11: =+Beinasco!E11+Bruino!E11+Candiolo!E11+Carignano!E11+'Castagnole Piemonte'!E11+'La Loggia'!E11+Lombriasco!E11+Moncalieri!E11+Nichelino!E11+Orbassano!E11+Osasio!E11+Pancalieri!E11+'Piobesi Torinese'!E11+Piossasco!E11+'Rivalta di Torino'!E11+Trofarello!E11+Villastellone!E11+Vinovo!E11+'Virle Piemonte'!E11 -> 0 | F11: =+Beinasco!F11+Bruino!F11+Candiolo!F11+Carignano!F11+'Castagnole Piemonte'!F11+'La Loggia'!F11+Lombriasco!F11+Moncalieri!F11+Nichelino!F11+Orbassano!F11+Osasio!F11+Pancalieri!F11+'Piobesi Torinese'!F11+Piossasco!F11+'Rivalta di Torino'!F11+Trofarello!F11+Villastellone!F11+Vinovo!F11+'Virle Piemonte'!F11 -> 0 | G11: =+Beinasco!G11+Bruino!G11+Candiolo!G11+Carignano!G11+'Castagnole Piemonte'!G11+'La Loggia'!G11+Lombriasco!G11+Moncalieri!G11+Nichelino!G11+Orbassano!G11+Osasio!G11+Pancalieri!G11+'Piobesi Torinese'!G11+Piossasco!G11+'Rivalta di Torino'!G11+Trofarello!G11+Villastellone!G11+Vinovo!G11+'Virle Piemonte'!G11 -> 0 | H11: =+Beinasco!H11+Bruino!H11+Candiolo!H11+Carignano!H11+'Castagnole Piemonte'!H11+'La Loggia'!H11+Lombriasco!H11+Moncalieri!H11+Nichelino!H11+Orbassano!H11+Osasio!H11+Pancalieri!H11+'Piobesi Torinese'!H11+Piossasco!H11+'Rivalta di Torino'!H11+Trofarello!H11+Villastellone!H11+Vinovo!H11+'Virle Piemonte'!H11 -> 0 | I11: =+Beinasco!I11+Bruino!I11+Candiolo!I11+Carignano!I11+'Castagnole Piemonte'!I11+'La Loggia'!I11+Lombriasco!I11+Moncalieri!I11+Nichelino!I11+Orbassano!I11+Osasio!I11+Pancalieri!I11+'Piobesi Torinese'!I11+Piossasco!I11+'Rivalta di Torino'!I11+Trofarello!I11+Villastellone!I11+Vinovo!I11+'Virle Piemonte'!I11 -> 0 | J11: =+Beinasco!J11+Bruino!J11+Candiolo!J11+Carignano!J11+'Castagnole Piemonte'!J11+'La Loggia'!J11+Lombriasco!J11+Moncalieri!J11+Nichelino!J11+Orbassano!J11+Osasio!J11+Pancalieri!J11+'Piobesi Torinese'!J11+Piossasco!J11+'Rivalta di Torino'!J11+Trofarello!J11+Villastellone!J11+Vinovo!J11+'Virle Piemonte'!J11 -> 0 | K11: =+Beinasco!K11+Bruino!K11+Candiolo!K11+Carignano!K11+'Castagnole Piemonte'!K11+'La Loggia'!K11+Lombriasco!K11+Moncalieri!K11+Nichelino!K11+Orbassano!K11+Osasio!K11+Pancalieri!K11+'Piobesi Torinese'!K11+Piossasco!K11+'Rivalta di Torino'!K11+Trofarello!K11+Villastellone!K11+Vinovo!K11+'Virle Piemonte'!K11 -> 0 | ... O11: =+Beinasco!O11+Bruino!O11+Candiolo!O11+Carignano!O11+'Castagnole Piemonte'!O11+'La Loggia'!O11+Lombriasco!O11+Moncalieri!O11+Nichelino!O11+Orbassano!O11+Osasio!O11+Pancalieri!O11+'Piobesi Torinese'!O11+Piossasco!O11+'Rivalta di Torino'!O11+Trofarello!O11+Villastellone!O11+Vinovo!O11+'Virle Piemonte'!O11 -> 0
B12: Costi operativi variabili previsionali di cui all'articolo 17.4 del MTR-3 CQEXPTV | D12: =+Beinasco!D12+Bruino!D12+Candiolo!D12+Carignano!D12+'Castagnole Piemonte'!D12+'La Loggia'!D12+Lombriasco!D12+Moncalieri!D12+Nichelino!D12+Orbassano!D12+Osasio!D12+Pancalieri!D12+'Piobesi Torinese'!D12+Piossasco!D12+'Rivalta di Torino'!D12+Trofarello!D12+Villastellone!D12+Vinovo!D12+'Virle Piemonte'!D12 -> 0 | E12: =+Beinasco!E12+Bruino!E12+Candiolo!E12+Carignano!E12+'Castagnole Piemonte'!E12+'La Loggia'!E12+Lombriasco!E12+Moncalieri!E12+Nichelino!E12+Orbassano!E12+Osasio!E12+Pancalieri!E12+'Piobesi Torinese'!E12+Piossasco!E12+'Rivalta di Torino'!E12+Trofarello!E12+Villastellone!E12+Vinovo!E12+'Virle Piemonte'!E12 -> 0 | F12: =+Beinasco!F12+Bruino!F12+Candiolo!F12+Carignano!F12+'Castagnole Piemonte'!F12+'La Loggia'!F12+Lombriasco!F12+Moncalieri!F12+Nichelino!F12+Orbassano!F12+Osasio!F12+Pancalieri!F12+'Piobesi Torinese'!F12+Piossasco!F12+'Rivalta di Torino'!F12+Trofarello!F12+Villastellone!F12+Vinovo!F12+'Virle Piemonte'!F12 -> 0 | G12: =+Beinasco!G12+Bruino!G12+Candiolo!G12+Carignano!G12+'Castagnole Piemonte'!G12+'La Loggia'!G12+Lombriasco!G12+Moncalieri!G12+Nichelino!G12+Orbassano!G12+Osasio!G12+Pancalieri!G12+'Piobesi Torinese'!G12+Piossasco!G12+'Rivalta di Torino'!G12+Trofarello!G12+Villastellone!G12+Vinovo!G12+'Virle Piemonte'!G12 -> 0 | H12: =+Beinasco!H12+Bruino!H12+Candiolo!H12+Carignano!H12+'Castagnole Piemonte'!H12+'La Loggia'!H12+Lombriasco!H12+Moncalieri!H12+Nichelino!H12+Orbassano!H12+Osasio!H12+Pancalieri!H12+'Piobesi Torinese'!H12+Piossasco!H12+'Rivalta di Torino'!H12+Trofarello!H12+Villastellone!H12+Vinovo!H12+'Virle Piemonte'!H12 -> 0 | I12: =+Beinasco!I12+Bruino!I12+Candiolo!I12+Carignano!I12+'Castagnole Piemonte'!I12+'La Loggia'!I12+Lombriasco!I12+Moncalieri!I12+Nichelino!I12+Orbassano!I12+Osasio!I12+Pancalieri!I12+'Piobesi Torinese'!I12+Piossasco!I12+'Rivalta di Torino'!I12+Trofarello!I12+Villastellone!I12+Vinovo!I12+'Virle Piemonte'!I12 -> 0 | J12: =+Beinasco!J12+Bruino!J12+Candiolo!J12+Carignano!J12+'Castagnole Piemonte'!J12+'La Loggia'!J12+Lombriasco!J12+Moncalieri!J12+Nichelino!J12+Orbassano!J12+Osasio!J12+Pancalieri!J12+'Piobesi Torinese'!J12+Piossasco!J12+'Rivalta di Torino'!J12+Trofarello!J12+Villastellone!J12+Vinovo!J12+'Virle Piemonte'!J12 -> 0 | K12: =+Beinasco!K12+Bruino!K12+Candiolo!K12+Carignano!K12+'Castagnole Piemonte'!K12+'La Loggia'!K12+Lombriasco!K12+Moncalieri!K12+Nichelino!K12+Orbassano!K12+Osasio!K12+Pancalieri!K12+'Piobesi Torinese'!K12+Piossasco!K12+'Rivalta di Torino'!K12+Trofarello!K12+Villastellone!K12+Vinovo!K12+'Virle Piemonte'!K12 -> 0 | ... O12: =+Beinasco!O12+Bruino!O12+Candiolo!O12+Carignano!O12+'Castagnole Piemonte'!O12+'La Loggia'!O12+Lombriasco!O12+Moncalieri!O12+Nichelino!O12+Orbassano!O12+Osasio!O12+Pancalieri!O12+'Piobesi Torinese'!O12+Piossasco!O12+'Rivalta di Torino'!O12+Trofarello!O12+Villastellone!O12+Vinovo!O12+'Virle Piemonte'!O12 -> 0
B13: Costi operativi variabili previsionali di cui all'articolo 17.5 del MTR-3 COANT,TV | D13: =+Beinasco!D13+Bruino!D13+Candiolo!D13+Carignano!D13+'Castagnole Piemonte'!D13+'La Loggia'!D13+Lombriasco!D13+Moncalieri!D13+Nichelino!D13+Orbassano!D13+Osasio!D13+Pancalieri!D13+'Piobesi Torinese'!D13+Piossasco!D13+'Rivalta di Torino'!D13+Trofarello!D13+Villastellone!D13+Vinovo!D13+'Virle Piemonte'!D13 -> 201632 | E13: =+Beinasco!E13+Bruino!E13+Candiolo!E13+Carignano!E13+'Castagnole Piemonte'!E13+'La Loggia'!E13+Lombriasco!E13+Moncalieri!E13+Nichelino!E13+Orbassano!E13+Osasio!E13+Pancalieri!E13+'Piobesi Torinese'!E13+Piossasco!E13+'Rivalta di Torino'!E13+Trofarello!E13+Villastellone!E13+Vinovo!E13+'Virle Piemonte'!E13 -> 0 | F13: =+Beinasco!F13+Bruino!F13+Candiolo!F13+Carignano!F13+'Castagnole Piemonte'!F13+'La Loggia'!F13+Lombriasco!F13+Moncalieri!F13+Nichelino!F13+Orbassano!F13+Osasio!F13+Pancalieri!F13+'Piobesi Torinese'!F13+Piossasco!F13+'Rivalta di Torino'!F13+Trofarello!F13+Villastellone!F13+Vinovo!F13+'Virle Piemonte'!F13 -> 201632 | G13: =+Beinasco!G13+Bruino!G13+Candiolo!G13+Carignano!G13+'Castagnole Piemonte'!G13+'La Loggia'!G13+Lombriasco!G13+Moncalieri!G13+Nichelino!G13+Orbassano!G13+Osasio!G13+Pancalieri!G13+'Piobesi Torinese'!G13+Piossasco!G13+'Rivalta di Torino'!G13+Trofarello!G13+Villastellone!G13+Vinovo!G13+'Virle Piemonte'!G13 -> 567693 | H13: =+Beinasco!H13+Bruino!H13+Candiolo!H13+Carignano!H13+'Castagnole Piemonte'!H13+'La Loggia'!H13+Lombriasco!H13+Moncalieri!H13+Nichelino!H13+Orbassano!H13+Osasio!H13+Pancalieri!H13+'Piobesi Torinese'!H13+Piossasco!H13+'Rivalta di Torino'!H13+Trofarello!H13+Villastellone!H13+Vinovo!H13+'Virle Piemonte'!H13 -> 0 | I13: =+Beinasco!I13+Bruino!I13+Candiolo!I13+Carignano!I13+'Castagnole Piemonte'!I13+'La Loggia'!I13+Lombriasco!I13+Moncalieri!I13+Nichelino!I13+Orbassano!I13+Osasio!I13+Pancalieri!I13+'Piobesi Torinese'!I13+Piossasco!I13+'Rivalta di Torino'!I13+Trofarello!I13+Villastellone!I13+Vinovo!I13+'Virle Piemonte'!I13 -> 567693 | J13: =+Beinasco!J13+Bruino!J13+Candiolo!J13+Carignano!J13+'Castagnole Piemonte'!J13+'La Loggia'!J13+Lombriasco!J13+Moncalieri!J13+Nichelino!J13+Orbassano!J13+Osasio!J13+Pancalieri!J13+'Piobesi Torinese'!J13+Piossasco!J13+'Rivalta di Torino'!J13+Trofarello!J13+Villastellone!J13+Vinovo!J13+'Virle Piemonte'!J13 -> 0 | K13: =+Beinasco!K13+Bruino!K13+Candiolo!K13+Carignano!K13+'Castagnole Piemonte'!K13+'La Loggia'!K13+Lombriasco!K13+Moncalieri!K13+Nichelino!K13+Orbassano!K13+Osasio!K13+Pancalieri!K13+'Piobesi Torinese'!K13+Piossasco!K13+'Rivalta di Torino'!K13+Trofarello!K13+Villastellone!K13+Vinovo!K13+'Virle Piemonte'!K13 -> 0 | ... O13: =+Beinasco!O13+Bruino!O13+Candiolo!O13+Carignano!O13+'Castagnole Piemonte'!O13+'La Loggia'!O13+Lombriasco!O13+Moncalieri!O13+Nichelino!O13+Orbassano!O13+Osasio!O13+Pancalieri!O13+'Piobesi Torinese'!O13+Piossasco!O13+'Rivalta di Torino'!O13+Trofarello!O13+Villastellone!O13+Vinovo!O13+'Virle Piemonte'!O13 -> 0
B14: Costi operativi incentivanti sistematici variabili di cui all'articolo 10 del MTR-3 COnewEXPTV | D14: =+Beinasco!D14+Bruino!D14+Candiolo!D14+Carignano!D14+'Castagnole Piemonte'!D14+'La Loggia'!D14+Lombriasco!D14+Moncalieri!D14+Nichelino!D14+Orbassano!D14+Osasio!D14+Pancalieri!D14+'Piobesi Torinese'!D14+Piossasco!D14+'Rivalta di Torino'!D14+Trofarello!D14+Villastellone!D14+Vinovo!D14+'Virle Piemonte'!D14 -> 0 | E14: =+Beinasco!E14+Bruino!E14+Candiolo!E14+Carignano!E14+'Castagnole Piemonte'!E14+'La Loggia'!E14+Lombriasco!E14+Moncalieri!E14+Nichelino!E14+Orbassano!E14+Osasio!E14+Pancalieri!E14+'Piobesi Torinese'!E14+Piossasco!E14+'Rivalta di Torino'!E14+Trofarello!E14+Villastellone!E14+Vinovo!E14+'Virle Piemonte'!E14 -> 0 | F14: =+Beinasco!F14+Bruino!F14+Candiolo!F14+Carignano!F14+'Castagnole Piemonte'!F14+'La Loggia'!F14+Lombriasco!F14+Moncalieri!F14+Nichelino!F14+Orbassano!F14+Osasio!F14+Pancalieri!F14+'Piobesi Torinese'!F14+Piossasco!F14+'Rivalta di Torino'!F14+Trofarello!F14+Villastellone!F14+Vinovo!F14+'Virle Piemonte'!F14 -> 0 | G14: =+Beinasco!G14+Bruino!G14+Candiolo!G14+Carignano!G14+'Castagnole Piemonte'!G14+'La Loggia'!G14+Lombriasco!G14+Moncalieri!G14+Nichelino!G14+Orbassano!G14+Osasio!G14+Pancalieri!G14+'Piobesi Torinese'!G14+Piossasco!G14+'Rivalta di Torino'!G14+Trofarello!G14+Villastellone!G14+Vinovo!G14+'Virle Piemonte'!G14 -> 0 | H14: =+Beinasco!H14+Bruino!H14+Candiolo!H14+Carignano!H14+'Castagnole Piemonte'!H14+'La Loggia'!H14+Lombriasco!H14+Moncalieri!H14+Nichelino!H14+Orbassano!H14+Osasio!H14+Pancalieri!H14+'Piobesi Torinese'!H14+Piossasco!H14+'Rivalta di Torino'!H14+Trofarello!H14+Villastellone!H14+Vinovo!H14+'Virle Piemonte'!H14 -> 0 | I14: =+Beinasco!I14+Bruino!I14+Candiolo!I14+Carignano!I14+'Castagnole Piemonte'!I14+'La Loggia'!I14+Lombriasco!I14+Moncalieri!I14+Nichelino!I14+Orbassano!I14+Osasio!I14+Pancalieri!I14+'Piobesi Torinese'!I14+Piossasco!I14+'Rivalta di Torino'!I14+Trofarello!I14+Villastellone!I14+Vinovo!I14+'Virle Piemonte'!I14 -> 0 | J14: =+Beinasco!J14+Bruino!J14+Candiolo!J14+Carignano!J14+'Castagnole Piemonte'!J14+'La Loggia'!J14+Lombriasco!J14+Moncalieri!J14+Nichelino!J14+Orbassano!J14+Osasio!J14+Pancalieri!J14+'Piobesi Torinese'!J14+Piossasco!J14+'Rivalta di Torino'!J14+Trofarello!J14+Villastellone!J14+Vinovo!J14+'Virle Piemonte'!J14 -> 0 | K14: =+Beinasco!K14+Bruino!K14+Candiolo!K14+Carignano!K14+'Castagnole Piemonte'!K14+'La Loggia'!K14+Lombriasco!K14+Moncalieri!K14+Nichelino!K14+Orbassano!K14+Osasio!K14+Pancalieri!K14+'Piobesi Torinese'!K14+Piossasco!K14+'Rivalta di Torino'!K14+Trofarello!K14+Villastellone!K14+Vinovo!K14+'Virle Piemonte'!K14 -> 0 | ... O14: =+Beinasco!O14+Bruino!O14+Candiolo!O14+Carignano!O14+'Castagnole Piemonte'!O14+'La Loggia'!O14+Lombriasco!O14+Moncalieri!O14+Nichelino!O14+Orbassano!O14+Osasio!O14+Pancalieri!O14+'Piobesi Torinese'!O14+Piossasco!O14+'Rivalta di Torino'!O14+Trofarello!O14+Villastellone!O14+Vinovo!O14+'Virle Piemonte'!O14 -> 0
B15: Costi operativi incentivanti non sistematici variabili di cui all'articolo 10 del MTR-3 COIEXPTV | D15: =+Beinasco!D15+Bruino!D15+Candiolo!D15+Carignano!D15+'Castagnole Piemonte'!D15+'La Loggia'!D15+Lombriasco!D15+Moncalieri!D15+Nichelino!D15+Orbassano!D15+Osasio!D15+Pancalieri!D15+'Piobesi Torinese'!D15+Piossasco!D15+'Rivalta di Torino'!D15+Trofarello!D15+Villastellone!D15+Vinovo!D15+'Virle Piemonte'!D15 -> 0 | E15: =+Beinasco!E15+Bruino!E15+Candiolo!E15+Carignano!E15+'Castagnole Piemonte'!E15+'La Loggia'!E15+Lombriasco!E15+Moncalieri!E15+Nichelino!E15+Orbassano!E15+Osasio!E15+Pancalieri!E15+'Piobesi Torinese'!E15+Piossasco!E15+'Rivalta di Torino'!E15+Trofarello!E15+Villastellone!E15+Vinovo!E15+'Virle Piemonte'!E15 -> 0 | F15: =+Beinasco!F15+Bruino!F15+Candiolo!F15+Carignano!F15+'Castagnole Piemonte'!F15+'La Loggia'!F15+Lombriasco!F15+Moncalieri!F15+Nichelino!F15+Orbassano!F15+Osasio!F15+Pancalieri!F15+'Piobesi Torinese'!F15+Piossasco!F15+'Rivalta di Torino'!F15+Trofarello!F15+Villastellone!F15+Vinovo!F15+'Virle Piemonte'!F15 -> 0 | G15: =+Beinasco!G15+Bruino!G15+Candiolo!G15+Carignano!G15+'Castagnole Piemonte'!G15+'La Loggia'!G15+Lombriasco!G15+Moncalieri!G15+Nichelino!G15+Orbassano!G15+Osasio!G15+Pancalieri!G15+'Piobesi Torinese'!G15+Piossasco!G15+'Rivalta di Torino'!G15+Trofarello!G15+Villastellone!G15+Vinovo!G15+'Virle Piemonte'!G15 -> 0 | H15: =+Beinasco!H15+Bruino!H15+Candiolo!H15+Carignano!H15+'Castagnole Piemonte'!H15+'La Loggia'!H15+Lombriasco!H15+Moncalieri!H15+Nichelino!H15+Orbassano!H15+Osasio!H15+Pancalieri!H15+'Piobesi Torinese'!H15+Piossasco!H15+'Rivalta di Torino'!H15+Trofarello!H15+Villastellone!H15+Vinovo!H15+'Virle Piemonte'!H15 -> 0 | I15: =+Beinasco!I15+Bruino!I15+Candiolo!I15+Carignano!I15+'Castagnole Piemonte'!I15+'La Loggia'!I15+Lombriasco!I15+Moncalieri!I15+Nichelino!I15+Orbassano!I15+Osasio!I15+Pancalieri!I15+'Piobesi Torinese'!I15+Piossasco!I15+'Rivalta di Torino'!I15+Trofarello!I15+Villastellone!I15+Vinovo!I15+'Virle Piemonte'!I15 -> 0 | J15: =+Beinasco!J15+Bruino!J15+Candiolo!J15+Carignano!J15+'Castagnole Piemonte'!J15+'La Loggia'!J15+Lombriasco!J15+Moncalieri!J15+Nichelino!J15+Orbassano!J15+Osasio!J15+Pancalieri!J15+'Piobesi Torinese'!J15+Piossasco!J15+'Rivalta di Torino'!J15+Trofarello!J15+Villastellone!J15+Vinovo!J15+'Virle Piemonte'!J15 -> 0 | K15: =+Beinasco!K15+Bruino!K15+Candiolo!K15+Carignano!K15+'Castagnole Piemonte'!K15+'La Loggia'!K15+Lombriasco!K15+Moncalieri!K15+Nichelino!K15+Orbassano!K15+Osasio!K15+Pancalieri!K15+'Piobesi Torinese'!K15+Piossasco!K15+'Rivalta di Torino'!K15+Trofarello!K15+Villastellone!K15+Vinovo!K15+'Virle Piemonte'!K15 -> 0 | ... O15: =+Beinasco!O15+Bruino!O15+Candiolo!O15+Carignano!O15+'Castagnole Piemonte'!O15+'La Loggia'!O15+Lombriasco!O15+Moncalieri!O15+Nichelino!O15+Orbassano!O15+Osasio!O15+Pancalieri!O15+'Piobesi Torinese'!O15+Piossasco!O15+'Rivalta di Torino'!O15+Trofarello!O15+Villastellone!O15+Vinovo!O15+'Virle Piemonte'!O15 -> 0
B16: Fattore di Sharing b
B17: Proventi della vendita di materiale ed energia derivante da rifiuti AR | D17: =+Beinasco!D17+Bruino!D17+Candiolo!D17+Carignano!D17+'Castagnole Piemonte'!D17+'La Loggia'!D17+Lombriasco!D17+Moncalieri!D17+Nichelino!D17+Orbassano!D17+Osasio!D17+Pancalieri!D17+'Piobesi Torinese'!D17+Piossasco!D17+'Rivalta di Torino'!D17+Trofarello!D17+Villastellone!D17+Vinovo!D17+'Virle Piemonte'!D17 -> 11208.361 | E17: =+Beinasco!E17+Bruino!E17+Candiolo!E17+Carignano!E17+'Castagnole Piemonte'!E17+'La Loggia'!E17+Lombriasco!E17+Moncalieri!E17+Nichelino!E17+Orbassano!E17+Osasio!E17+Pancalieri!E17+'Piobesi Torinese'!E17+Piossasco!E17+'Rivalta di Torino'!E17+Trofarello!E17+Villastellone!E17+Vinovo!E17+'Virle Piemonte'!E17 -> 0 | F17: =+Beinasco!F17+Bruino!F17+Candiolo!F17+Carignano!F17+'Castagnole Piemonte'!F17+'La Loggia'!F17+Lombriasco!F17+Moncalieri!F17+Nichelino!F17+Orbassano!F17+Osasio!F17+Pancalieri!F17+'Piobesi Torinese'!F17+Piossasco!F17+'Rivalta di Torino'!F17+Trofarello!F17+Villastellone!F17+Vinovo!F17+'Virle Piemonte'!F17 -> 11208.361 | G17: =+Beinasco!G17+Bruino!G17+Candiolo!G17+Carignano!G17+'Castagnole Piemonte'!G17+'La Loggia'!G17+Lombriasco!G17+Moncalieri!G17+Nichelino!G17+Orbassano!G17+Osasio!G17+Pancalieri!G17+'Piobesi Torinese'!G17+Piossasco!G17+'Rivalta di Torino'!G17+Trofarello!G17+Villastellone!G17+Vinovo!G17+'Virle Piemonte'!G17 -> 22050.498 | H17: =+Beinasco!H17+Bruino!H17+Candiolo!H17+Carignano!H17+'Castagnole Piemonte'!H17+'La Loggia'!H17+Lombriasco!H17+Moncalieri!H17+Nichelino!H17+Orbassano!H17+Osasio!H17+Pancalieri!H17+'Piobesi Torinese'!H17+Piossasco!H17+'Rivalta di Torino'!H17+Trofarello!H17+Villastellone!H17+Vinovo!H17+'Virle Piemonte'!H17 -> 0 | I17: =+Beinasco!I17+Bruino!I17+Candiolo!I17+Carignano!I17+'Castagnole Piemonte'!I17+'La Loggia'!I17+Lombriasco!I17+Moncalieri!I17+Nichelino!I17+Orbassano!I17+Osasio!I17+Pancalieri!I17+'Piobesi Torinese'!I17+Piossasco!I17+'Rivalta di Torino'!I17+Trofarello!I17+Villastellone!I17+Vinovo!I17+'Virle Piemonte'!I17 -> 22050.498 | J17: =+Beinasco!J17+Bruino!J17+Candiolo!J17+Carignano!J17+'Castagnole Piemonte'!J17+'La Loggia'!J17+Lombriasco!J17+Moncalieri!J17+Nichelino!J17+Orbassano!J17+Osasio!J17+Pancalieri!J17+'Piobesi Torinese'!J17+Piossasco!J17+'Rivalta di Torino'!J17+Trofarello!J17+Villastellone!J17+Vinovo!J17+'Virle Piemonte'!J17 -> 22050.498 | K17: =+Beinasco!K17+Bruino!K17+Candiolo!K17+Carignano!K17+'Castagnole Piemonte'!K17+'La Loggia'!K17+Lombriasco!K17+Moncalieri!K17+Nichelino!K17+Orbassano!K17+Osasio!K17+Pancalieri!K17+'Piobesi Torinese'!K17+Piossasco!K17+'Rivalta di Torino'!K17+Trofarello!K17+Villastellone!K17+Vinovo!K17+'Virle Piemonte'!K17 -> 0 | ... O17: =+Beinasco!O17+Bruino!O17+Candiolo!O17+Carignano!O17+'Castagnole Piemonte'!O17+'La Loggia'!O17+Lombriasco!O17+Moncalieri!O17+Nichelino!O17+Orbassano!O17+Osasio!O17+Pancalieri!O17+'Piobesi Torinese'!O17+Piossasco!O17+'Rivalta di Torino'!O17+Trofarello!O17+Villastellone!O17+Vinovo!O17+'Virle Piemonte'!O17 -> 22050.498
B18: Ricavi derivanti dai corrispettivi riconosciuti dai sistemi collettivi di compliance ARsc | D18: =+Beinasco!D18+Bruino!D18+Candiolo!D18+Carignano!D18+'Castagnole Piemonte'!D18+'La Loggia'!D18+Lombriasco!D18+Moncalieri!D18+Nichelino!D18+Orbassano!D18+Osasio!D18+Pancalieri!D18+'Piobesi Torinese'!D18+Piossasco!D18+'Rivalta di Torino'!D18+Trofarello!D18+Villastellone!D18+Vinovo!D18+'Virle Piemonte'!D18 -> 3780154.3 | E18: =+Beinasco!E18+Bruino!E18+Candiolo!E18+Carignano!E18+'Castagnole Piemonte'!E18+'La Loggia'!E18+Lombriasco!E18+Moncalieri!E18+Nichelino!E18+Orbassano!E18+Osasio!E18+Pancalieri!E18+'Piobesi Torinese'!E18+Piossasco!E18+'Rivalta di Torino'!E18+Trofarello!E18+Villastellone!E18+Vinovo!E18+'Virle Piemonte'!E18 -> 0 | F18: =+Beinasco!F18+Bruino!F18+Candiolo!F18+Carignano!F18+'Castagnole Piemonte'!F18+'La Loggia'!F18+Lombriasco!F18+Moncalieri!F18+Nichelino!F18+Orbassano!F18+Osasio!F18+Pancalieri!F18+'Piobesi Torinese'!F18+Piossasco!F18+'Rivalta di Torino'!F18+Trofarello!F18+Villastellone!F18+Vinovo!F18+'Virle Piemonte'!F18 -> 3780154.3 | G18: =+Beinasco!G18+Bruino!G18+Candiolo!G18+Carignano!G18+'Castagnole Piemonte'!G18+'La Loggia'!G18+Lombriasco!G18+Moncalieri!G18+Nichelino!G18+Orbassano!G18+Osasio!G18+Pancalieri!G18+'Piobesi Torinese'!G18+Piossasco!G18+'Rivalta di Torino'!G18+Trofarello!G18+Villastellone!G18+Vinovo!G18+'Virle Piemonte'!G18 -> 3939788.6 | H18: =+Beinasco!H18+Bruino!H18+Candiolo!H18+Carignano!H18+'Castagnole Piemonte'!H18+'La Loggia'!H18+Lombriasco!H18+Moncalieri!H18+Nichelino!H18+Orbassano!H18+Osasio!H18+Pancalieri!H18+'Piobesi Torinese'!H18+Piossasco!H18+'Rivalta di Torino'!H18+Trofarello!H18+Villastellone!H18+Vinovo!H18+'Virle Piemonte'!H18 -> 0 | I18: =+Beinasco!I18+Bruino!I18+Candiolo!I18+Carignano!I18+'Castagnole Piemonte'!I18+'La Loggia'!I18+Lombriasco!I18+Moncalieri!I18+Nichelino!I18+Orbassano!I18+Osasio!I18+Pancalieri!I18+'Piobesi Torinese'!I18+Piossasco!I18+'Rivalta di Torino'!I18+Trofarello!I18+Villastellone!I18+Vinovo!I18+'Virle Piemonte'!I18 -> 3939788.6 | J18: =+Beinasco!J18+Bruino!J18+Candiolo!J18+Carignano!J18+'Castagnole Piemonte'!J18+'La Loggia'!J18+Lombriasco!J18+Moncalieri!J18+Nichelino!J18+Orbassano!J18+Osasio!J18+Pancalieri!J18+'Piobesi Torinese'!J18+Piossasco!J18+'Rivalta di Torino'!J18+Trofarello!J18+Villastellone!J18+Vinovo!J18+'Virle Piemonte'!J18 -> 3939788.6 | K18: =+Beinasco!K18+Bruino!K18+Candiolo!K18+Carignano!K18+'Castagnole Piemonte'!K18+'La Loggia'!K18+Lombriasco!K18+Moncalieri!K18+Nichelino!K18+Orbassano!K18+Osasio!K18+Pancalieri!K18+'Piobesi Torinese'!K18+Piossasco!K18+'Rivalta di Torino'!K18+Trofarello!K18+Villastellone!K18+Vinovo!K18+'Virle Piemonte'!K18 -> 0 | ... O18: =+Beinasco!O18+Bruino!O18+Candiolo!O18+Carignano!O18+'Castagnole Piemonte'!O18+'La Loggia'!O18+Lombriasco!O18+Moncalieri!O18+Nichelino!O18+Orbassano!O18+Osasio!O18+Pancalieri!O18+'Piobesi Torinese'!O18+Piossasco!O18+'Rivalta di Torino'!O18+Trofarello!O18+Villastellone!O18+Vinovo!O18+'Virle Piemonte'!O18 -> 3939788.6
B19: Ricavi derivanti dai corrispettivi riconosciuti dal dai sistemi collettivi di compliance dopo sharing b(ARa + ARsc,a) | D19: =+Beinasco!D19+Bruino!D19+Candiolo!D19+Carignano!D19+'Castagnole Piemonte'!D19+'La Loggia'!D19+Lombriasco!D19+Moncalieri!D19+Nichelino!D19+Orbassano!D19+Osasio!D19+Pancalieri!D19+'Piobesi Torinese'!D19+Piossasco!D19+'Rivalta di Torino'!D19+Trofarello!D19+Villastellone!D19+Vinovo!D19+'Virle Piemonte'!D19 -> 1014008.3 | E19: =+Beinasco!E19+Bruino!E19+Candiolo!E19+Carignano!E19+'Castagnole Piemonte'!E19+'La Loggia'!E19+Lombriasco!E19+Moncalieri!E19+Nichelino!E19+Orbassano!E19+Osasio!E19+Pancalieri!E19+'Piobesi Torinese'!E19+Piossasco!E19+'Rivalta di Torino'!E19+Trofarello!E19+Villastellone!E19+Vinovo!E19+'Virle Piemonte'!E19 -> 0 | F19: =+Beinasco!F19+Bruino!F19+Candiolo!F19+Carignano!F19+'Castagnole Piemonte'!F19+'La Loggia'!F19+Lombriasco!F19+Moncalieri!F19+Nichelino!F19+Orbassano!F19+Osasio!F19+Pancalieri!F19+'Piobesi Torinese'!F19+Piossasco!F19+'Rivalta di Torino'!F19+Trofarello!F19+Villastellone!F19+Vinovo!F19+'Virle Piemonte'!F19 -> 1014008.3 | G19: =+Beinasco!G19+Bruino!G19+Candiolo!G19+Carignano!G19+'Castagnole Piemonte'!G19+'La Loggia'!G19+Lombriasco!G19+Moncalieri!G19+Nichelino!G19+Orbassano!G19+Osasio!G19+Pancalieri!G19+'Piobesi Torinese'!G19+Piossasco!G19+'Rivalta di Torino'!G19+Trofarello!G19+Villastellone!G19+Vinovo!G19+'Virle Piemonte'!G19 -> 1059602.6 | H19: =+Beinasco!H19+Bruino!H19+Candiolo!H19+Carignano!H19+'Castagnole Piemonte'!H19+'La Loggia'!H19+Lombriasco!H19+Moncalieri!H19+Nichelino!H19+Orbassano!H19+Osasio!H19+Pancalieri!H19+'Piobesi Torinese'!H19+Piossasco!H19+'Rivalta di Torino'!H19+Trofarello!H19+Villastellone!H19+Vinovo!H19+'Virle Piemonte'!H19 -> 0 | I19: =+Beinasco!I19+Bruino!I19+Candiolo!I19+Carignano!I19+'Castagnole Piemonte'!I19+'La Loggia'!I19+Lombriasco!I19+Moncalieri!I19+Nichelino!I19+Orbassano!I19+Osasio!I19+Pancalieri!I19+'Piobesi Torinese'!I19+Piossasco!I19+'Rivalta di Torino'!I19+Trofarello!I19+Villastellone!I19+Vinovo!I19+'Virle Piemonte'!I19 -> 1059602.6 | J19: =+Beinasco!J19+Bruino!J19+Candiolo!J19+Carignano!J19+'Castagnole Piemonte'!J19+'La Loggia'!J19+Lombriasco!J19+Moncalieri!J19+Nichelino!J19+Orbassano!J19+Osasio!J19+Pancalieri!J19+'Piobesi Torinese'!J19+Piossasco!J19+'Rivalta di Torino'!J19+Trofarello!J19+Villastellone!J19+Vinovo!J19+'Virle Piemonte'!J19 -> 1059602.6 | K19: =+Beinasco!K19+Bruino!K19+Candiolo!K19+Carignano!K19+'Castagnole Piemonte'!K19+'La Loggia'!K19+Lombriasco!K19+Moncalieri!K19+Nichelino!K19+Orbassano!K19+Osasio!K19+Pancalieri!K19+'Piobesi Torinese'!K19+Piossasco!K19+'Rivalta di Torino'!K19+Trofarello!K19+Villastellone!K19+Vinovo!K19+'Virle Piemonte'!K19 -> 0 | ... O19: =+Beinasco!O19+Bruino!O19+Candiolo!O19+Carignano!O19+'Castagnole Piemonte'!O19+'La Loggia'!O19+Lombriasco!O19+Moncalieri!O19+Nichelino!O19+Orbassano!O19+Osasio!O19+Pancalieri!O19+'Piobesi Torinese'!O19+Piossasco!O19+'Rivalta di Torino'!O19+Trofarello!O19+Villastellone!O19+Vinovo!O19+'Virle Piemonte'!O19 -> 1059602.6
B20: Componente a conguaglio relativa ai costi variabili RCtotTV | D20: =+Beinasco!D20+Bruino!D20+Candiolo!D20+Carignano!D20+'Castagnole Piemonte'!D20+'La Loggia'!D20+Lombriasco!D20+Moncalieri!D20+Nichelino!D20+Orbassano!D20+Osasio!D20+Pancalieri!D20+'Piobesi Torinese'!D20+Piossasco!D20+'Rivalta di Torino'!D20+Trofarello!D20+Villastellone!D20+Vinovo!D20+'Virle Piemonte'!D20 -> 0 | E20: =+Beinasco!E20+Bruino!E20+Candiolo!E20+Carignano!E20+'Castagnole Piemonte'!E20+'La Loggia'!E20+Lombriasco!E20+Moncalieri!E20+Nichelino!E20+Orbassano!E20+Osasio!E20+Pancalieri!E20+'Piobesi Torinese'!E20+Piossasco!E20+'Rivalta di Torino'!E20+Trofarello!E20+Villastellone!E20+Vinovo!E20+'Virle Piemonte'!E20 -> 0 | F20: =+Beinasco!F20+Bruino!F20+Candiolo!F20+Carignano!F20+'Castagnole Piemonte'!F20+'La Loggia'!F20+Lombriasco!F20+Moncalieri!F20+Nichelino!F20+Orbassano!F20+Osasio!F20+Pancalieri!F20+'Piobesi Torinese'!F20+Piossasco!F20+'Rivalta di Torino'!F20+Trofarello!F20+Villastellone!F20+Vinovo!F20+'Virle Piemonte'!F20 -> 0 | G20: =+Beinasco!G20+Bruino!G20+Candiolo!G20+Carignano!G20+'Castagnole Piemonte'!G20+'La Loggia'!G20+Lombriasco!G20+Moncalieri!G20+Nichelino!G20+Orbassano!G20+Osasio!G20+Pancalieri!G20+'Piobesi Torinese'!G20+Piossasco!G20+'Rivalta di Torino'!G20+Trofarello!G20+Villastellone!G20+Vinovo!G20+'Virle Piemonte'!G20 -> 0 | H20: =+Beinasco!H20+Bruino!H20+Candiolo!H20+Carignano!H20+'Castagnole Piemonte'!H20+'La Loggia'!H20+Lombriasco!H20+Moncalieri!H20+Nichelino!H20+Orbassano!H20+Osasio!H20+Pancalieri!H20+'Piobesi Torinese'!H20+Piossasco!H20+'Rivalta di Torino'!H20+Trofarello!H20+Villastellone!H20+Vinovo!H20+'Virle Piemonte'!H20 -> 0 | I20: =+Beinasco!I20+Bruino!I20+Candiolo!I20+Carignano!I20+'Castagnole Piemonte'!I20+'La Loggia'!I20+Lombriasco!I20+Moncalieri!I20+Nichelino!I20+Orbassano!I20+Osasio!I20+Pancalieri!I20+'Piobesi Torinese'!I20+Piossasco!I20+'Rivalta di Torino'!I20+Trofarello!I20+Villastellone!I20+Vinovo!I20+'Virle Piemonte'!I20 -> 0 | J20: =+Beinasco!J20+Bruino!J20+Candiolo!J20+Carignano!J20+'Castagnole Piemonte'!J20+'La Loggia'!J20+Lombriasco!J20+Moncalieri!J20+Nichelino!J20+Orbassano!J20+Osasio!J20+Pancalieri!J20+'Piobesi Torinese'!J20+Piossasco!J20+'Rivalta di Torino'!J20+Trofarello!J20+Villastellone!J20+Vinovo!J20+'Virle Piemonte'!J20 -> 0 | K20: =+Beinasco!K20+Bruino!K20+Candiolo!K20+Carignano!K20+'Castagnole Piemonte'!K20+'La Loggia'!K20+Lombriasco!K20+Moncalieri!K20+Nichelino!K20+Orbassano!K20+Osasio!K20+Pancalieri!K20+'Piobesi Torinese'!K20+Piossasco!K20+'Rivalta di Torino'!K20+Trofarello!K20+Villastellone!K20+Vinovo!K20+'Virle Piemonte'!K20 -> 0 | ... O20: =+Beinasco!O20+Bruino!O20+Candiolo!O20+Carignano!O20+'Castagnole Piemonte'!O20+'La Loggia'!O20+Lombriasco!O20+Moncalieri!O20+Nichelino!O20+Orbassano!O20+Osasio!O20+Pancalieri!O20+'Piobesi Torinese'!O20+Piossasco!O20+'Rivalta di Torino'!O20+Trofarello!O20+Villastellone!O20+Vinovo!O20+'Virle Piemonte'!O20 -> 0
B21: di cui quote pregresse recuperate nell'anno a - quota variabile RC∆(T-Tmax)pre,TV,a | D21: =+Beinasco!D21+Bruino!D21+Candiolo!D21+Carignano!D21+'Castagnole Piemonte'!D21+'La Loggia'!D21+Lombriasco!D21+Moncalieri!D21+Nichelino!D21+Orbassano!D21+Osasio!D21+Pancalieri!D21+'Piobesi Torinese'!D21+Piossasco!D21+'Rivalta di Torino'!D21+Trofarello!D21+Villastellone!D21+Vinovo!D21+'Virle Piemonte'!D21 -> 0 | E21: =+Beinasco!E21+Bruino!E21+Candiolo!E21+Carignano!E21+'Castagnole Piemonte'!E21+'La Loggia'!E21+Lombriasco!E21+Moncalieri!E21+Nichelino!E21+Orbassano!E21+Osasio!E21+Pancalieri!E21+'Piobesi Torinese'!E21+Piossasco!E21+'Rivalta di Torino'!E21+Trofarello!E21+Villastellone!E21+Vinovo!E21+'Virle Piemonte'!E21 -> 0 | F21: =+Beinasco!F21+Bruino!F21+Candiolo!F21+Carignano!F21+'Castagnole Piemonte'!F21+'La Loggia'!F21+Lombriasco!F21+Moncalieri!F21+Nichelino!F21+Orbassano!F21+Osasio!F21+Pancalieri!F21+'Piobesi Torinese'!F21+Piossasco!F21+'Rivalta di Torino'!F21+Trofarello!F21+Villastellone!F21+Vinovo!F21+'Virle Piemonte'!F21 -> 0 | G21: =+Beinasco!G21+Bruino!G21+Candiolo!G21+Carignano!G21+'Castagnole Piemonte'!G21+'La Loggia'!G21+Lombriasco!G21+Moncalieri!G21+Nichelino!G21+Orbassano!G21+Osasio!G21+Pancalieri!G21+'Piobesi Torinese'!G21+Piossasco!G21+'Rivalta di Torino'!G21+Trofarello!G21+Villastellone!G21+Vinovo!G21+'Virle Piemonte'!G21 -> 0 | H21: =+Beinasco!H21+Bruino!H21+Candiolo!H21+Carignano!H21+'Castagnole Piemonte'!H21+'La Loggia'!H21+Lombriasco!H21+Moncalieri!H21+Nichelino!H21+Orbassano!H21+Osasio!H21+Pancalieri!H21+'Piobesi Torinese'!H21+Piossasco!H21+'Rivalta di Torino'!H21+Trofarello!H21+Villastellone!H21+Vinovo!H21+'Virle Piemonte'!H21 -> 0 | I21: =+Beinasco!I21+Bruino!I21+Candiolo!I21+Carignano!I21+'Castagnole Piemonte'!I21+'La Loggia'!I21+Lombriasco!I21+Moncalieri!I21+Nichelino!I21+Orbassano!I21+Osasio!I21+Pancalieri!I21+'Piobesi Torinese'!I21+Piossasco!I21+'Rivalta di Torino'!I21+Trofarello!I21+Villastellone!I21+Vinovo!I21+'Virle Piemonte'!I21 -> 0 | J21: =+Beinasco!J21+Bruino!J21+Candiolo!J21+Carignano!J21+'Castagnole Piemonte'!J21+'La Loggia'!J21+Lombriasco!J21+Moncalieri!J21+Nichelino!J21+Orbassano!J21+Osasio!J21+Pancalieri!J21+'Piobesi Torinese'!J21+Piossasco!J21+'Rivalta di Torino'!J21+Trofarello!J21+Villastellone!J21+Vinovo!J21+'Virle Piemonte'!J21 -> 0 | K21: =+Beinasco!K21+Bruino!K21+Candiolo!K21+Carignano!K21+'Castagnole Piemonte'!K21+'La Loggia'!K21+Lombriasco!K21+Moncalieri!K21+Nichelino!K21+Orbassano!K21+Osasio!K21+Pancalieri!K21+'Piobesi Torinese'!K21+Piossasco!K21+'Rivalta di Torino'!K21+Trofarello!K21+Villastellone!K21+Vinovo!K21+'Virle Piemonte'!K21 -> 0 | ... O21: =+Beinasco!O21+Bruino!O21+Candiolo!O21+Carignano!O21+'Castagnole Piemonte'!O21+'La Loggia'!O21+Lombriasco!O21+Moncalieri!O21+Nichelino!O21+Orbassano!O21+Osasio!O21+Pancalieri!O21+'Piobesi Torinese'!O21+Piossasco!O21+'Rivalta di Torino'!O21+Trofarello!O21+Villastellone!O21+Vinovo!O21+'Virle Piemonte'!O21 -> 0
B22: Oneri relativi all'IVA indetraibile - PARTE VARIABILE | D22: =+Beinasco!D22+Bruino!D22+Candiolo!D22+Carignano!D22+'Castagnole Piemonte'!D22+'La Loggia'!D22+Lombriasco!D22+Moncalieri!D22+Nichelino!D22+Orbassano!D22+Osasio!D22+Pancalieri!D22+'Piobesi Torinese'!D22+Piossasco!D22+'Rivalta di Torino'!D22+Trofarello!D22+Villastellone!D22+Vinovo!D22+'Virle Piemonte'!D22 -> 0 | E22: =+Beinasco!E22+Bruino!E22+Candiolo!E22+Carignano!E22+'Castagnole Piemonte'!E22+'La Loggia'!E22+Lombriasco!E22+Moncalieri!E22+Nichelino!E22+Orbassano!E22+Osasio!E22+Pancalieri!E22+'Piobesi Torinese'!E22+Piossasco!E22+'Rivalta di Torino'!E22+Trofarello!E22+Villastellone!E22+Vinovo!E22+'Virle Piemonte'!E22 -> 2179425.7 | F22: =+Beinasco!F22+Bruino!F22+Candiolo!F22+Carignano!F22+'Castagnole Piemonte'!F22+'La Loggia'!F22+Lombriasco!F22+Moncalieri!F22+Nichelino!F22+Orbassano!F22+Osasio!F22+Pancalieri!F22+'Piobesi Torinese'!F22+Piossasco!F22+'Rivalta di Torino'!F22+Trofarello!F22+Villastellone!F22+Vinovo!F22+'Virle Piemonte'!F22 -> 2179425.7 | G22: =+Beinasco!G22+Bruino!G22+Candiolo!G22+Carignano!G22+'Castagnole Piemonte'!G22+'La Loggia'!G22+Lombriasco!G22+Moncalieri!G22+Nichelino!G22+Orbassano!G22+Osasio!G22+Pancalieri!G22+'Piobesi Torinese'!G22+Piossasco!G22+'Rivalta di Torino'!G22+Trofarello!G22+Villastellone!G22+Vinovo!G22+'Virle Piemonte'!G22 -> 0 | H22: =+Beinasco!H22+Bruino!H22+Candiolo!H22+Carignano!H22+'Castagnole Piemonte'!H22+'La Loggia'!H22+Lombriasco!H22+Moncalieri!H22+Nichelino!H22+Orbassano!H22+Osasio!H22+Pancalieri!H22+'Piobesi Torinese'!H22+Piossasco!H22+'Rivalta di Torino'!H22+Trofarello!H22+Villastellone!H22+Vinovo!H22+'Virle Piemonte'!H22 -> 2324207.6 | I22: =+Beinasco!I22+Bruino!I22+Candiolo!I22+Carignano!I22+'Castagnole Piemonte'!I22+'La Loggia'!I22+Lombriasco!I22+Moncalieri!I22+Nichelino!I22+Orbassano!I22+Osasio!I22+Pancalieri!I22+'Piobesi Torinese'!I22+Piossasco!I22+'Rivalta di Torino'!I22+Trofarello!I22+Villastellone!I22+Vinovo!I22+'Virle Piemonte'!I22 -> 2324207.6 | J22: =+Beinasco!J22+Bruino!J22+Candiolo!J22+Carignano!J22+'Castagnole Piemonte'!J22+'La Loggia'!J22+Lombriasco!J22+Moncalieri!J22+Nichelino!J22+Orbassano!J22+Osasio!J22+Pancalieri!J22+'Piobesi Torinese'!J22+Piossasco!J22+'Rivalta di Torino'!J22+Trofarello!J22+Villastellone!J22+Vinovo!J22+'Virle Piemonte'!J22 -> 0 | K22: =+Beinasco!K22+Bruino!K22+Candiolo!K22+Carignano!K22+'Castagnole Piemonte'!K22+'La Loggia'!K22+Lombriasco!K22+Moncalieri!K22+Nichelino!K22+Orbassano!K22+Osasio!K22+Pancalieri!K22+'Piobesi Torinese'!K22+Piossasco!K22+'Rivalta di Torino'!K22+Trofarello!K22+Villastellone!K22+Vinovo!K22+'Virle Piemonte'!K22 -> 2267438.3 | ... O22: =+Beinasco!O22+Bruino!O22+Candiolo!O22+Carignano!O22+'Castagnole Piemonte'!O22+'La Loggia'!O22+Lombriasco!O22+Moncalieri!O22+Nichelino!O22+Orbassano!O22+Osasio!O22+Pancalieri!O22+'Piobesi Torinese'!O22+Piossasco!O22+'Rivalta di Torino'!O22+Trofarello!O22+Villastellone!O22+Vinovo!O22+'Virle Piemonte'!O22 -> 2267438.3
B23: ∑TVa totale delle entrate tariffarie relative alle componenti di costo variabile dopo le detrazioni di cui al. Art, 4.5 Del. 397/2025/R/Rif | D23: =+Beinasco!D23+Bruino!D23+Candiolo!D23+Carignano!D23+'Castagnole Piemonte'!D23+'La Loggia'!D23+Lombriasco!D23+Moncalieri!D23+Nichelino!D23+Orbassano!D23+Osasio!D23+Pancalieri!D23+'Piobesi Torinese'!D23+Piossasco!D23+'Rivalta di Torino'!D23+Trofarello!D23+Villastellone!D23+Vinovo!D23+'Virle Piemonte'!D23 -> 25091445 | E23: =+Beinasco!E23+Bruino!E23+Candiolo!E23+Carignano!E23+'Castagnole Piemonte'!E23+'La Loggia'!E23+Lombriasco!E23+Moncalieri!E23+Nichelino!E23+Orbassano!E23+Osasio!E23+Pancalieri!E23+'Piobesi Torinese'!E23+Piossasco!E23+'Rivalta di Torino'!E23+Trofarello!E23+Villastellone!E23+Vinovo!E23+'Virle Piemonte'!E23 -> 2179673.5 | F23: =+Beinasco!F23+Bruino!F23+Candiolo!F23+Carignano!F23+'Castagnole Piemonte'!F23+'La Loggia'!F23+Lombriasco!F23+Moncalieri!F23+Nichelino!F23+Orbassano!F23+Osasio!F23+Pancalieri!F23+'Piobesi Torinese'!F23+Piossasco!F23+'Rivalta di Torino'!F23+Trofarello!F23+Villastellone!F23+Vinovo!F23+'Virle Piemonte'!F23 -> 27271118 | G23: =+Beinasco!G23+Bruino!G23+Candiolo!G23+Carignano!G23+'Castagnole Piemonte'!G23+'La Loggia'!G23+Lombriasco!G23+Moncalieri!G23+Nichelino!G23+Orbassano!G23+Osasio!G23+Pancalieri!G23+'Piobesi Torinese'!G23+Piossasco!G23+'Rivalta di Torino'!G23+Trofarello!G23+Villastellone!G23+Vinovo!G23+'Virle Piemonte'!G23 -> 26539274 | H23: =+Beinasco!H23+Bruino!H23+Candiolo!H23+Carignano!H23+'Castagnole Piemonte'!H23+'La Loggia'!H23+Lombriasco!H23+Moncalieri!H23+Nichelino!H23+Orbassano!H23+Osasio!H23+Pancalieri!H23+'Piobesi Torinese'!H23+Piossasco!H23+'Rivalta di Torino'!H23+Trofarello!H23+Villastellone!H23+Vinovo!H23+'Virle Piemonte'!H23 -> 2324450.5 | I23: =+Beinasco!I23+Bruino!I23+Candiolo!I23+Carignano!I23+'Castagnole Piemonte'!I23+'La Loggia'!I23+Lombriasco!I23+Moncalieri!I23+Nichelino!I23+Orbassano!I23+Osasio!I23+Pancalieri!I23+'Piobesi Torinese'!I23+Piossasco!I23+'Rivalta di Torino'!I23+Trofarello!I23+Villastellone!I23+Vinovo!I23+'Virle Piemonte'!I23 -> 28863725 | J23: =+Beinasco!J23+Bruino!J23+Candiolo!J23+Carignano!J23+'Castagnole Piemonte'!J23+'La Loggia'!J23+Lombriasco!J23+Moncalieri!J23+Nichelino!J23+Orbassano!J23+Osasio!J23+Pancalieri!J23+'Piobesi Torinese'!J23+Piossasco!J23+'Rivalta di Torino'!J23+Trofarello!J23+Villastellone!J23+Vinovo!J23+'Virle Piemonte'!J23 -> 25971581 | K23: =+Beinasco!K23+Bruino!K23+Candiolo!K23+Carignano!K23+'Castagnole Piemonte'!K23+'La Loggia'!K23+Lombriasco!K23+Moncalieri!K23+Nichelino!K23+Orbassano!K23+Osasio!K23+Pancalieri!K23+'Piobesi Torinese'!K23+Piossasco!K23+'Rivalta di Torino'!K23+Trofarello!K23+Villastellone!K23+Vinovo!K23+'Virle Piemonte'!K23 -> 2267681.2 | ... O23: =+Beinasco!O23+Bruino!O23+Candiolo!O23+Carignano!O23+'Castagnole Piemonte'!O23+'La Loggia'!O23+Lombriasco!O23+Moncalieri!O23+Nichelino!O23+Orbassano!O23+Osasio!O23+Pancalieri!O23+'Piobesi Torinese'!O23+Piossasco!O23+'Rivalta di Torino'!O23+Trofarello!O23+Villastellone!O23+Vinovo!O23+'Virle Piemonte'!O23 -> 28239262
B25: Costi dell’attività di spazzamento e di lavaggio CSL | D25: =+Beinasco!D25+Bruino!D25+Candiolo!D25+Carignano!D25+'Castagnole Piemonte'!D25+'La Loggia'!D25+Lombriasco!D25+Moncalieri!D25+Nichelino!D25+Orbassano!D25+Osasio!D25+Pancalieri!D25+'Piobesi Torinese'!D25+Piossasco!D25+'Rivalta di Torino'!D25+Trofarello!D25+Villastellone!D25+Vinovo!D25+'Virle Piemonte'!D25 -> 5189985.7 | E25: =+Beinasco!E25+Bruino!E25+Candiolo!E25+Carignano!E25+'Castagnole Piemonte'!E25+'La Loggia'!E25+Lombriasco!E25+Moncalieri!E25+Nichelino!E25+Orbassano!E25+Osasio!E25+Pancalieri!E25+'Piobesi Torinese'!E25+Piossasco!E25+'Rivalta di Torino'!E25+Trofarello!E25+Villastellone!E25+Vinovo!E25+'Virle Piemonte'!E25 -> 59163.094 | F25: =+Beinasco!F25+Bruino!F25+Candiolo!F25+Carignano!F25+'Castagnole Piemonte'!F25+'La Loggia'!F25+Lombriasco!F25+Moncalieri!F25+Nichelino!F25+Orbassano!F25+Osasio!F25+Pancalieri!F25+'Piobesi Torinese'!F25+Piossasco!F25+'Rivalta di Torino'!F25+Trofarello!F25+Villastellone!F25+Vinovo!F25+'Virle Piemonte'!F25 -> 5249148.8 | G25: =+Beinasco!G25+Bruino!G25+Candiolo!G25+Carignano!G25+'Castagnole Piemonte'!G25+'La Loggia'!G25+Lombriasco!G25+Moncalieri!G25+Nichelino!G25+Orbassano!G25+Osasio!G25+Pancalieri!G25+'Piobesi Torinese'!G25+Piossasco!G25+'Rivalta di Torino'!G25+Trofarello!G25+Villastellone!G25+Vinovo!G25+'Virle Piemonte'!G25 -> 5172524.6 | H25: =+Beinasco!H25+Bruino!H25+Candiolo!H25+Carignano!H25+'Castagnole Piemonte'!H25+'La Loggia'!H25+Lombriasco!H25+Moncalieri!H25+Nichelino!H25+Orbassano!H25+Osasio!H25+Pancalieri!H25+'Piobesi Torinese'!H25+Piossasco!H25+'Rivalta di Torino'!H25+Trofarello!H25+Villastellone!H25+Vinovo!H25+'Virle Piemonte'!H25 -> 58003.033 | I25: =+Beinasco!I25+Bruino!I25+Candiolo!I25+Carignano!I25+'Castagnole Piemonte'!I25+'La Loggia'!I25+Lombriasco!I25+Moncalieri!I25+Nichelino!I25+Orbassano!I25+Osasio!I25+Pancalieri!I25+'Piobesi Torinese'!I25+Piossasco!I25+'Rivalta di Torino'!I25+Trofarello!I25+Villastellone!I25+Vinovo!I25+'Virle Piemonte'!I25 -> 5230527.7 | J25: =+Beinasco!J25+Bruino!J25+Candiolo!J25+Carignano!J25+'Castagnole Piemonte'!J25+'La Loggia'!J25+Lombriasco!J25+Moncalieri!J25+Nichelino!J25+Orbassano!J25+Osasio!J25+Pancalieri!J25+'Piobesi Torinese'!J25+Piossasco!J25+'Rivalta di Torino'!J25+Trofarello!J25+Villastellone!J25+Vinovo!J25+'Virle Piemonte'!J25 -> 5172524.6 | K25: =+Beinasco!K25+Bruino!K25+Candiolo!K25+Carignano!K25+'Castagnole Piemonte'!K25+'La Loggia'!K25+Lombriasco!K25+Moncalieri!K25+Nichelino!K25+Orbassano!K25+Osasio!K25+Pancalieri!K25+'Piobesi Torinese'!K25+Piossasco!K25+'Rivalta di Torino'!K25+Trofarello!K25+Villastellone!K25+Vinovo!K25+'Virle Piemonte'!K25 -> 58003.033 | ... O25: =+Beinasco!O25+Bruino!O25+Candiolo!O25+Carignano!O25+'Castagnole Piemonte'!O25+'La Loggia'!O25+Lombriasco!O25+Moncalieri!O25+Nichelino!O25+Orbassano!O25+Osasio!O25+Pancalieri!O25+'Piobesi Torinese'!O25+Piossasco!O25+'Rivalta di Torino'!O25+Trofarello!O25+Villastellone!O25+Vinovo!O25+'Virle Piemonte'!O25 -> 5230527.7
B26: Costi per l’attività di gestione delle tariffe e dei rapporti con gli utenti CARC | D26: =+Beinasco!D26+Bruino!D26+Candiolo!D26+Carignano!D26+'Castagnole Piemonte'!D26+'La Loggia'!D26+Lombriasco!D26+Moncalieri!D26+Nichelino!D26+Orbassano!D26+Osasio!D26+Pancalieri!D26+'Piobesi Torinese'!D26+Piossasco!D26+'Rivalta di Torino'!D26+Trofarello!D26+Villastellone!D26+Vinovo!D26+'Virle Piemonte'!D26 -> 2291272.3 | E26: =+Beinasco!E26+Bruino!E26+Candiolo!E26+Carignano!E26+'Castagnole Piemonte'!E26+'La Loggia'!E26+Lombriasco!E26+Moncalieri!E26+Nichelino!E26+Orbassano!E26+Osasio!E26+Pancalieri!E26+'Piobesi Torinese'!E26+Piossasco!E26+'Rivalta di Torino'!E26+Trofarello!E26+Villastellone!E26+Vinovo!E26+'Virle Piemonte'!E26 -> 364033.91 | F26: =+Beinasco!F26+Bruino!F26+Candiolo!F26+Carignano!F26+'Castagnole Piemonte'!F26+'La Loggia'!F26+Lombriasco!F26+Moncalieri!F26+Nichelino!F26+Orbassano!F26+Osasio!F26+Pancalieri!F26+'Piobesi Torinese'!F26+Piossasco!F26+'Rivalta di Torino'!F26+Trofarello!F26+Villastellone!F26+Vinovo!F26+'Virle Piemonte'!F26 -> 2655306.2 | G26: =+Beinasco!G26+Bruino!G26+Candiolo!G26+Carignano!G26+'Castagnole Piemonte'!G26+'La Loggia'!G26+Lombriasco!G26+Moncalieri!G26+Nichelino!G26+Orbassano!G26+Osasio!G26+Pancalieri!G26+'Piobesi Torinese'!G26+Piossasco!G26+'Rivalta di Torino'!G26+Trofarello!G26+Villastellone!G26+Vinovo!G26+'Virle Piemonte'!G26 -> 2252342.2 | H26: =+Beinasco!H26+Bruino!H26+Candiolo!H26+Carignano!H26+'Castagnole Piemonte'!H26+'La Loggia'!H26+Lombriasco!H26+Moncalieri!H26+Nichelino!H26+Orbassano!H26+Osasio!H26+Pancalieri!H26+'Piobesi Torinese'!H26+Piossasco!H26+'Rivalta di Torino'!H26+Trofarello!H26+Villastellone!H26+Vinovo!H26+'Virle Piemonte'!H26 -> 297304.55 | I26: =+Beinasco!I26+Bruino!I26+Candiolo!I26+Carignano!I26+'Castagnole Piemonte'!I26+'La Loggia'!I26+Lombriasco!I26+Moncalieri!I26+Nichelino!I26+Orbassano!I26+Osasio!I26+Pancalieri!I26+'Piobesi Torinese'!I26+Piossasco!I26+'Rivalta di Torino'!I26+Trofarello!I26+Villastellone!I26+Vinovo!I26+'Virle Piemonte'!I26 -> 2549646.7 | J26: =+Beinasco!J26+Bruino!J26+Candiolo!J26+Carignano!J26+'Castagnole Piemonte'!J26+'La Loggia'!J26+Lombriasco!J26+Moncalieri!J26+Nichelino!J26+Orbassano!J26+Osasio!J26+Pancalieri!J26+'Piobesi Torinese'!J26+Piossasco!J26+'Rivalta di Torino'!J26+Trofarello!J26+Villastellone!J26+Vinovo!J26+'Virle Piemonte'!J26 -> 2252342.2 | K26: =+Beinasco!K26+Bruino!K26+Candiolo!K26+Carignano!K26+'Castagnole Piemonte'!K26+'La Loggia'!K26+Lombriasco!K26+Moncalieri!K26+Nichelino!K26+Orbassano!K26+Osasio!K26+Pancalieri!K26+'Piobesi Torinese'!K26+Piossasco!K26+'Rivalta di Torino'!K26+Trofarello!K26+Villastellone!K26+Vinovo!K26+'Virle Piemonte'!K26 -> 297304.55 | ... O26: =+Beinasco!O26+Bruino!O26+Candiolo!O26+Carignano!O26+'Castagnole Piemonte'!O26+'La Loggia'!O26+Lombriasco!O26+Moncalieri!O26+Nichelino!O26+Orbassano!O26+Osasio!O26+Pancalieri!O26+'Piobesi Torinese'!O26+Piossasco!O26+'Rivalta di Torino'!O26+Trofarello!O26+Villastellone!O26+Vinovo!O26+'Virle Piemonte'!O26 -> 2549646.7
B27: Costi generali di gestione CGG | D27: =+Beinasco!D27+Bruino!D27+Candiolo!D27+Carignano!D27+'Castagnole Piemonte'!D27+'La Loggia'!D27+Lombriasco!D27+Moncalieri!D27+Nichelino!D27+Orbassano!D27+Osasio!D27+Pancalieri!D27+'Piobesi Torinese'!D27+Piossasco!D27+'Rivalta di Torino'!D27+Trofarello!D27+Villastellone!D27+Vinovo!D27+'Virle Piemonte'!D27 -> 5152865.8 | E27: =+Beinasco!E27+Bruino!E27+Candiolo!E27+Carignano!E27+'Castagnole Piemonte'!E27+'La Loggia'!E27+Lombriasco!E27+Moncalieri!E27+Nichelino!E27+Orbassano!E27+Osasio!E27+Pancalieri!E27+'Piobesi Torinese'!E27+Piossasco!E27+'Rivalta di Torino'!E27+Trofarello!E27+Villastellone!E27+Vinovo!E27+'Virle Piemonte'!E27 -> 74852.811 | F27: =+Beinasco!F27+Bruino!F27+Candiolo!F27+Carignano!F27+'Castagnole Piemonte'!F27+'La Loggia'!F27+Lombriasco!F27+Moncalieri!F27+Nichelino!F27+Orbassano!F27+Osasio!F27+Pancalieri!F27+'Piobesi Torinese'!F27+Piossasco!F27+'Rivalta di Torino'!F27+Trofarello!F27+Villastellone!F27+Vinovo!F27+'Virle Piemonte'!F27 -> 5227718.6 | G27: =+Beinasco!G27+Bruino!G27+Candiolo!G27+Carignano!G27+'Castagnole Piemonte'!G27+'La Loggia'!G27+Lombriasco!G27+Moncalieri!G27+Nichelino!G27+Orbassano!G27+Osasio!G27+Pancalieri!G27+'Piobesi Torinese'!G27+Piossasco!G27+'Rivalta di Torino'!G27+Trofarello!G27+Villastellone!G27+Vinovo!G27+'Virle Piemonte'!G27 -> 6198969 | H27: =+Beinasco!H27+Bruino!H27+Candiolo!H27+Carignano!H27+'Castagnole Piemonte'!H27+'La Loggia'!H27+Lombriasco!H27+Moncalieri!H27+Nichelino!H27+Orbassano!H27+Osasio!H27+Pancalieri!H27+'Piobesi Torinese'!H27+Piossasco!H27+'Rivalta di Torino'!H27+Trofarello!H27+Villastellone!H27+Vinovo!H27+'Virle Piemonte'!H27 -> 113032.43 | I27: =+Beinasco!I27+Bruino!I27+Candiolo!I27+Carignano!I27+'Castagnole Piemonte'!I27+'La Loggia'!I27+Lombriasco!I27+Moncalieri!I27+Nichelino!I27+Orbassano!I27+Osasio!I27+Pancalieri!I27+'Piobesi Torinese'!I27+Piossasco!I27+'Rivalta di Torino'!I27+Trofarello!I27+Villastellone!I27+Vinovo!I27+'Virle Piemonte'!I27 -> 6312001.4 | J27: =+Beinasco!J27+Bruino!J27+Candiolo!J27+Carignano!J27+'Castagnole Piemonte'!J27+'La Loggia'!J27+Lombriasco!J27+Moncalieri!J27+Nichelino!J27+Orbassano!J27+Osasio!J27+Pancalieri!J27+'Piobesi Torinese'!J27+Piossasco!J27+'Rivalta di Torino'!J27+Trofarello!J27+Villastellone!J27+Vinovo!J27+'Virle Piemonte'!J27 -> 6357712.8 | K27: =+Beinasco!K27+Bruino!K27+Candiolo!K27+Carignano!K27+'Castagnole Piemonte'!K27+'La Loggia'!K27+Lombriasco!K27+Moncalieri!K27+Nichelino!K27+Orbassano!K27+Osasio!K27+Pancalieri!K27+'Piobesi Torinese'!K27+Piossasco!K27+'Rivalta di Torino'!K27+Trofarello!K27+Villastellone!K27+Vinovo!K27+'Virle Piemonte'!K27 -> 113032.43 | ... O27: =+Beinasco!O27+Bruino!O27+Candiolo!O27+Carignano!O27+'Castagnole Piemonte'!O27+'La Loggia'!O27+Lombriasco!O27+Moncalieri!O27+Nichelino!O27+Orbassano!O27+Osasio!O27+Pancalieri!O27+'Piobesi Torinese'!O27+Piossasco!O27+'Rivalta di Torino'!O27+Trofarello!O27+Villastellone!O27+Vinovo!O27+'Virle Piemonte'!O27 -> 6470745.2
B28: Costi relativi alla quota di crediti inesigibili CCD | D28: =+Beinasco!D28+Bruino!D28+Candiolo!D28+Carignano!D28+'Castagnole Piemonte'!D28+'La Loggia'!D28+Lombriasco!D28+Moncalieri!D28+Nichelino!D28+Orbassano!D28+Osasio!D28+Pancalieri!D28+'Piobesi Torinese'!D28+Piossasco!D28+'Rivalta di Torino'!D28+Trofarello!D28+Villastellone!D28+Vinovo!D28+'Virle Piemonte'!D28 -> 0 | E28: =+Beinasco!E28+Bruino!E28+Candiolo!E28+Carignano!E28+'Castagnole Piemonte'!E28+'La Loggia'!E28+Lombriasco!E28+Moncalieri!E28+Nichelino!E28+Orbassano!E28+Osasio!E28+Pancalieri!E28+'Piobesi Torinese'!E28+Piossasco!E28+'Rivalta di Torino'!E28+Trofarello!E28+Villastellone!E28+Vinovo!E28+'Virle Piemonte'!E28 -> 1854876.8 | F28: =+Beinasco!F28+Bruino!F28+Candiolo!F28+Carignano!F28+'Castagnole Piemonte'!F28+'La Loggia'!F28+Lombriasco!F28+Moncalieri!F28+Nichelino!F28+Orbassano!F28+Osasio!F28+Pancalieri!F28+'Piobesi Torinese'!F28+Piossasco!F28+'Rivalta di Torino'!F28+Trofarello!F28+Villastellone!F28+Vinovo!F28+'Virle Piemonte'!F28 -> 1854876.8 | G28: =+Beinasco!G28+Bruino!G28+Candiolo!G28+Carignano!G28+'Castagnole Piemonte'!G28+'La Loggia'!G28+Lombriasco!G28+Moncalieri!G28+Nichelino!G28+Orbassano!G28+Osasio!G28+Pancalieri!G28+'Piobesi Torinese'!G28+Piossasco!G28+'Rivalta di Torino'!G28+Trofarello!G28+Villastellone!G28+Vinovo!G28+'Virle Piemonte'!G28 -> 0 | H28: =+Beinasco!H28+Bruino!H28+Candiolo!H28+Carignano!H28+'Castagnole Piemonte'!H28+'La Loggia'!H28+Lombriasco!H28+Moncalieri!H28+Nichelino!H28+Orbassano!H28+Osasio!H28+Pancalieri!H28+'Piobesi Torinese'!H28+Piossasco!H28+'Rivalta di Torino'!H28+Trofarello!H28+Villastellone!H28+Vinovo!H28+'Virle Piemonte'!H28 -> 1056527.5 | I28: =+Beinasco!I28+Bruino!I28+Candiolo!I28+Carignano!I28+'Castagnole Piemonte'!I28+'La Loggia'!I28+Lombriasco!I28+Moncalieri!I28+Nichelino!I28+Orbassano!I28+Osasio!I28+Pancalieri!I28+'Piobesi Torinese'!I28+Piossasco!I28+'Rivalta di Torino'!I28+Trofarello!I28+Villastellone!I28+Vinovo!I28+'Virle Piemonte'!I28 -> 1056527.5 | J28: =+Beinasco!J28+Bruino!J28+Candiolo!J28+Carignano!J28+'Castagnole Piemonte'!J28+'La Loggia'!J28+Lombriasco!J28+Moncalieri!J28+Nichelino!J28+Orbassano!J28+Osasio!J28+Pancalieri!J28+'Piobesi Torinese'!J28+Piossasco!J28+'Rivalta di Torino'!J28+Trofarello!J28+Villastellone!J28+Vinovo!J28+'Virle Piemonte'!J28 -> 0 | K28: =+Beinasco!K28+Bruino!K28+Candiolo!K28+Carignano!K28+'Castagnole Piemonte'!K28+'La Loggia'!K28+Lombriasco!K28+Moncalieri!K28+Nichelino!K28+Orbassano!K28+Osasio!K28+Pancalieri!K28+'Piobesi Torinese'!K28+Piossasco!K28+'Rivalta di Torino'!K28+Trofarello!K28+Villastellone!K28+Vinovo!K28+'Virle Piemonte'!K28 -> 1056527.5 | ... O28: =+Beinasco!O28+Bruino!O28+Candiolo!O28+Carignano!O28+'Castagnole Piemonte'!O28+'La Loggia'!O28+Lombriasco!O28+Moncalieri!O28+Nichelino!O28+Orbassano!O28+Osasio!O28+Pancalieri!O28+'Piobesi Torinese'!O28+Piossasco!O28+'Rivalta di Torino'!O28+Trofarello!O28+Villastellone!O28+Vinovo!O28+'Virle Piemonte'!O28 -> 1056527.5
B29: Altri costi COAL | D29: =+Beinasco!D29+Bruino!D29+Candiolo!D29+Carignano!D29+'Castagnole Piemonte'!D29+'La Loggia'!D29+Lombriasco!D29+Moncalieri!D29+Nichelino!D29+Orbassano!D29+Osasio!D29+Pancalieri!D29+'Piobesi Torinese'!D29+Piossasco!D29+'Rivalta di Torino'!D29+Trofarello!D29+Villastellone!D29+Vinovo!D29+'Virle Piemonte'!D29 -> 66925.563 | E29: =+Beinasco!E29+Bruino!E29+Candiolo!E29+Carignano!E29+'Castagnole Piemonte'!E29+'La Loggia'!E29+Lombriasco!E29+Moncalieri!E29+Nichelino!E29+Orbassano!E29+Osasio!E29+Pancalieri!E29+'Piobesi Torinese'!E29+Piossasco!E29+'Rivalta di Torino'!E29+Trofarello!E29+Villastellone!E29+Vinovo!E29+'Virle Piemonte'!E29 -> 123883.71 | F29: =+Beinasco!F29+Bruino!F29+Candiolo!F29+Carignano!F29+'Castagnole Piemonte'!F29+'La Loggia'!F29+Lombriasco!F29+Moncalieri!F29+Nichelino!F29+Orbassano!F29+Osasio!F29+Pancalieri!F29+'Piobesi Torinese'!F29+Piossasco!F29+'Rivalta di Torino'!F29+Trofarello!F29+Villastellone!F29+Vinovo!F29+'Virle Piemonte'!F29 -> 190809.27 | G29: =+Beinasco!G29+Bruino!G29+Candiolo!G29+Carignano!G29+'Castagnole Piemonte'!G29+'La Loggia'!G29+Lombriasco!G29+Moncalieri!G29+Nichelino!G29+Orbassano!G29+Osasio!G29+Pancalieri!G29+'Piobesi Torinese'!G29+Piossasco!G29+'Rivalta di Torino'!G29+Trofarello!G29+Villastellone!G29+Vinovo!G29+'Virle Piemonte'!G29 -> 17054.094 | H29: =+Beinasco!H29+Bruino!H29+Candiolo!H29+Carignano!H29+'Castagnole Piemonte'!H29+'La Loggia'!H29+Lombriasco!H29+Moncalieri!H29+Nichelino!H29+Orbassano!H29+Osasio!H29+Pancalieri!H29+'Piobesi Torinese'!H29+Piossasco!H29+'Rivalta di Torino'!H29+Trofarello!H29+Villastellone!H29+Vinovo!H29+'Virle Piemonte'!H29 -> 121454.62 | I29: =+Beinasco!I29+Bruino!I29+Candiolo!I29+Carignano!I29+'Castagnole Piemonte'!I29+'La Loggia'!I29+Lombriasco!I29+Moncalieri!I29+Nichelino!I29+Orbassano!I29+Osasio!I29+Pancalieri!I29+'Piobesi Torinese'!I29+Piossasco!I29+'Rivalta di Torino'!I29+Trofarello!I29+Villastellone!I29+Vinovo!I29+'Virle Piemonte'!I29 -> 138508.71 | J29: =+Beinasco!J29+Bruino!J29+Candiolo!J29+Carignano!J29+'Castagnole Piemonte'!J29+'La Loggia'!J29+Lombriasco!J29+Moncalieri!J29+Nichelino!J29+Orbassano!J29+Osasio!J29+Pancalieri!J29+'Piobesi Torinese'!J29+Piossasco!J29+'Rivalta di Torino'!J29+Trofarello!J29+Villastellone!J29+Vinovo!J29+'Virle Piemonte'!J29 -> 17054.094 | K29: =+Beinasco!K29+Bruino!K29+Candiolo!K29+Carignano!K29+'Castagnole Piemonte'!K29+'La Loggia'!K29+Lombriasco!K29+Moncalieri!K29+Nichelino!K29+Orbassano!K29+Osasio!K29+Pancalieri!K29+'Piobesi Torinese'!K29+Piossasco!K29+'Rivalta di Torino'!K29+Trofarello!K29+Villastellone!K29+Vinovo!K29+'Virle Piemonte'!K29 -> 121454.62 | ... O29: =+Beinasco!O29+Bruino!O29+Candiolo!O29+Carignano!O29+'Castagnole Piemonte'!O29+'La Loggia'!O29+Lombriasco!O29+Moncalieri!O29+Nichelino!O29+Orbassano!O29+Osasio!O29+Pancalieri!O29+'Piobesi Torinese'!O29+Piossasco!O29+'Rivalta di Torino'!O29+Trofarello!O29+Villastellone!O29+Vinovo!O29+'Virle Piemonte'!O29 -> 138508.71
... B52: ∑Ta= ∑TVa + ∑TFa dopo le detrazioni di cui al. Art. 4.5 Del. 397/2025/R/Rif | D52: =+Beinasco!D52+Bruino!D52+Candiolo!D52+Carignano!D52+'Castagnole Piemonte'!D52+'La Loggia'!D52+Lombriasco!D52+Moncalieri!D52+Nichelino!D52+Orbassano!D52+Osasio!D52+Pancalieri!D52+'Piobesi Torinese'!D52+Piossasco!D52+'Rivalta di Torino'!D52+Trofarello!D52+Villastellone!D52+Vinovo!D52+'Virle Piemonte'!D52 -> 41447208 | E52: =+Beinasco!E52+Bruino!E52+Candiolo!E52+Carignano!E52+'Castagnole Piemonte'!E52+'La Loggia'!E52+Lombriasco!E52+Moncalieri!E52+Nichelino!E52+Orbassano!E52+Osasio!E52+Pancalieri!E52+'Piobesi Torinese'!E52+Piossasco!E52+'Rivalta di Torino'!E52+Trofarello!E52+Villastellone!E52+Vinovo!E52+'Virle Piemonte'!E52 -> 6863336.3 | F52: =+Beinasco!F52+Bruino!F52+Candiolo!F52+Carignano!F52+'Castagnole Piemonte'!F52+'La Loggia'!F52+Lombriasco!F52+Moncalieri!F52+Nichelino!F52+Orbassano!F52+Osasio!F52+Pancalieri!F52+'Piobesi Torinese'!F52+Piossasco!F52+'Rivalta di Torino'!F52+Trofarello!F52+Villastellone!F52+Vinovo!F52+'Virle Piemonte'!F52 -> 48310544 | G52: =+Beinasco!G52+Bruino!G52+Candiolo!G52+Carignano!G52+'Castagnole Piemonte'!G52+'La Loggia'!G52+Lombriasco!G52+Moncalieri!G52+Nichelino!G52+Orbassano!G52+Osasio!G52+Pancalieri!G52+'Piobesi Torinese'!G52+Piossasco!G52+'Rivalta di Torino'!G52+Trofarello!G52+Villastellone!G52+Vinovo!G52+'Virle Piemonte'!G52 -> 43507148 | H52: =+Beinasco!H52+Bruino!H52+Candiolo!H52+Carignano!H52+'Castagnole Piemonte'!H52+'La Loggia'!H52+Lombriasco!H52+Moncalieri!H52+Nichelino!H52+Orbassano!H52+Osasio!H52+Pancalieri!H52+'Piobesi Torinese'!H52+Piossasco!H52+'Rivalta di Torino'!H52+Trofarello!H52+Villastellone!H52+Vinovo!H52+'Virle Piemonte'!H52 -> 6103763.2 | I52: =+Beinasco!I52+Bruino!I52+Candiolo!I52+Carignano!I52+'Castagnole Piemonte'!I52+'La Loggia'!I52+Lombriasco!I52+Moncalieri!I52+Nichelino!I52+Orbassano!I52+Osasio!I52+Pancalieri!I52+'Piobesi Torinese'!I52+Piossasco!I52+'Rivalta di Torino'!I52+Trofarello!I52+Villastellone!I52+Vinovo!I52+'Virle Piemonte'!I52 -> 49610911 | J52: =+Beinasco!J52+Bruino!J52+Candiolo!J52+Carignano!J52+'Castagnole Piemonte'!J52+'La Loggia'!J52+Lombriasco!J52+Moncalieri!J52+Nichelino!J52+Orbassano!J52+Osasio!J52+Pancalieri!J52+'Piobesi Torinese'!J52+Piossasco!J52+'Rivalta di Torino'!J52+Trofarello!J52+Villastellone!J52+Vinovo!J52+'Virle Piemonte'!J52 -> 42321675 | K52: =+Beinasco!K52+Bruino!K52+Candiolo!K52+Carignano!K52+'Castagnole Piemonte'!K52+'La Loggia'!K52+Lombriasco!K52+Moncalieri!K52+Nichelino!K52+Orbassano!K52+Osasio!K52+Pancalieri!K52+'Piobesi Torinese'!K52+Piossasco!K52+'Rivalta di Torino'!K52+Trofarello!K52+Villastellone!K52+Vinovo!K52+'Virle Piemonte'!K52 -> 5982271.1 | ... O52: =+Beinasco!O52+Bruino!O52+Candiolo!O52+Carignano!O52+'Castagnole Piemonte'!O52+'La Loggia'!O52+Lombriasco!O52+Moncalieri!O52+Nichelino!O52+Orbassano!O52+Osasio!O52+Pancalieri!O52+'Piobesi Torinese'!O52+Piossasco!O52+'Rivalta di Torino'!O52+Trofarello!O52+Villastellone!O52+Vinovo!O52+'Virle Piemonte'!O52 -> 48061856
B54: Grandezze fisico-tecniche
B55: raccolta differenziata % - (a-2)
B56: qa-2 ton
B57: costo unitario effettivo - Cueff €cent/kg - (a-2)
B58: Benchmark di riferimento [cent€/kg] (fabbisogno standard/costo medio settore) - (a-2)
B60: Coefficiente di gradualità
B61: valutazione rispetto agli obiettivi di raccolta differenziata ɣ1
B62: valutazione rispetto all' efficacia dell' attività di preparazione per il riutilizzo e riciclo ɣ2
B63: Totale ɣ
B64: Coefficiente di gradualità (1+ ɣ)
B66: Verifica del limite di crescita
B67: rpia
... B72: (1+ρ)
B73: ∑Ta | F73: =+Beinasco!F73+Bruino!F73+Candiolo!F73+Carignano!F73+'Castagnole Piemonte'!F73+'La Loggia'!F73+Lombriasco!F73+Moncalieri!F73+Nichelino!F73+Orbassano!F73+Osasio!F73+Pancalieri!F73+'Piobesi Torinese'!F73+Piossasco!F73+'Rivalta di Torino'!F73+Trofarello!F73+Villastellone!F73+Vinovo!F73+'Virle Piemonte'!F73 -> 48310544 | I73: =+Beinasco!I73+Bruino!I73+Candiolo!I73+Carignano!I73+'Castagnole Piemonte'!I73+'La Loggia'!I73+Lombriasco!I73+Moncalieri!I73+Nichelino!I73+Orbassano!I73+Osasio!I73+Pancalieri!I73+'Piobesi Torinese'!I73+Piossasco!I73+'Rivalta di Torino'!I73+Trofarello!I73+Villastellone!I73+Vinovo!I73+'Virle Piemonte'!I73 -> 49610911 | L73: =+Beinasco!L73+Bruino!L73+Candiolo!L73+Carignano!L73+'Castagnole Piemonte'!L73+'La Loggia'!L73+Lombriasco!L73+Moncalieri!L73+Nichelino!L73+Orbassano!L73+Osasio!L73+Pancalieri!L73+'Piobesi Torinese'!L73+Piossasco!L73+'Rivalta di Torino'!L73+Trofarello!L73+Villastellone!L73+Vinovo!L73+'Virle Piemonte'!L73 -> 48303947 | O73: =+Beinasco!O73+Bruino!O73+Candiolo!O73+Carignano!O73+'Castagnole Piemonte'!O73+'La Loggia'!O73+Lombriasco!O73+Moncalieri!O73+Nichelino!O73+Orbassano!O73+Osasio!O73+Pancalieri!O73+'Piobesi Torinese'!O73+Piossasco!O73+'Rivalta di Torino'!O73+Trofarello!O73+Villastellone!O73+Vinovo!O73+'Virle Piemonte'!O73 -> 48061856
B74: ∑TVa-1 | F74: =+Beinasco!F74+Bruino!F74+Candiolo!F74+Carignano!F74+'Castagnole Piemonte'!F74+'La Loggia'!F74+Lombriasco!F74+Moncalieri!F74+Nichelino!F74+Orbassano!F74+Osasio!F74+Pancalieri!F74+'Piobesi Torinese'!F74+Piossasco!F74+'Rivalta di Torino'!F74+Trofarello!F74+Villastellone!F74+Vinovo!F74+'Virle Piemonte'!F74 -> 26097907 | I74: =+Beinasco!I74+Bruino!I74+Candiolo!I74+Carignano!I74+'Castagnole Piemonte'!I74+'La Loggia'!I74+Lombriasco!I74+Moncalieri!I74+Nichelino!I74+Orbassano!I74+Osasio!I74+Pancalieri!I74+'Piobesi Torinese'!I74+Piossasco!I74+'Rivalta di Torino'!I74+Trofarello!I74+Villastellone!I74+Vinovo!I74+'Virle Piemonte'!I74 -> 26676990 | L74: =+Beinasco!L74+Bruino!L74+Candiolo!L74+Carignano!L74+'Castagnole Piemonte'!L74+'La Loggia'!L74+Lombriasco!L74+Moncalieri!L74+Nichelino!L74+Orbassano!L74+Osasio!L74+Pancalieri!L74+'Piobesi Torinese'!L74+Piossasco!L74+'Rivalta di Torino'!L74+Trofarello!L74+Villastellone!L74+Vinovo!L74+'Virle Piemonte'!L74 -> 28339452 | O74: =+Beinasco!O74+Bruino!O74+Candiolo!O74+Carignano!O74+'Castagnole Piemonte'!O74+'La Loggia'!O74+Lombriasco!O74+Moncalieri!O74+Nichelino!O74+Orbassano!O74+Osasio!O74+Pancalieri!O74+'Piobesi Torinese'!O74+Piossasco!O74+'Rivalta di Torino'!O74+Trofarello!O74+Villastellone!O74+Vinovo!O74+'Virle Piemonte'!O74 -> 28084124
B75: ∑TFa-1 | F75: =+Beinasco!F75+Bruino!F75+Candiolo!F75+Carignano!F75+'Castagnole Piemonte'!F75+'La Loggia'!F75+Lombriasco!F75+Moncalieri!F75+Nichelino!F75+Orbassano!F75+Osasio!F75+Pancalieri!F75+'Piobesi Torinese'!F75+Piossasco!F75+'Rivalta di Torino'!F75+Trofarello!F75+Villastellone!F75+Vinovo!F75+'Virle Piemonte'!F75 -> 20100071 | I75: =+Beinasco!I75+Bruino!I75+Candiolo!I75+Carignano!I75+'Castagnole Piemonte'!I75+'La Loggia'!I75+Lombriasco!I75+Moncalieri!I75+Nichelino!I75+Orbassano!I75+Osasio!I75+Pancalieri!I75+'Piobesi Torinese'!I75+Piossasco!I75+'Rivalta di Torino'!I75+Trofarello!I75+Villastellone!I75+Vinovo!I75+'Virle Piemonte'!I75 -> 20542021 | L75: =+Beinasco!L75+Bruino!L75+Candiolo!L75+Carignano!L75+'Castagnole Piemonte'!L75+'La Loggia'!L75+Lombriasco!L75+Moncalieri!L75+Nichelino!L75+Orbassano!L75+Osasio!L75+Pancalieri!L75+'Piobesi Torinese'!L75+Piossasco!L75+'Rivalta di Torino'!L75+Trofarello!L75+Villastellone!L75+Vinovo!L75+'Virle Piemonte'!L75 -> 20318979 | O75: =+Beinasco!O75+Bruino!O75+Candiolo!O75+Carignano!O75+'Castagnole Piemonte'!O75+'La Loggia'!O75+Lombriasco!O75+Moncalieri!O75+Nichelino!O75+Orbassano!O75+Osasio!O75+Pancalieri!O75+'Piobesi Torinese'!O75+Piossasco!O75+'Rivalta di Torino'!O75+Trofarello!O75+Villastellone!O75+Vinovo!O75+'Virle Piemonte'!O75 -> 19932293
B76: ∑Ta-1 | F76: =+Beinasco!F76+Bruino!F76+Candiolo!F76+Carignano!F76+'Castagnole Piemonte'!F76+'La Loggia'!F76+Lombriasco!F76+Moncalieri!F76+Nichelino!F76+Orbassano!F76+Osasio!F76+Pancalieri!F76+'Piobesi Torinese'!F76+Piossasco!F76+'Rivalta di Torino'!F76+Trofarello!F76+Villastellone!F76+Vinovo!F76+'Virle Piemonte'!F76 -> 46197979 | I76: =+Beinasco!I76+Bruino!I76+Candiolo!I76+Carignano!I76+'Castagnole Piemonte'!I76+'La Loggia'!I76+Lombriasco!I76+Moncalieri!I76+Nichelino!I76+Orbassano!I76+Osasio!I76+Pancalieri!I76+'Piobesi Torinese'!I76+Piossasco!I76+'Rivalta di Torino'!I76+Trofarello!I76+Villastellone!I76+Vinovo!I76+'Virle Piemonte'!I76 -> 47219011 | L76: =+Beinasco!L76+Bruino!L76+Candiolo!L76+Carignano!L76+'Castagnole Piemonte'!L76+'La Loggia'!L76+Lombriasco!L76+Moncalieri!L76+Nichelino!L76+Orbassano!L76+Osasio!L76+Pancalieri!L76+'Piobesi Torinese'!L76+Piossasco!L76+'Rivalta di Torino'!L76+Trofarello!L76+Villastellone!L76+Vinovo!L76+'Virle Piemonte'!L76 -> 48658431 | O76: =+Beinasco!O76+Bruino!O76+Candiolo!O76+Carignano!O76+'Castagnole Piemonte'!O76+'La Loggia'!O76+Lombriasco!O76+Moncalieri!O76+Nichelino!O76+Orbassano!O76+Osasio!O76+Pancalieri!O76+'Piobesi Torinese'!O76+Piossasco!O76+'Rivalta di Torino'!O76+Trofarello!O76+Villastellone!O76+Vinovo!O76+'Virle Piemonte'!O76 -> 48016417
B77: ∑Ta/ ∑Ta-1
B79: ∑Tmax (entrate tariffarie massime applicabili nel rispetto del limite di crescita) | F79: =+Beinasco!F79+Bruino!F79+Candiolo!F79+Carignano!F79+'Castagnole Piemonte'!F79+'La Loggia'!F79+Lombriasco!F79+Moncalieri!F79+Nichelino!F79+Orbassano!F79+Osasio!F79+Pancalieri!F79+'Piobesi Torinese'!F79+Piossasco!F79+'Rivalta di Torino'!F79+Trofarello!F79+Villastellone!F79+Vinovo!F79+'Virle Piemonte'!F79 -> 47219010 | I79: =+Beinasco!I79+Bruino!I79+Candiolo!I79+Carignano!I79+'Castagnole Piemonte'!I79+'La Loggia'!I79+Lombriasco!I79+Moncalieri!I79+Nichelino!I79+Orbassano!I79+Osasio!I79+Pancalieri!I79+'Piobesi Torinese'!I79+Piossasco!I79+'Rivalta di Torino'!I79+Trofarello!I79+Villastellone!I79+Vinovo!I79+'Virle Piemonte'!I79 -> 48658431 | L79: =+Beinasco!L79+Bruino!L79+Candiolo!L79+Carignano!L79+'Castagnole Piemonte'!L79+'La Loggia'!L79+Lombriasco!L79+Moncalieri!L79+Nichelino!L79+Orbassano!L79+Osasio!L79+Pancalieri!L79+'Piobesi Torinese'!L79+Piossasco!L79+'Rivalta di Torino'!L79+Trofarello!L79+Villastellone!L79+Vinovo!L79+'Virle Piemonte'!L79 -> 48016417 | O79: =+Beinasco!O79+Bruino!O79+Candiolo!O79+Carignano!O79+'Castagnole Piemonte'!O79+'La Loggia'!O79+Lombriasco!O79+Moncalieri!O79+Nichelino!O79+Orbassano!O79+Osasio!O79+Pancalieri!O79+'Piobesi Torinese'!O79+Piossasco!O79+'Rivalta di Torino'!O79+Trofarello!O79+Villastellone!O79+Vinovo!O79+'Virle Piemonte'!O79 -> 47960237
B80: delta (∑Ta-∑Tmax) | F80: =+Beinasco!F80+Bruino!F80+Candiolo!F80+Carignano!F80+'Castagnole Piemonte'!F80+'La Loggia'!F80+Lombriasco!F80+Moncalieri!F80+Nichelino!F80+Orbassano!F80+Osasio!F80+Pancalieri!F80+'Piobesi Torinese'!F80+Piossasco!F80+'Rivalta di Torino'!F80+Trofarello!F80+Villastellone!F80+Vinovo!F80+'Virle Piemonte'!F80 -> 1091534.1 | I80: =+Beinasco!I80+Bruino!I80+Candiolo!I80+Carignano!I80+'Castagnole Piemonte'!I80+'La Loggia'!I80+Lombriasco!I80+Moncalieri!I80+Nichelino!I80+Orbassano!I80+Osasio!I80+Pancalieri!I80+'Piobesi Torinese'!I80+Piossasco!I80+'Rivalta di Torino'!I80+Trofarello!I80+Villastellone!I80+Vinovo!I80+'Virle Piemonte'!I80 -> 952480.24 | L80: =+Beinasco!L80+Bruino!L80+Candiolo!L80+Carignano!L80+'Castagnole Piemonte'!L80+'La Loggia'!L80+Lombriasco!L80+Moncalieri!L80+Nichelino!L80+Orbassano!L80+Osasio!L80+Pancalieri!L80+'Piobesi Torinese'!L80+Piossasco!L80+'Rivalta di Torino'!L80+Trofarello!L80+Villastellone!L80+Vinovo!L80+'Virle Piemonte'!L80 -> 287529.82 | O80: =+Beinasco!O80+Bruino!O80+Candiolo!O80+Carignano!O80+'Castagnole Piemonte'!O80+'La Loggia'!O80+Lombriasco!O80+Moncalieri!O80+Nichelino!O80+Orbassano!O80+Osasio!O80+Pancalieri!O80+'Piobesi Torinese'!O80+Piossasco!O80+'Rivalta di Torino'!O80+Trofarello!O80+Villastellone!O80+Vinovo!O80+'Virle Piemonte'!O80 -> 101619.16
B82: TVa dopo distribuzione delta (∑Ta-∑Tmax) | D82: =+Beinasco!D82+Bruino!D82+Candiolo!D82+Carignano!D82+'Castagnole Piemonte'!D82+'La Loggia'!D82+Lombriasco!D82+Moncalieri!D82+Nichelino!D82+Orbassano!D82+Osasio!D82+Pancalieri!D82+'Piobesi Torinese'!D82+Piossasco!D82+'Rivalta di Torino'!D82+Trofarello!D82+Villastellone!D82+Vinovo!D82+'Virle Piemonte'!D82 -> 25091445 | E82: =+Beinasco!E82+Bruino!E82+Candiolo!E82+Carignano!E82+'Castagnole Piemonte'!E82+'La Loggia'!E82+Lombriasco!E82+Moncalieri!E82+Nichelino!E82+Orbassano!E82+Osasio!E82+Pancalieri!E82+'Piobesi Torinese'!E82+Piossasco!E82+'Rivalta di Torino'!E82+Trofarello!E82+Villastellone!E82+Vinovo!E82+'Virle Piemonte'!E82 -> 1585545.2 | F82: =+Beinasco!F82+Bruino!F82+Candiolo!F82+Carignano!F82+'Castagnole Piemonte'!F82+'La Loggia'!F82+Lombriasco!F82+Moncalieri!F82+Nichelino!F82+Orbassano!F82+Osasio!F82+Pancalieri!F82+'Piobesi Torinese'!F82+Piossasco!F82+'Rivalta di Torino'!F82+Trofarello!F82+Villastellone!F82+Vinovo!F82+'Virle Piemonte'!F82 -> 26676990 | G82: =+Beinasco!G82+Bruino!G82+Candiolo!G82+Carignano!G82+'Castagnole Piemonte'!G82+'La Loggia'!G82+Lombriasco!G82+Moncalieri!G82+Nichelino!G82+Orbassano!G82+Osasio!G82+Pancalieri!G82+'Piobesi Torinese'!G82+Piossasco!G82+'Rivalta di Torino'!G82+Trofarello!G82+Villastellone!G82+Vinovo!G82+'Virle Piemonte'!G82 -> 26539274 | H82: =+Beinasco!H82+Bruino!H82+Candiolo!H82+Carignano!H82+'Castagnole Piemonte'!H82+'La Loggia'!H82+Lombriasco!H82+Moncalieri!H82+Nichelino!H82+Orbassano!H82+Osasio!H82+Pancalieri!H82+'Piobesi Torinese'!H82+Piossasco!H82+'Rivalta di Torino'!H82+Trofarello!H82+Villastellone!H82+Vinovo!H82+'Virle Piemonte'!H82 -> 1800177.6 | I82: =+Beinasco!I82+Bruino!I82+Candiolo!I82+Carignano!I82+'Castagnole Piemonte'!I82+'La Loggia'!I82+Lombriasco!I82+Moncalieri!I82+Nichelino!I82+Orbassano!I82+Osasio!I82+Pancalieri!I82+'Piobesi Torinese'!I82+Piossasco!I82+'Rivalta di Torino'!I82+Trofarello!I82+Villastellone!I82+Vinovo!I82+'Virle Piemonte'!I82 -> 28339452 | J82: =+Beinasco!J82+Bruino!J82+Candiolo!J82+Carignano!J82+'Castagnole Piemonte'!J82+'La Loggia'!J82+Lombriasco!J82+Moncalieri!J82+Nichelino!J82+Orbassano!J82+Osasio!J82+Pancalieri!J82+'Piobesi Torinese'!J82+Piossasco!J82+'Rivalta di Torino'!J82+Trofarello!J82+Villastellone!J82+Vinovo!J82+'Virle Piemonte'!J82 -> 25971581 | K82: =+Beinasco!K82+Bruino!K82+Candiolo!K82+Carignano!K82+'Castagnole Piemonte'!K82+'La Loggia'!K82+Lombriasco!K82+Moncalieri!K82+Nichelino!K82+Orbassano!K82+Osasio!K82+Pancalieri!K82+'Piobesi Torinese'!K82+Piossasco!K82+'Rivalta di Torino'!K82+Trofarello!K82+Villastellone!K82+Vinovo!K82+'Virle Piemonte'!K82 -> 2112542.8 | ... O82: =+Beinasco!O82+Bruino!O82+Candiolo!O82+Carignano!O82+'Castagnole Piemonte'!O82+'La Loggia'!O82+Lombriasco!O82+Moncalieri!O82+Nichelino!O82+Orbassano!O82+Osasio!O82+Pancalieri!O82+'Piobesi Torinese'!O82+Piossasco!O82+'Rivalta di Torino'!O82+Trofarello!O82+Villastellone!O82+Vinovo!O82+'Virle Piemonte'!O82 -> 28183903
B83: TFa dopo distribuzione delta (∑Ta-∑Tmax) | D83: =+Beinasco!D83+Bruino!D83+Candiolo!D83+Carignano!D83+'Castagnole Piemonte'!D83+'La Loggia'!D83+Lombriasco!D83+Moncalieri!D83+Nichelino!D83+Orbassano!D83+Osasio!D83+Pancalieri!D83+'Piobesi Torinese'!D83+Piossasco!D83+'Rivalta di Torino'!D83+Trofarello!D83+Villastellone!D83+Vinovo!D83+'Virle Piemonte'!D83 -> 16355763 | E83: =+Beinasco!E83+Bruino!E83+Candiolo!E83+Carignano!E83+'Castagnole Piemonte'!E83+'La Loggia'!E83+Lombriasco!E83+Moncalieri!E83+Nichelino!E83+Orbassano!E83+Osasio!E83+Pancalieri!E83+'Piobesi Torinese'!E83+Piossasco!E83+'Rivalta di Torino'!E83+Trofarello!E83+Villastellone!E83+Vinovo!E83+'Virle Piemonte'!E83 -> 4186258.1 | F83: =+Beinasco!F83+Bruino!F83+Candiolo!F83+Carignano!F83+'Castagnole Piemonte'!F83+'La Loggia'!F83+Lombriasco!F83+Moncalieri!F83+Nichelino!F83+Orbassano!F83+Osasio!F83+Pancalieri!F83+'Piobesi Torinese'!F83+Piossasco!F83+'Rivalta di Torino'!F83+Trofarello!F83+Villastellone!F83+Vinovo!F83+'Virle Piemonte'!F83 -> 20542021 | G83: =+Beinasco!G83+Bruino!G83+Candiolo!G83+Carignano!G83+'Castagnole Piemonte'!G83+'La Loggia'!G83+Lombriasco!G83+Moncalieri!G83+Nichelino!G83+Orbassano!G83+Osasio!G83+Pancalieri!G83+'Piobesi Torinese'!G83+Piossasco!G83+'Rivalta di Torino'!G83+Trofarello!G83+Villastellone!G83+Vinovo!G83+'Virle Piemonte'!G83 -> 16967874 | H83: =+Beinasco!H83+Bruino!H83+Candiolo!H83+Carignano!H83+'Castagnole Piemonte'!H83+'La Loggia'!H83+Lombriasco!H83+Moncalieri!H83+Nichelino!H83+Orbassano!H83+Osasio!H83+Pancalieri!H83+'Piobesi Torinese'!H83+Piossasco!H83+'Rivalta di Torino'!H83+Trofarello!H83+Villastellone!H83+Vinovo!H83+'Virle Piemonte'!H83 -> 3351105.1 | I83: =+Beinasco!I83+Bruino!I83+Candiolo!I83+Carignano!I83+'Castagnole Piemonte'!I83+'La Loggia'!I83+Lombriasco!I83+Moncalieri!I83+Nichelino!I83+Orbassano!I83+Osasio!I83+Pancalieri!I83+'Piobesi Torinese'!I83+Piossasco!I83+'Rivalta di Torino'!I83+Trofarello!I83+Villastellone!I83+Vinovo!I83+'Virle Piemonte'!I83 -> 20318979 | J83: =+Beinasco!J83+Bruino!J83+Candiolo!J83+Carignano!J83+'Castagnole Piemonte'!J83+'La Loggia'!J83+Lombriasco!J83+Moncalieri!J83+Nichelino!J83+Orbassano!J83+Osasio!J83+Pancalieri!J83+'Piobesi Torinese'!J83+Piossasco!J83+'Rivalta di Torino'!J83+Trofarello!J83+Villastellone!J83+Vinovo!J83+'Virle Piemonte'!J83 -> 16350094 | K83: =+Beinasco!K83+Bruino!K83+Candiolo!K83+Carignano!K83+'Castagnole Piemonte'!K83+'La Loggia'!K83+Lombriasco!K83+Moncalieri!K83+Nichelino!K83+Orbassano!K83+Osasio!K83+Pancalieri!K83+'Piobesi Torinese'!K83+Piossasco!K83+'Rivalta di Torino'!K83+Trofarello!K83+Villastellone!K83+Vinovo!K83+'Virle Piemonte'!K83 -> 3582198.2 | ... O83: =+Beinasco!O83+Bruino!O83+Candiolo!O83+Carignano!O83+'Castagnole Piemonte'!O83+'La Loggia'!O83+Lombriasco!O83+Moncalieri!O83+Nichelino!O83+Orbassano!O83+Osasio!O83+Pancalieri!O83+'Piobesi Torinese'!O83+Piossasco!O83+'Rivalta di Torino'!O83+Trofarello!O83+Villastellone!O83+Vinovo!O83+'Virle Piemonte'!O83 -> 19776334
B84: Ta=TVa+TFa dopo distribuzione delta (∑Ta-∑Tmax) | D84: =+Beinasco!D84+Bruino!D84+Candiolo!D84+Carignano!D84+'Castagnole Piemonte'!D84+'La Loggia'!D84+Lombriasco!D84+Moncalieri!D84+Nichelino!D84+Orbassano!D84+Osasio!D84+Pancalieri!D84+'Piobesi Torinese'!D84+Piossasco!D84+'Rivalta di Torino'!D84+Trofarello!D84+Villastellone!D84+Vinovo!D84+'Virle Piemonte'!D84 -> 41447208 | E84: =+Beinasco!E84+Bruino!E84+Candiolo!E84+Carignano!E84+'Castagnole Piemonte'!E84+'La Loggia'!E84+Lombriasco!E84+Moncalieri!E84+Nichelino!E84+Orbassano!E84+Osasio!E84+Pancalieri!E84+'Piobesi Torinese'!E84+Piossasco!E84+'Rivalta di Torino'!E84+Trofarello!E84+Villastellone!E84+Vinovo!E84+'Virle Piemonte'!E84 -> 5771803.3 | F84: =+Beinasco!F84+Bruino!F84+Candiolo!F84+Carignano!F84+'Castagnole Piemonte'!F84+'La Loggia'!F84+Lombriasco!F84+Moncalieri!F84+Nichelino!F84+Orbassano!F84+Osasio!F84+Pancalieri!F84+'Piobesi Torinese'!F84+Piossasco!F84+'Rivalta di Torino'!F84+Trofarello!F84+Villastellone!F84+Vinovo!F84+'Virle Piemonte'!F84 -> 47219011 | G84: =+Beinasco!G84+Bruino!G84+Candiolo!G84+Carignano!G84+'Castagnole Piemonte'!G84+'La Loggia'!G84+Lombriasco!G84+Moncalieri!G84+Nichelino!G84+Orbassano!G84+Osasio!G84+Pancalieri!G84+'Piobesi Torinese'!G84+Piossasco!G84+'Rivalta di Torino'!G84+Trofarello!G84+Villastellone!G84+Vinovo!G84+'Virle Piemonte'!G84 -> 43507148 | H84: =+Beinasco!H84+Bruino!H84+Candiolo!H84+Carignano!H84+'Castagnole Piemonte'!H84+'La Loggia'!H84+Lombriasco!H84+Moncalieri!H84+Nichelino!H84+Orbassano!H84+Osasio!H84+Pancalieri!H84+'Piobesi Torinese'!H84+Piossasco!H84+'Rivalta di Torino'!H84+Trofarello!H84+Villastellone!H84+Vinovo!H84+'Virle Piemonte'!H84 -> 5151282.7 | I84: =+Beinasco!I84+Bruino!I84+Candiolo!I84+Carignano!I84+'Castagnole Piemonte'!I84+'La Loggia'!I84+Lombriasco!I84+Moncalieri!I84+Nichelino!I84+Orbassano!I84+Osasio!I84+Pancalieri!I84+'Piobesi Torinese'!I84+Piossasco!I84+'Rivalta di Torino'!I84+Trofarello!I84+Villastellone!I84+Vinovo!I84+'Virle Piemonte'!I84 -> 48658431 | J84: =+Beinasco!J84+Bruino!J84+Candiolo!J84+Carignano!J84+'Castagnole Piemonte'!J84+'La Loggia'!J84+Lombriasco!J84+Moncalieri!J84+Nichelino!J84+Orbassano!J84+Osasio!J84+Pancalieri!J84+'Piobesi Torinese'!J84+Piossasco!J84+'Rivalta di Torino'!J84+Trofarello!J84+Villastellone!J84+Vinovo!J84+'Virle Piemonte'!J84 -> 42321675 | K84: =+Beinasco!K84+Bruino!K84+Candiolo!K84+Carignano!K84+'Castagnole Piemonte'!K84+'La Loggia'!K84+Lombriasco!K84+Moncalieri!K84+Nichelino!K84+Orbassano!K84+Osasio!K84+Pancalieri!K84+'Piobesi Torinese'!K84+Piossasco!K84+'Rivalta di Torino'!K84+Trofarello!K84+Villastellone!K84+Vinovo!K84+'Virle Piemonte'!K84 -> 5694741.1 | ... O84: =+Beinasco!O84+Bruino!O84+Candiolo!O84+Carignano!O84+'Castagnole Piemonte'!O84+'La Loggia'!O84+Lombriasco!O84+Moncalieri!O84+Nichelino!O84+Orbassano!O84+Osasio!O84+Pancalieri!O84+'Piobesi Torinese'!O84+Piossasco!O84+'Rivalta di Torino'!O84+Trofarello!O84+Villastellone!O84+Vinovo!O84+'Virle Piemonte'!O84 -> 47960237
B86: Detrazioni di cui al comma 4.5 della Determina 1/DTAC/2025 - parte variabile | F86: =+Beinasco!F86+Bruino!F86+Candiolo!F86+Carignano!F86+'Castagnole Piemonte'!F86+'La Loggia'!F86+Lombriasco!F86+Moncalieri!F86+Nichelino!F86+Orbassano!F86+Osasio!F86+Pancalieri!F86+'Piobesi Torinese'!F86+Piossasco!F86+'Rivalta di Torino'!F86+Trofarello!F86+Villastellone!F86+Vinovo!F86+'Virle Piemonte'!F86 -> 0 | I86: =+Beinasco!I86+Bruino!I86+Candiolo!I86+Carignano!I86+'Castagnole Piemonte'!I86+'La Loggia'!I86+Lombriasco!I86+Moncalieri!I86+Nichelino!I86+Orbassano!I86+Osasio!I86+Pancalieri!I86+'Piobesi Torinese'!I86+Piossasco!I86+'Rivalta di Torino'!I86+Trofarello!I86+Villastellone!I86+Vinovo!I86+'Virle Piemonte'!I86 -> 0 | L86: =+Beinasco!L86+Bruino!L86+Candiolo!L86+Carignano!L86+'Castagnole Piemonte'!L86+'La Loggia'!L86+Lombriasco!L86+Moncalieri!L86+Nichelino!L86+Orbassano!L86+Osasio!L86+Pancalieri!L86+'Piobesi Torinese'!L86+Piossasco!L86+'Rivalta di Torino'!L86+Trofarello!L86+Villastellone!L86+Vinovo!L86+'Virle Piemonte'!L86 -> 0 | O86: =+Beinasco!O86+Bruino!O86+Candiolo!O86+Carignano!O86+'Castagnole Piemonte'!O86+'La Loggia'!O86+Lombriasco!O86+Moncalieri!O86+Nichelino!O86+Orbassano!O86+Osasio!O86+Pancalieri!O86+'Piobesi Torinese'!O86+Piossasco!O86+'Rivalta di Torino'!O86+Trofarello!O86+Villastellone!O86+Vinovo!O86+'Virle Piemonte'!O86 -> 0
B87: Detrazioni di cui al comma 4.5 della Determina 1/DTAC/2025 - parte fissa | F87: =+Beinasco!F87+Bruino!F87+Candiolo!F87+Carignano!F87+'Castagnole Piemonte'!F87+'La Loggia'!F87+Lombriasco!F87+Moncalieri!F87+Nichelino!F87+Orbassano!F87+Osasio!F87+Pancalieri!F87+'Piobesi Torinese'!F87+Piossasco!F87+'Rivalta di Torino'!F87+Trofarello!F87+Villastellone!F87+Vinovo!F87+'Virle Piemonte'!F87 -> 612651.96 | I87: =+Beinasco!I87+Bruino!I87+Candiolo!I87+Carignano!I87+'Castagnole Piemonte'!I87+'La Loggia'!I87+Lombriasco!I87+Moncalieri!I87+Nichelino!I87+Orbassano!I87+Osasio!I87+Pancalieri!I87+'Piobesi Torinese'!I87+Piossasco!I87+'Rivalta di Torino'!I87+Trofarello!I87+Villastellone!I87+Vinovo!I87+'Virle Piemonte'!I87 -> 592140.4 | L87: =+Beinasco!L87+Bruino!L87+Candiolo!L87+Carignano!L87+'Castagnole Piemonte'!L87+'La Loggia'!L87+Lombriasco!L87+Moncalieri!L87+Nichelino!L87+Orbassano!L87+Osasio!L87+Pancalieri!L87+'Piobesi Torinese'!L87+Piossasco!L87+'Rivalta di Torino'!L87+Trofarello!L87+Villastellone!L87+Vinovo!L87+'Virle Piemonte'!L87 -> 592140.4 | O87: =+Beinasco!O87+Bruino!O87+Candiolo!O87+Carignano!O87+'Castagnole Piemonte'!O87+'La Loggia'!O87+Lombriasco!O87+Moncalieri!O87+Nichelino!O87+Orbassano!O87+Osasio!O87+Pancalieri!O87+'Piobesi Torinese'!O87+Piossasco!O87+'Rivalta di Torino'!O87+Trofarello!O87+Villastellone!O87+Vinovo!O87+'Virle Piemonte'!O87 -> 592140.4
B89: ∑TVa totale delle entrate tariffarie relative alle componenti di costo variabile dopo le detrazioni di cui al comma 4.5 Determina 1/DTAC/2025 | F89: =+Beinasco!F89+Bruino!F89+Candiolo!F89+Carignano!F89+'Castagnole Piemonte'!F89+'La Loggia'!F89+Lombriasco!F89+Moncalieri!F89+Nichelino!F89+Orbassano!F89+Osasio!F89+Pancalieri!F89+'Piobesi Torinese'!F89+Piossasco!F89+'Rivalta di Torino'!F89+Trofarello!F89+Villastellone!F89+Vinovo!F89+'Virle Piemonte'!F89 -> 26676990 | I89: =+Beinasco!I89+Bruino!I89+Candiolo!I89+Carignano!I89+'Castagnole Piemonte'!I89+'La Loggia'!I89+Lombriasco!I89+Moncalieri!I89+Nichelino!I89+Orbassano!I89+Osasio!I89+Pancalieri!I89+'Piobesi Torinese'!I89+Piossasco!I89+'Rivalta di Torino'!I89+Trofarello!I89+Villastellone!I89+Vinovo!I89+'Virle Piemonte'!I89 -> 28339452 | L89: =+Beinasco!L89+Bruino!L89+Candiolo!L89+Carignano!L89+'Castagnole Piemonte'!L89+'La Loggia'!L89+Lombriasco!L89+Moncalieri!L89+Nichelino!L89+Orbassano!L89+Osasio!L89+Pancalieri!L89+'Piobesi Torinese'!L89+Piossasco!L89+'Rivalta di Torino'!L89+Trofarello!L89+Villastellone!L89+Vinovo!L89+'Virle Piemonte'!L89 -> 28084124 | O89: =+Beinasco!O89+Bruino!O89+Candiolo!O89+Carignano!O89+'Castagnole Piemonte'!O89+'La Loggia'!O89+Lombriasco!O89+Moncalieri!O89+Nichelino!O89+Orbassano!O89+Osasio!O89+Pancalieri!O89+'Piobesi Torinese'!O89+Piossasco!O89+'Rivalta di Torino'!O89+Trofarello!O89+Villastellone!O89+Vinovo!O89+'Virle Piemonte'!O89 -> 28183903
B90: ∑TFa totale delle entrate tariffarie relative alle componenti di costo fisso dopo le detrazioni di cui al comma 4.5 della Determina 1/DTAC/2025 | F90: =+Beinasco!F90+Bruino!F90+Candiolo!F90+Carignano!F90+'Castagnole Piemonte'!F90+'La Loggia'!F90+Lombriasco!F90+Moncalieri!F90+Nichelino!F90+Orbassano!F90+Osasio!F90+Pancalieri!F90+'Piobesi Torinese'!F90+Piossasco!F90+'Rivalta di Torino'!F90+Trofarello!F90+Villastellone!F90+Vinovo!F90+'Virle Piemonte'!F90 -> 19929369 | I90: =+Beinasco!I90+Bruino!I90+Candiolo!I90+Carignano!I90+'Castagnole Piemonte'!I90+'La Loggia'!I90+Lombriasco!I90+Moncalieri!I90+Nichelino!I90+Orbassano!I90+Osasio!I90+Pancalieri!I90+'Piobesi Torinese'!I90+Piossasco!I90+'Rivalta di Torino'!I90+Trofarello!I90+Villastellone!I90+Vinovo!I90+'Virle Piemonte'!I90 -> 19726839 | L90: =+Beinasco!L90+Bruino!L90+Candiolo!L90+Carignano!L90+'Castagnole Piemonte'!L90+'La Loggia'!L90+Lombriasco!L90+Moncalieri!L90+Nichelino!L90+Orbassano!L90+Osasio!L90+Pancalieri!L90+'Piobesi Torinese'!L90+Piossasco!L90+'Rivalta di Torino'!L90+Trofarello!L90+Villastellone!L90+Vinovo!L90+'Virle Piemonte'!L90 -> 19340152 | O90: =+Beinasco!O90+Bruino!O90+Candiolo!O90+Carignano!O90+'Castagnole Piemonte'!O90+'La Loggia'!O90+Lombriasco!O90+Moncalieri!O90+Nichelino!O90+Orbassano!O90+Osasio!O90+Pancalieri!O90+'Piobesi Torinese'!O90+Piossasco!O90+'Rivalta di Torino'!O90+Trofarello!O90+Villastellone!O90+Vinovo!O90+'Virle Piemonte'!O90 -> 19184193
B91: Totale entrate tariffarie dopo le detrazioni di cui al comma 4.5 della Determina 1/DTAC/2025 | F91: =+Beinasco!F91+Bruino!F91+Candiolo!F91+Carignano!F91+'Castagnole Piemonte'!F91+'La Loggia'!F91+Lombriasco!F91+Moncalieri!F91+Nichelino!F91+Orbassano!F91+Osasio!F91+Pancalieri!F91+'Piobesi Torinese'!F91+Piossasco!F91+'Rivalta di Torino'!F91+Trofarello!F91+Villastellone!F91+Vinovo!F91+'Virle Piemonte'!F91 -> 46606359 | I91: =+Beinasco!I91+Bruino!I91+Candiolo!I91+Carignano!I91+'Castagnole Piemonte'!I91+'La Loggia'!I91+Lombriasco!I91+Moncalieri!I91+Nichelino!I91+Orbassano!I91+Osasio!I91+Pancalieri!I91+'Piobesi Torinese'!I91+Piossasco!I91+'Rivalta di Torino'!I91+Trofarello!I91+Villastellone!I91+Vinovo!I91+'Virle Piemonte'!I91 -> 48066290 | L91: =+Beinasco!L91+Bruino!L91+Candiolo!L91+Carignano!L91+'Castagnole Piemonte'!L91+'La Loggia'!L91+Lombriasco!L91+Moncalieri!L91+Nichelino!L91+Orbassano!L91+Osasio!L91+Pancalieri!L91+'Piobesi Torinese'!L91+Piossasco!L91+'Rivalta di Torino'!L91+Trofarello!L91+Villastellone!L91+Vinovo!L91+'Virle Piemonte'!L91 -> 47424276 | O91: =+Beinasco!O91+Bruino!O91+Candiolo!O91+Carignano!O91+'Castagnole Piemonte'!O91+'La Loggia'!O91+Lombriasco!O91+Moncalieri!O91+Nichelino!O91+Orbassano!O91+Osasio!O91+Pancalieri!O91+'Piobesi Torinese'!O91+Piossasco!O91+'Rivalta di Torino'!O91+Trofarello!O91+Villastellone!O91+Vinovo!O91+'Virle Piemonte'!O91 -> 47368096

Sheet Beinasco
B1: PEF 2026-2029
D3: 2026 | G3: 2027 | J3: 2028 | M3: 2029
D4: Comune di Beinasco | G4: Comune di Beinasco | J4: Comune di Beinasco | M4: Comune di Beinasco
D5: Costi del/i gestore/i diverso/i dal Comune | E5: Costi del/i Comune/i | F5: Ciclo integrato RU (TOT PEF) | G5: Costi del/i gestore/i diverso/i dal Comune | H5: Costi del/i Comune/i | I5: Ciclo integrato RU (TOT PEF) | J5: Costi del/i gestore/i diverso/i dal Comune | K5: Costi del/i Comune/i | L5: Ciclo integrato RU (TOT PEF) | M5: Costi del/i gestore/i diverso/i dal Comune | N5: Costi del/i Comune/i | O5: Ciclo integrato RU (TOT PEF)
B6: Costi dell’attività di raccolta e trasporto dei rifiuti urbani indifferenziati CRT | D6: 347417.85 | E6: 0 | F6: 347417.85 | G6: 335318.32 | H6: 0 | I6: 335318.32 | J6: 335318.32 | K6: 0 | L6: 335318.32 | M6: 335318.32 | N6: 0 | O6: 335318.32
B7: Costi dell’attività di trattamento e smaltimento dei rifiuti urbani CTS | D7: 416917.43 | E7: 0 | F7: 416917.43 | G7: 459192.84 | H7: 0 | I7: 459192.84 | J7: 459192.84 | K7: 0 | L7: 459192.84 | M7: 459192.84 | N7: 0 | O7: 459192.84
B8: Costi dell’attività di trattamento e recupero dei rifiuti urbani CTR | D8: 209531.85 | E8: 0 | F8: 209531.85 | G8: 210836.18 | H8: 0 | I8: 210836.18 | J8: 210836.18 | K8: 0 | L8: 210836.18 | M8: 210836.18 | N8: 0 | O8: 210836.18
B9: Costi dell’attività di raccolta e trasporto delle frazioni differenziate CRD | D9: 1018183.2 | E9: 0 | F9: 1018183.2 | G9: 1043149.6 | H9: 0 | I9: 1043149.6 | J9: 1043149.6 | K9: 0 | L9: 1043149.6 | M9: 1043149.6 | N9: 0 | O9: 1043149.6
B10: Costi operativi variabili previsionali di cui all'articolo 17.2 del MTR-3 CTS∆expTV | D10: 0 | E10: 0 | F10: 0 | G10: 0 | H10: 0 | I10: 0 | J10: 0 | K10: 0 | L10: 0 | M10: 0 | N10: 0 | O10: 0
B11: Costi operativi variabili previsionali di cui all'articolo 17.3 del MTR-3 COEXP116,TV | D11: 0 | E11: 0 | F11: 0 | G11: 0 | H11: 0 | I11: 0 | J11: 0 | K11: 0 | L11: 0 | M11: 0 | N11: 0 | O11: 0
B12: Costi operativi variabili previsionali di cui all'articolo 17.4 del MTR-3 CQEXPTV | D12: 0 | E12: 0 | F12: 0 | G12: 0 | H12: 0 | I12: 0 | J12: 0 | K12: 0 | L12: 0 | M12: 0 | N12: 0 | O12: 0
B13: Costi operativi variabili previsionali di cui all'articolo 17.5 del MTR-3 COANT,TV | D13: 22089.605 | E13: 0 | F13: 22089.605 | G13: 60583.083 | H13: 0 | I13: 60583.083 | J13: 0 | K13: 0 | L13: 0 | M13: 0 | N13: 0 | O13: 0
B14: Costi operativi incentivanti sistematici variabili di cui all'articolo 10 del MTR-3 COnewEXPTV | D14: 0 | E14: 0 | F14: 0 | G14: 0 | H14: 0 | I14: 0 | J14: 0 | K14: 0 | L14: 0 | M14: 0 | N14: 0 | O14: 0
B15: Costi operativi incentivanti non sistematici variabili di cui all'articolo 10 del MTR-3 COIEXPTV | D15: 0 | E15: 0 | F15: 0 | G15: 0 | H15: 0 | I15: 0 | J15: 0 | K15: 0 | L15: 0 | M15: 0 | N15: 0 | O15: 0
B16: Fattore di Sharing b | D16: 0.4 | E16: 0.4 | F16: 0.4 | G16: 0.4 | H16: 0.4 | I16: 0.4 | J16: 0.4 | K16: 0.4 | L16: 0.4 | M16: 0.4 | N16: 0.4 | O16: 0.4
B17: Proventi della vendita di materiale ed energia derivante da rifiuti AR | D17: 762.50757 | E17: 0 | F17: 762.50757 | G17: 1500.1008 | H17: 0 | I17: 1500.1008 | J17: 1500.1008 | K17: 0 | L17: 1500.1008 | M17: 1500.1008 | N17: 0 | O17: 1500.1008
... B21: di cui quote pregresse recuperate nell'anno a - quota variabile RC∆(T-Tmax)pre,TV,a | D21: 0 | E21: 0 | F21: 0 | G21: 0 | H21: 0 | I21: 0 | J21: 0 | K21: 0 | L21: 0 | M21: 0 | N21: 0 | O21: 0
B22: Oneri relativi all'IVA indetraibile - PARTE VARIABILE | E22: 169086.52 | F22: 169086.52 | H22: 178116.63 | I22: 178116.63 | K22: 172058.32 | L22: 172058.32 | N22: 172058.32 | O22: 172058.32
B23: ∑TVa totale delle entrate tariffarie relative alle componenti di costo variabile dopo le detrazioni di cui al. Art, 4.5 Del. 397/2025/R/Rif | D23: 1910969 | E23: 169086.52 | F23: 2080055.5 | G23: 2001270.1 | H23: 178116.63 | I23: 2179386.7 | J23: 1940687 | K23: 172058.32 | L23: 2112745.3 | M23: 1940687 | N23: 172058.32 | O23: 2112745.3
B25: Costi dell’attività di spazzamento e di lavaggio CSL | D25: 410193.63 | E25: 0 | F25: 410193.63 | G25: 398270.62 | H25: 0 | I25: 398270.62 | J25: 398270.62 | K25: 0 | L25: 398270.62 | M25: 398270.62 | N25: 0 | O25: 398270.62
B26: Costi per l’attività di gestione delle tariffe e dei rapporti con gli utenti CARC | D26: 194494.31 | E26: 0 | F26: 194494.31 | G26: 191088.66 | H26: 0 | I26: 191088.66 | J26: 191088.66 | K26: 0 | L26: 191088.66 | M26: 191088.66 | N26: 0 | O26: 191088.66
B27: Costi generali di gestione CGG | D27: 409665.05 | E27: 0 | F27: 409665.05 | G27: 475520.3 | H27: 0 | I27: 475520.3 | J27: 486319.67 | K27: 0 | L27: 486319.67 | M27: 486319.67 | N27: 0 | O27: 486319.67
B28: Costi relativi alla quota di crediti inesigibili CCD | D28: 0 | E28: 538218.94 | F28: 538218.94 | G28: 0 | H28: 527665.62 | I28: 527665.62 | J28: 0 | K28: 527665.62 | L28: 527665.62 | M28: 0 | N28: 527665.62 | O28: 527665.62
B29: Altri costi COAL | D29: 4769.8782 | E29: 0 | F29: 4769.8782 | G29: 1355.735 | H29: 0 | I29: 1355.735 | J29: 1355.735 | K29: 0 | L29: 1355.735 | M29: 1355.735 | N29: 0 | O29: 1355.735
B30: Costi comuni CC | D30: 608929.24 | E30: 538218.94 | F30: 1147148.2 | G30: 667964.69 | H30: 527665.62 | I30: 1195630.3 | J30: 678764.07 | K30: 527665.62 | L30: 1206429.7 | M30: 678764.07 | N30: 527665.62 | O30: 1206429.7
B31: Ammortamenti Amm | D31: 85378.11 | E31: 0 | F31: 85378.11 | G31: 89706.114 | H31: 0 | I31: 89706.114 | J31: 80297.534 | K31: 0 | L31: 80297.534 | M31: 72361.977 | N31: 0 | O31: 72361.977
B32: Accantonamenti Acc | D32: 0 | E32: 0 | F32: 0 | G32: 0 | H32: 0 | I32: 0 | J32: 0 | K32: 0 | L32: 0 | M32: 0 | N32: 0 | O32: 0
B33: - di cui costi di gestione post-operativa delle discariche | D33: 0 | E33: 0 | F33: 0 | G33: 0 | H33: 0 | I33: 0 | J33: 0 | K33: 0 | L33: 0 | M33: 0 | N33: 0 | O33: 0
B34: - di cui per crediti | D34: 0 | E34: 0 | F34: 0 | G34: 0 | H34: 0 | I34: 0 | J34: 0 | K34: 0 | L34: 0 | M34: 0 | N34: 0 | O34: 0
B35: - di cui per rischi e oneri previsti da normativa di settore e/o dal contratto di affidamento | D35: 0 | E35: 0 | F35: 0 | G35: 0 | H35: 0 | I35: 0 | J35: 0 | K35: 0 | L35: 0 | M35: 0 | N35: 0 | O35: 0
... B47: di cui quote pregresse recuperate nell'anno a - quota fissa RC∆(T-Tmax)pre,TF,a | D47: 0 | E47: 0 | F47: 0 | G47: 0 | H47: 0 | I47: 0 | J47: 0 | K47: 0 | L47: 0 | M47: 0 | N47: 0 | O47: 0
B48: Oneri relativi all'IVA indetraibile - PARTE FISSA | E48: 102598.37 | F48: 102598.37 | H48: 105510.43 | I48: 105510.43 | K48: 101087.23 | L48: 101087.23 | N48: 99746.643 | O48: 99746.643
B49: ∑TFa totale delle entrate tariffarie relative alle componenti di costo fisse dopo le detrazioni di cui al. Art. 4.5 Del. 397/2025/R/Rif | D49: 1246087.5 | E49: 640817.3 | F49: 1886904.8 | G49: 1275208.1 | H49: 633176.05 | I49: 1908384.2 | J49: 1230976.1 | K49: 628752.85 | L49: 1859729 | M49: 1217570.3 | N49: 627412.27 | O49: 1844982.5
B51: ∑Ta= ∑TVa + ∑TFa prima delle detrazioni di cui al. Art. 4.5 Del. 397/2025/R/Rif | D51: 3170266.3 | E51: 853924.59 | F51: 4024190.9 | G51: 3287277.6 | H51: 855313.45 | I51: 4142591 | J51: 3171663.2 | K51: 844831.94 | L51: 4016495.1 | M51: 3158257.3 | N51: 843491.35 | O51: 4001748.7
B52: ∑Ta= ∑TVa + ∑TFa dopo le detrazioni di cui al. Art. 4.5 Del. 397/2025/R/Rif | D52: 3157056.5 | E52: 809903.82 | F52: 3966960.3 | G52: 3276478.2 | H52: 811292.68 | I52: 4087770.9 | J52: 3171663.2 | K52: 800811.17 | L52: 3972474.3 | M52: 3158257.3 | N52: 799470.58 | O52: 3957727.9
B54: Grandezze fisico-tecniche
B55: raccolta differenziata % - (a-2) | F55: 0.63576805 | I55: 0.63576805 | L55: 0.63576805 | O55: 0.63576805
B56: qa-2 ton | F56: 7882.093 | I56: 7882.093 | L56: 7882.093 | O56: 7882.093
B57: costo unitario effettivo - Cueff €cent/kg - (a-2) | F57: 44.241389 | I57: 42.781582 | L57: 44.830825 | O57: 46.978219
B58: Benchmark di riferimento [cent€/kg] (fabbisogno standard/costo medio settore) - (a-2) | F58: 35.123 | I58: 35.123 | L58: 35.123 | O58: 35.123
B60: Coefficiente di gradualità
B61: valutazione rispetto agli obiettivi di raccolta differenziata ɣ1 | F61: -0.21897593 | I61: -0.21897593 | L61: -0.21897593 | O61: -0.21897593
B62: valutazione rispetto all' efficacia dell' attività di preparazione per il riutilizzo e riciclo ɣ2 | F62: -0.032564811 | I62: -0.032564811 | L62: -0.032564811 | O62: -0.032564811
B63: Totale ɣ | F63: -0.25154074 | I63: -0.25154074 | L63: -0.25154074 | O63: -0.25154074
B64: Coefficiente di gradualità (1+ ɣ) | F64: 0.74845926 | I64: 0.74845926 | L64: 0.74845926 | O64: 0.74845926
B66: Verifica del limite di crescita
B67: rpia | F67: 0.019 | I67: 0.019 | L67: 0.019 | O67: 0.019
B68: coefficiente di recupero di produttività Xa | F68: 0.0018 | I68: 0.0018 | L68: 0.0018 | O68: 0.0018
B69: coeff. Potenziamento del servizio Ka | F69: 0.0307 | I69: 0.0307 | L69: 0.0307 | O69: 0.0307
B70: coeff. per recupero inflazione CRIa | F70: 0 | I70: 0 | L70: 0 | O70: 0
B71: Parametro per la determinazione del limite alla crescita delle tariffe ρ | F71: 0.0479 | I71: 0.0479 | L71: 0.0479 | O71: 0.0479
B72: (1+ρ) | F72: 1.0479 | I72: 1.0479 | L72: 1.0479 | O72: 1.0479
B73: ∑Ta | F73: 3966960.3 | I73: 4087770.9 | L73: 3972474.3 | O73: 3957727.9
B74: ∑TVa-1 | F74: 1703503.9 | I74: 1852829.1 | L74: 1974175.9 | O74: 2063687.8
B75: ∑TFa-1 | F75: 1668580.1 | I75: 1680778.3 | L75: 1728690.9 | O75: 1816546.5
B76: ∑Ta-1 | F76: 3372084.1 | I76: 3533607.3 | L76: 3702866.9 | O76: 3880234.3
B77: ∑Ta/ ∑Ta-1 | F77: 1.1764121 | I77: 1.1568266 | L77: 1.0728105 | O77: 1.0199714
B79: ∑Tmax (entrate tariffarie massime applicabili nel rispetto del limite di crescita) | F79: 3533606.9 | I79: 3702867.1 | L79: 3880234.2 | O79: 3957727.9
B80: delta (∑Ta-∑Tmax) | F80: 433353.44 | I80: 384903.75 | L80: 92240.118 | O80: 0
B82: TVa dopo distribuzione delta (∑Ta-∑Tmax) | D82: 1910969 | E82: -58139.93 | F82: 1852829.1 | G82: 2001270.1 | H82: -27094.159 | I82: 1974175.9 | J82: 1940687 | K82: 123000.82 | L82: 2063687.8 | M82: 1940687 | N82: 172058.32 | O82: 2112745.3
B83: TFa dopo distribuzione delta (∑Ta-∑Tmax) | D83: 1246087.5 | E83: 434690.75 | F83: 1680778.3 | G83: 1275208.1 | H83: 453482.83 | I83: 1728690.9 | J83: 1230976.1 | K83: 585570.35 | L83: 1816546.5 | M83: 1217570.3 | N83: 627412.27 | O83: 1844982.5
B84: Ta=TVa+TFa dopo distribuzione delta (∑Ta-∑Tmax) | D84: 3157056.5 | E84: 376550.82 | F84: 3533607.3 | G84: 3276478.2 | H84: 426388.68 | I84: 3702866.9 | J84: 3171663.2 | K84: 708571.17 | L84: 3880234.3 | M84: 3158257.3 | N84: 799470.58 | O84: 3957727.9
B86: Detrazioni di cui al comma 4.5 della Determina 1/DTAC/2025 - parte variabile | F86: 0 | I86: 0 | L86: 0 | O86: 0
B87: Detrazioni di cui al comma 4.5 della Determina 1/DTAC/2025 - parte fissa | F87: 0 | I87: 0 | L87: 0 | O87: 0
B89: ∑TVa totale delle entrate tariffarie relative alle componenti di costo variabile dopo le detrazioni di cui al comma 4.5 Determina 1/DTAC/2025 | F89: 1852829.1 | I89: 1974175.9 | L89: 2063687.8 | O89: 2112745.3
B90: ∑TFa totale delle entrate tariffarie relative alle componenti di costo fisso dopo le detrazioni di cui al comma 4.5 della Determina 1/DTAC/2025 | F90: 1680778.3 | I90: 1728690.9 | L90: 1816546.5 | O90: 1844982.5
B91: Totale entrate tariffarie dopo le detrazioni di cui al comma 4.5 della Determina 1/DTAC/2025 | F91: 3533607.3 | I91: 3702866.9 | L91: 3880234.3 | O91: 3957727.9

Sheet Bruino
B1: PEF 2026-2029
D3: 2026 | G3: 2027 | J3: 2028 | M3: 2029
D4: Comune di Bruino | G4: Comune di Bruino | J4: Comune di Bruino | M4: Comune di Bruino
D5: Costi del/i gestore/i diverso/i dal Comune | E5: Costi del/i Comune/i | F5: Ciclo integrato RU (TOT PEF) | G5: Costi del/i gestore/i diverso/i dal Comune | H5: Costi del/i Comune/i | I5: Ciclo integrato RU (TOT PEF) | J5: Costi del/i gestore/i diverso/i dal Comune | K5: Costi del/i Comune/i | L5: Ciclo integrato RU (TOT PEF) | M5: Costi del/i gestore/i diverso/i dal Comune | N5: Costi del/i Comune/i | O5: Ciclo integrato RU (TOT PEF)
B6: Costi dell’attività di raccolta e trasporto dei rifiuti urbani indifferenziati CRT | D6: 167401.52 | E6: 0 | F6: 167401.52 | G6: 166496.96 | H6: 0 | I6: 166496.96 | J6: 166496.96 | K6: 0 | L6: 166496.96 | M6: 166496.96 | N6: 0 | O6: 166496.96
B7: Costi dell’attività di trattamento e smaltimento dei rifiuti urbani CTS | D7: 110789.94 | E7: 0 | F7: 110789.94 | G7: 118180.57 | H7: 0 | I7: 118180.57 | J7: 118180.57 | K7: 0 | L7: 118180.57 | M7: 118180.57 | N7: 0 | O7: 118180.57
B8: Costi dell’attività di trattamento e recupero dei rifiuti urbani CTR | D8: 158880.42 | E8: 0 | F8: 158880.42 | G8: 163960.78 | H8: 0 | I8: 163960.78 | J8: 163960.78 | K8: 0 | L8: 163960.78 | M8: 163960.78 | N8: 0 | O8: 163960.78
B9: Costi dell’attività di raccolta e trasporto delle frazioni differenziate CRD | D9: 490715.33 | E9: 0 | F9: 490715.33 | G9: 517227.73 | H9: 0 | I9: 517227.73 | J9: 517227.73 | K9: 0 | L9: 517227.73 | M9: 517227.73 | N9: 0 | O9: 517227.73
B10: Costi operativi variabili previsionali di cui all'articolo 17.2 del MTR-3 CTS∆expTV | D10: 0 | E10: 0 | F10: 0 | G10: 0 | H10: 0 | I10: 0 | J10: 0 | K10: 0 | L10: 0 | M10: 0 | N10: 0 | O10: 0
B11: Costi operativi variabili previsionali di cui all'articolo 17.3 del MTR-3 COEXP116,TV | D11: 0 | E11: 0 | F11: 0 | G11: 0 | H11: 0 | I11: 0 | J11: 0 | K11: 0 | L11: 0 | M11: 0 | N11: 0 | O11: 0
B12: Costi operativi variabili previsionali di cui all'articolo 17.4 del MTR-3 CQEXPTV | D12: 0 | E12: 0 | F12: 0 | G12: 0 | H12: 0 | I12: 0 | J12: 0 | K12: 0 | L12: 0 | M12: 0 | N12: 0 | O12: 0
B13: Costi operativi variabili previsionali di cui all'articolo 17.5 del MTR-3 COANT,TV | D13: 10643.763 | E13: 0 | F13: 10643.763 | G13: 30081.564 | H13: 0 | I13: 30081.564 | J13: 0 | K13: 0 | L13: 0 | M13: 0 | N13: 0 | O13: 0
B14: Costi operativi incentivanti sistematici variabili di cui all'articolo 10 del MTR-3 COnewEXPTV | D14: 0 | E14: 0 | F14: 0 | G14: 0 | H14: 0 | I14: 0 | J14: 0 | K14: 0 | L14: 0 | M14: 0 | N14: 0 | O14: 0
B15: Costi operativi incentivanti non sistematici variabili di cui all'articolo 10 del MTR-3 COIEXPTV | D15: 0 | E15: 0 | F15: 0 | G15: 0 | H15: 0 | I15: 0 | J15: 0 | K15: 0 | L15: 0 | M15: 0 | N15: 0 | O15: 0
B16: Fattore di Sharing b | D16: 0.2 | E16: 0.2 | F16: 0.2 | G16: 0.2 | H16: 0.2 | I16: 0.2 | J16: 0.2 | K16: 0.2 | L16: 0.2 | M16: 0.2 | N16: 0.2 | O16: 0.2
B17: Proventi della vendita di materiale ed energia derivante da rifiuti AR | D17: 371.59982 | E17: 0 | F17: 371.59982 | G17: 731.05791 | H17: 0 | I17: 731.05791 | J17: 731.05791 | K17: 0 | L17: 731.05791 | M17: 731.05791 | N17: 0 | O17: 731.05791
... B21: di cui quote pregresse recuperate nell'anno a - quota variabile RC∆(T-Tmax)pre,TV,a | D21: 0 | E21: 0 | F21: 0 | G21: 0 | H21: 0 | I21: 0 | J21: 0 | K21: 0 | L21: 0 | M21: 0 | N21: 0 | O21: 0
B22: Oneri relativi all'IVA indetraibile - PARTE VARIABILE | E22: 78739.37 | F22: 78739.37 | H22: 84377.995 | I22: 84377.995 | K22: 81369.839 | L22: 81369.839 | N22: 81369.839 | O22: 81369.839
B23: ∑TVa totale delle entrate tariffarie relative alle componenti di costo variabile dopo le detrazioni di cui al. Art, 4.5 Del. 397/2025/R/Rif | D23: 913291.35 | E23: 78739.37 | F23: 992030.72 | G23: 969677.6 | H23: 84377.995 | I23: 1054055.6 | J23: 939596.04 | K23: 81369.839 | L23: 1020965.9 | M23: 939596.04 | N23: 81369.839 | O23: 1020965.9
B25: Costi dell’attività di spazzamento e di lavaggio CSL | D25: 197649.71 | E25: 0 | F25: 197649.71 | G25: 197733.2 | H25: 0 | I25: 197733.2 | J25: 197733.2 | K25: 0 | L25: 197733.2 | M25: 197733.2 | N25: 0 | O25: 197733.2
B26: Costi per l’attività di gestione delle tariffe e dei rapporti con gli utenti CARC | D26: 80347.954 | E26: 31704.116 | F26: 112052.07 | G26: 78971.321 | H26: 31082.467 | I26: 110053.79 | J26: 78971.321 | K26: 31082.467 | L26: 110053.79 | M26: 78971.321 | N26: 31082.467 | O26: 110053.79
B27: Costi generali di gestione CGG | D27: 191462.28 | E27: 0 | F27: 191462.28 | G27: 226186.95 | H27: 0 | I27: 226186.95 | J27: 231449.91 | K27: 0 | L27: 231449.91 | M27: 231449.91 | N27: 0 | O27: 231449.91
B28: Costi relativi alla quota di crediti inesigibili CCD | D28: 0 | E28: 102482.33 | F28: 102482.33 | G28: 0 | H28: 100472.87 | I28: 100472.87 | J28: 0 | K28: 100472.87 | L28: 100472.87 | M28: 0 | N28: 100472.87 | O28: 100472.87
B29: Altri costi COAL | D29: 2321.4042 | E29: 23267.835 | F29: 25589.24 | G29: 665.66239 | H29: 22811.603 | I29: 23477.266 | J29: 665.66239 | K29: 22811.603 | L29: 23477.266 | M29: 665.66239 | N29: 22811.603 | O29: 23477.266
B30: Costi comuni CC | D30: 274131.63 | E30: 157454.28 | F30: 431585.91 | G30: 305823.93 | H30: 154366.94 | I30: 460190.87 | J30: 311086.89 | K30: 154366.94 | L30: 465453.83 | M30: 311086.89 | N30: 154366.94 | O30: 465453.83
B31: Ammortamenti Amm | D31: 41488.302 | E31: 0 | F31: 41488.302 | G31: 43596.267 | H31: 0 | I31: 43596.267 | J31: 39053.635 | K31: 0 | L31: 39053.635 | M31: 35188.271 | N31: 0 | O31: 35188.271
B32: Accantonamenti Acc | D32: 0 | E32: 77371.37 | F32: 77371.37 | G32: 0 | H32: 75854.284 | I32: 75854.284 | J32: 0 | K32: 75854.284 | L32: 75854.284 | M32: 0 | N32: 75854.284 | O32: 75854.284
B33: - di cui costi di gestione post-operativa delle discariche | D33: 0 | E33: 0 | F33: 0 | G33: 0 | H33: 0 | I33: 0 | J33: 0 | K33: 0 | L33: 0 | M33: 0 | N33: 0 | O33: 0
B34: - di cui per crediti | D34: 0 | E34: 77371.37 | F34: 77371.37 | G34: 0 | H34: 75854.284 | I34: 75854.284 | J34: 0 | K34: 75854.284 | L34: 75854.284 | M34: 0 | N34: 75854.284 | O34: 75854.284
B35: - di cui per rischi e oneri previsti da normativa di settore e/o dal contratto di affidamento | D35: 0 | E35: 0 | F35: 0 | G35: 0 | H35: 0 | I35: 0 | J35: 0 | K35: 0 | L35: 0 | M35: 0 | N35: 0 | O35: 0
... B47: di cui quote pregresse recuperate nell'anno a - quota fissa RC∆(T-Tmax)pre,TF,a | D47: 0 | E47: 0 | F47: 0 | G47: 0 | H47: 0 | I47: 0 | J47: 0 | K47: 0 | L47: 0 | M47: 0 | N47: 0 | O47: 0
B48: Oneri relativi all'IVA indetraibile - PARTE FISSA | E48: 46220.052 | F48: 46220.052 | H48: 48873.426 | I48: 48873.426 | K48: 45837.491 | L48: 45837.491 | N48: 45184.276 | O48: 45184.276
B49: ∑TFa totale delle entrate tariffarie relative alle componenti di costo fisse dopo le detrazioni di cui al. Art. 4.5 Del. 397/2025/R/Rif | D49: 588098.17 | E49: 281045.7 | F49: 869143.87 | G49: 614631.91 | H49: 279094.65 | I49: 893726.56 | J49: 584272.56 | K49: 276058.71 | L49: 860331.28 | M49: 577740.41 | N49: 275405.5 | O49: 853145.91
B51: ∑Ta= ∑TVa + ∑TFa prima delle detrazioni di cui al. Art. 4.5 Del. 397/2025/R/Rif | D51: 1507827.2 | E51: 384964.6 | F51: 1892791.8 | G51: 1589572.5 | H51: 388652.17 | I51: 1978224.6 | J51: 1523868.6 | K51: 382608.08 | L51: 1906476.7 | M51: 1517336.4 | N51: 381954.87 | O51: 1899291.3
B52: ∑Ta= ∑TVa + ∑TFa dopo le detrazioni di cui al. Art. 4.5 Del. 397/2025/R/Rif | D52: 1501389.5 | E52: 359785.07 | F52: 1861174.6 | G52: 1584309.5 | H52: 363472.64 | I52: 1947782.2 | J52: 1523868.6 | K52: 357428.55 | L52: 1881297.1 | M52: 1517336.4 | N52: 356775.34 | O52: 1874111.8
B54: Grandezze fisico-tecniche
B55: raccolta differenziata % - (a-2) | F55: 0.79912313 | I55: 0.79912313 | L55: 0.79912313 | O55: 0.79912313
B56: qa-2 ton | F56: 3982.922 | I56: 3982.922 | L56: 3982.922 | O56: 3982.922
B57: costo unitario effettivo - Cueff €cent/kg - (a-2) | F57: 38.214202 | I57: 36.906534 | L57: 38.67436 | O57: 40.526858
B58: Benchmark di riferimento [cent€/kg] (fabbisogno standard/costo medio settore) - (a-2) | F58: 29.51 | I58: 29.51 | L58: 29.51 | O58: 29.51
B60: Coefficiente di gradualità
B61: valutazione rispetto agli obiettivi di raccolta differenziata ɣ1 | F61: -0.001169103 | I61: -0.001169103 | L61: -0.001169103 | O61: -0.001169103
B62: valutazione rispetto all' efficacia dell' attività di preparazione per il riutilizzo e riciclo ɣ2 | F62: -0.032564811 | I62: -0.032564811 | L62: -0.032564811 | O62: -0.032564811
B63: Totale ɣ | F63: -0.033733914 | I63: -0.033733914 | L63: -0.033733914 | O63: -0.033733914
B64: Coefficiente di gradualità (1+ ɣ) | F64: 0.96626609 | I64: 0.96626609 | L64: 0.96626609 | O64: 0.96626609
B66: Verifica del limite di crescita
B67: rpia | F67: 0.019 | I67: 0.019 | L67: 0.019 | O67: 0.019
B68: coefficiente di recupero di produttività Xa | F68: 0.0014 | I68: 0.0014 | L68: 0.0014 | O68: 0.0014
B69: coeff. Potenziamento del servizio Ka | F69: 0.0303 | I69: 0.0303 | L69: 0.0303 | O69: 0.0303
B70: coeff. per recupero inflazione CRIa | F70: 0 | I70: 0 | L70: 0 | O70: 0
B71: Parametro per la determinazione del limite alla crescita delle tariffe ρ | F71: 0.0479 | I71: 0.0479 | L71: 0.0479 | O71: 0.0479
B72: (1+ρ) | F72: 1.0479 | I72: 1.0479 | L72: 1.0479 | O72: 1.0479
B73: ∑Ta | F73: 1861174.6 | I73: 1947782.2 | L73: 1881297.1 | O73: 1874111.8
B74: ∑TVa-1 | F74: 868252.41 | I74: 821037.4 | L74: 873509.99 | O74: 917948.73
B75: ∑TFa-1 | F75: 601706.07 | I75: 719332.19 | L75: 740643.17 | O75: 773522.42
B76: ∑Ta-1 | F76: 1469958.5 | I76: 1540369.6 | L76: 1614153.2 | O76: 1691471.1
B77: ∑Ta/ ∑Ta-1 | F77: 1.2661409 | I77: 1.2644901 | L77: 1.165501 | O77: 1.1079774
B79: ∑Tmax (entrate tariffarie massime applicabili nel rispetto del limite di crescita) | F79: 1540369.5 | I79: 1614153.3 | L79: 1691471.1 | O79: 1772492.6
B80: delta (∑Ta-∑Tmax) | F80: 320805.1 | I80: 333628.86 | L80: 189826.06 | O80: 101619.16
B82: TVa dopo distribuzione delta (∑Ta-∑Tmax) | D82: 913291.35 | E82: -92253.946 | F82: 821037.4 | G82: 969677.6 | H82: -96167.613 | I82: 873509.99 | J82: 939596.04 | K82: -21647.31 | L82: 917948.73 | M82: 939596.04 | N82: 26010.531 | O82: 965606.57
B83: TFa dopo distribuzione delta (∑Ta-∑Tmax) | D83: 588098.17 | E83: 131234.01 | F83: 719332.19 | G83: 614631.91 | H83: 126011.26 | I83: 740643.17 | J83: 584272.56 | K83: 189249.86 | L83: 773522.42 | M83: 577740.41 | N83: 229145.81 | O83: 806886.21
B84: Ta=TVa+TFa dopo distribuzione delta (∑Ta-∑Tmax) | D84: 1501389.5 | E84: 38980.068 | F84: 1540369.6 | G84: 1584309.5 | H84: 29843.643 | I84: 1614153.2 | J84: 1523868.6 | K84: 167602.55 | L84: 1691471.1 | M84: 1517336.4 | N84: 255156.34 | O84: 1772492.8
B86: Detrazioni di cui al comma 4.5 della Determina 1/DTAC/2025 - parte variabile | F86: 0 | I86: 0 | L86: 0 | O86: 0
B87: Detrazioni di cui al comma 4.5 della Determina 1/DTAC/2025 - parte fissa | F87: 54268.02 | I87: 54268.02 | L87: 54268.02 | O87: 54268.02
B89: ∑TVa totale delle entrate tariffarie relative alle componenti di costo variabile dopo le detrazioni di cui al comma 4.5 Determina 1/DTAC/2025 | F89: 821037.4 | I89: 873509.99 | L89: 917948.73 | O89: 965606.57
B90: ∑TFa totale delle entrate tariffarie relative alle componenti di costo fisso dopo le detrazioni di cui al comma 4.5 della Determina 1/DTAC/2025 | F90: 665064.17 | I90: 686375.15 | L90: 719254.4 | O90: 752618.19
B91: Totale entrate tariffarie dopo le detrazioni di cui al comma 4.5 della Determina 1/DTAC/2025 | F91: 1486101.6 | I91: 1559885.1 | L91: 1637203.1 | O91: 1718224.8

Sheet Candiolo
B1: PEF 2026-2029
D3: 2026 | G3: 2027 | J3: 2028 | M3: 2029
D4: Comune di Candiolo | G4: Comune di Candiolo | J4: Comune di Candiolo | M4: Comune di Candiolo
D5: Costi del/i gestore/i diverso/i dal Comune | E5: Costi del/i Comune/i | F5: Ciclo integrato RU (TOT PEF) | G5: Costi del/i gestore/i diverso/i dal Comune | H5: Costi del/i Comune/i | I5: Ciclo integrato RU (TOT PEF) | J5: Costi del/i gestore/i diverso/i dal Comune | K5: Costi del/i Comune/i | L5: Ciclo integrato RU (TOT PEF) | M5: Costi del/i gestore/i diverso/i dal Comune | N5: Costi del/i Comune/i | O5: Ciclo integrato RU (TOT PEF)
B6: Costi dell’attività di raccolta e trasporto dei rifiuti urbani indifferenziati CRT | D6: 90239.556 | E6: 0 | F6: 90239.556 | G6: 95004.232 | H6: 0 | I6: 95004.232 | J6: 95004.232 | K6: 0 | L6: 95004.232 | M6: 95004.232 | N6: 0 | O6: 95004.232
B7: Costi dell’attività di trattamento e smaltimento dei rifiuti urbani CTS | D7: 87882.778 | E7: 0 | F7: 87882.778 | G7: 96767.521 | H7: 0 | I7: 96767.521 | J7: 96767.521 | K7: 0 | L7: 96767.521 | M7: 96767.521 | N7: 0 | O7: 96767.521
B8: Costi dell’attività di trattamento e recupero dei rifiuti urbani CTR | D8: 100416.41 | E8: 0 | F8: 100416.41 | G8: 106724.32 | H8: 0 | I8: 106724.32 | J8: 106724.32 | K8: 0 | L8: 106724.32 | M8: 106724.32 | N8: 0 | O8: 106724.32
B9: Costi dell’attività di raccolta e trasporto delle frazioni differenziate CRD | D9: 265757.06 | E9: 0 | F9: 265757.06 | G9: 298852.87 | H9: 0 | I9: 298852.87 | J9: 298852.87 | K9: 0 | L9: 298852.87 | M9: 298852.87 | N9: 0 | O9: 298852.87
B10: Costi operativi variabili previsionali di cui all'articolo 17.2 del MTR-3 CTS∆expTV | D10: 0 | E10: 0 | F10: 0 | G10: 0 | H10: 0 | I10: 0 | J10: 0 | K10: 0 | L10: 0 | M10: 0 | N10: 0 | O10: 0
B11: Costi operativi variabili previsionali di cui all'articolo 17.3 del MTR-3 COEXP116,TV | D11: 0 | E11: 0 | F11: 0 | G11: 0 | H11: 0 | I11: 0 | J11: 0 | K11: 0 | L11: 0 | M11: 0 | N11: 0 | O11: 0
B12: Costi operativi variabili previsionali di cui all'articolo 17.4 del MTR-3 CQEXPTV | D12: 0 | E12: 0 | F12: 0 | G12: 0 | H12: 0 | I12: 0 | J12: 0 | K12: 0 | L12: 0 | M12: 0 | N12: 0 | O12: 0
B13: Costi operativi variabili previsionali di cui all'articolo 17.5 del MTR-3 COANT,TV | D13: 5737.6331 | E13: 0 | F13: 5737.6331 | G13: 17164.733 | H13: 0 | I13: 17164.733 | J13: 0 | K13: 0 | L13: 0 | M13: 0 | N13: 0 | O13: 0
B14: Costi operativi incentivanti sistematici variabili di cui all'articolo 10 del MTR-3 COnewEXPTV | D14: 0 | E14: 0 | F14: 0 | G14: 0 | H14: 0 | I14: 0 | J14: 0 | K14: 0 | L14: 0 | M14: 0 | N14: 0 | O14: 0
B15: Costi operativi incentivanti non sistematici variabili di cui all'articolo 10 del MTR-3 COIEXPTV | D15: 0 | E15: 0 | F15: 0 | G15: 0 | H15: 0 | I15: 0 | J15: 0 | K15: 0 | L15: 0 | M15: 0 | N15: 0 | O15: 0
B16: Fattore di Sharing b | D16: 0.2 | E16: 0.2 | F16: 0.2 | G16: 0.2 | H16: 0.2 | I16: 0.2 | J16: 0.2 | K16: 0.2 | L16: 0.2 | M16: 0.2 | N16: 0.2 | O16: 0.2
B17: Proventi della vendita di materiale ed energia derivante da rifiuti AR | D17: 247.68217 | E17: 0 | F17: 247.68217 | G17: 487.27153 | H17: 0 | I17: 487.27153 | J17: 487.27153 | K17: 0 | L17: 487.27153 | M17: 487.27153 | N17: 0 | O17: 487.27153
... B21: di cui quote pregresse recuperate nell'anno a - quota variabile RC∆(T-Tmax)pre,TV,a | D21: 0 | E21: 0 | F21: 0 | G21: 0 | H21: 0 | I21: 0 | J21: 0 | K21: 0 | L21: 0 | M21: 0 | N21: 0 | O21: 0
B22: Oneri relativi all'IVA indetraibile - PARTE VARIABILE | E22: 48456.11 | F22: 48456.11 | H22: 54828.79 | I22: 54828.79 | K22: 53112.317 | L22: 53112.317 | N22: 53112.317 | O22: 53112.317
B23: ∑TVa totale delle entrate tariffarie relative alle componenti di costo variabile dopo le detrazioni di cui al. Art, 4.5 Del. 397/2025/R/Rif | D23: 533277.15 | E23: 48456.11 | F23: 581733.26 | G23: 597003.95 | H23: 54828.79 | I23: 651832.74 | J23: 579839.22 | K23: 53112.317 | L23: 632951.53 | M23: 579839.22 | N23: 53112.317 | O23: 632951.53
B25: Costi dell’attività di spazzamento e di lavaggio CSL | D25: 106545.16 | E25: 38074.43 | F25: 144619.59 | G25: 112938.28 | H25: 37327.873 | I25: 150266.16 | J25: 112938.28 | K25: 37327.873 | L25: 150266.16 | M25: 112938.28 | N25: 37327.873 | O25: 150266.16
B26: Costi per l’attività di gestione delle tariffe e dei rapporti con gli utenti CARC | D26: 52852.256 | E26: 0 | F26: 52852.256 | G26: 51948.455 | H26: 0 | I26: 51948.455 | J26: 51948.455 | K26: 0 | L26: 51948.455 | M26: 51948.455 | N26: 0 | O26: 51948.455
B27: Costi generali di gestione CGG | D27: 116474.52 | E27: 0 | F27: 116474.52 | G27: 142521.29 | H27: 0 | I27: 142521.29 | J27: 146029.21 | K27: 0 | L27: 146029.21 | M27: 146029.21 | N27: 0 | O27: 146029.21
B28: Costi relativi alla quota di crediti inesigibili CCD | D28: 0 | E28: 0 | F28: 0 | G28: 0 | H28: 0 | I28: 0 | J28: 0 | K28: 0 | L28: 0 | M28: 0 | N28: 0 | O28: 0
B29: Altri costi COAL | D29: 1512.1333 | E29: 0 | F29: 1512.1333 | G29: 417.99299 | H29: 0 | I29: 417.99299 | J29: 417.99299 | K29: 0 | L29: 417.99299 | M29: 417.99299 | N29: 0 | O29: 417.99299
B30: Costi comuni CC | D30: 170838.9 | E30: 0 | F30: 170838.9 | G30: 194887.74 | H30: 0 | I30: 194887.74 | J30: 198395.66 | K30: 0 | L30: 198395.66 | M30: 198395.66 | N30: 0 | O30: 198395.66
B31: Ammortamenti Amm | D31: 31311.166 | E31: 0 | F31: 31311.166 | G31: 32193.909 | H31: 0 | I31: 32193.909 | J31: 29119.47 | K31: 0 | L31: 29119.47 | M31: 25762.952 | N31: 0 | O31: 25762.952
B32: Accantonamenti Acc | D32: 0 | E32: 57130.7 | F32: 57130.7 | G32: 0 | H32: 56010.49 | I32: 56010.49 | J32: 0 | K32: 56010.49 | L32: 56010.49 | M32: 0 | N32: 56010.49 | O32: 56010.49
B33: - di cui costi di gestione post-operativa delle discariche | D33: 0 | E33: 0 | F33: 0 | G33: 0 | H33: 0 | I33: 0 | J33: 0 | K33: 0 | L33: 0 | M33: 0 | N33: 0 | O33: 0
B34: - di cui per crediti | D34: 0 | E34: 57130.7 | F34: 57130.7 | G34: 0 | H34: 56010.49 | I34: 56010.49 | J34: 0 | K34: 56010.49 | L34: 56010.49 | M34: 0 | N34: 56010.49 | O34: 56010.49
B35: - di cui per rischi e oneri previsti da normativa di settore e/o dal contratto di affidamento | D35: 0 | E35: 0 | F35: 0 | G35: 0 | H35: 0 | I35: 0 | J35: 0 | K35: 0 | L35: 0 | M35: 0 | N35: 0 | O35: 0
... B47: di cui quote pregresse recuperate nell'anno a - quota fissa RC∆(T-Tmax)pre,TF,a | D47: 0 | E47: 0 | F47: 0 | G47: 0 | H47: 0 | I47: 0 | J47: 0 | K47: 0 | L47: 0 | M47: 0 | N47: 0 | O47: 0
B48: Oneri relativi all'IVA indetraibile - PARTE FISSA | E48: 39148.53 | F48: 39148.53 | H48: 41508.966 | I48: 41508.966 | K48: 39760.02 | L48: 39760.02 | N48: 39225.203 | O48: 39225.203
B49: ∑TFa totale delle entrate tariffarie relative alle componenti di costo fisse dopo le detrazioni di cui al. Art. 4.5 Del. 397/2025/R/Rif | D49: 356437.65 | E49: 134353.66 | F49: 490791.31 | G49: 381684.44 | H49: 134847.33 | I49: 516531.76 | J49: 364194.98 | K49: 133098.38 | L49: 497293.37 | M49: 358846.81 | N49: 132563.57 | O49: 491410.38
B51: ∑Ta= ∑TVa + ∑TFa prima delle detrazioni di cui al. Art. 4.5 Del. 397/2025/R/Rif | D51: 894005.68 | E51: 192552.98 | F51: 1086558.7 | G51: 982196.3 | H51: 199419.33 | I51: 1181615.6 | J51: 944034.2 | K51: 195953.91 | L51: 1139988.1 | M51: 938686.03 | N51: 195419.09 | O51: 1134105.1
B52: ∑Ta= ∑TVa + ∑TFa dopo le detrazioni di cui al. Art. 4.5 Del. 397/2025/R/Rif | D52: 889714.8 | E52: 182809.77 | F52: 1072524.6 | G52: 978688.39 | H52: 189676.12 | I52: 1168364.5 | J52: 944034.2 | K52: 186210.7 | L52: 1130244.9 | M52: 938686.03 | N52: 185675.88 | O52: 1124361.9
B54: Grandezze fisico-tecniche
B55: raccolta differenziata % - (a-2) | F55: 0.77755172 | I55: 0.77755172 | L55: 0.77755172 | O55: 0.77755172
B56: qa-2 ton | F56: 2878.804 | I56: 2878.804 | L56: 2878.804 | O56: 2878.804
B57: costo unitario effettivo - Cueff €cent/kg - (a-2) | F57: 36.090122 | I57: 38.343752 | L57: 37.255908 | O57: 39.044183
B58: Benchmark di riferimento [cent€/kg] (fabbisogno standard/costo medio settore) - (a-2) | F58: 27.305 | I58: 27.305 | L58: 27.305 | O58: 27.305
B60: Coefficiente di gradualità
B61: valutazione rispetto agli obiettivi di raccolta differenziata ɣ1 | F61: -0.029929537 | I61: -0.029929537 | L61: -0.029929537 | O61: -0.029929537
B62: valutazione rispetto all' efficacia dell' attività di preparazione per il riutilizzo e riciclo ɣ2 | F62: -0.032564811 | I62: -0.032564811 | L62: -0.032564811 | O62: -0.032564811
B63: Totale ɣ | F63: -0.062494348 | I63: -0.062494348 | L63: -0.062494348 | O63: -0.062494348
B64: Coefficiente di gradualità (1+ ɣ) | F64: 0.93750565 | I64: 0.93750565 | L64: 0.93750565 | O64: 0.93750565
B66: Verifica del limite di crescita
B67: rpia | F67: 0.019 | I67: 0.019 | L67: 0.019 | O67: 0.019
B68: coefficiente di recupero di produttività Xa | F68: 0.0014 | I68: 0.0014 | L68: 0.0014 | O68: 0.0014
B69: coeff. Potenziamento del servizio Ka | F69: 0.0304 | I69: 0.0304 | L69: 0.0304 | O69: 0.0304
B70: coeff. per recupero inflazione CRIa | F70: 0 | I70: 0 | L70: 0 | O70: 0
B71: Parametro per la determinazione del limite alla crescita delle tariffe ρ | F71: 0.048 | I71: 0.048 | L71: 0.048 | O71: 0.048
B72: (1+ρ) | F72: 1.048 | I72: 1.048 | L72: 1.048 | O72: 1.048
B73: ∑Ta | F73: 1072524.6 | I73: 1168364.5 | L73: 1130244.9 | O73: 1124361.9
B74: ∑TVa-1 | F74: 751460.96 | I74: 581733.26 | L74: 627084.77 | O74: 632951.53
B75: ∑TFa-1 | F75: 352380.5 | I75: 490791.31 | L75: 496920.73 | O75: 497293.37
B76: ∑Ta-1 | F76: 1103841.5 | I76: 1072524.6 | L76: 1124005.5 | O76: 1130244.9
B77: ∑Ta/ ∑Ta-1 | F77: 0.97162917 | I77: 1.0893592 | L77: 1.005551 | O77: 0.99479494
B79: ∑Tmax (entrate tariffarie massime applicabili nel rispetto del limite di crescita) | F79: 1072524.6 | I79: 1124005.7 | L79: 1130244.9 | O79: 1124361.9
B80: delta (∑Ta-∑Tmax) | F80: 0 | I80: 44358.756 | L80: 0 | O80: 0
B82: TVa dopo distribuzione delta (∑Ta-∑Tmax) | D82: 533277.15 | E82: 48456.11 | F82: 581733.26 | G82: 597003.95 | H82: 30080.821 | I82: 627084.77 | J82: 579839.22 | K82: 53112.317 | L82: 632951.53 | M82: 579839.22 | N82: 53112.317 | O82: 632951.53
B83: TFa dopo distribuzione delta (∑Ta-∑Tmax) | D83: 356437.65 | E83: 134353.66 | F83: 490791.31 | G83: 381684.44 | H83: 115236.3 | I83: 496920.73 | J83: 364194.98 | K83: 133098.38 | L83: 497293.37 | M83: 358846.81 | N83: 132563.57 | O83: 491410.38
B84: Ta=TVa+TFa dopo distribuzione delta (∑Ta-∑Tmax) | D84: 889714.8 | E84: 182809.77 | F84: 1072524.6 | G84: 978688.39 | H84: 145317.12 | I84: 1124005.5 | J84: 944034.2 | K84: 186210.7 | L84: 1130244.9 | M84: 938686.03 | N84: 185675.88 | O84: 1124361.9
B86: Detrazioni di cui al comma 4.5 della Determina 1/DTAC/2025 - parte variabile | F86: 0 | I86: 0 | L86: 0 | O86: 0
B87: Detrazioni di cui al comma 4.5 della Determina 1/DTAC/2025 - parte fissa | F87: 53842.52 | I87: 53842.52 | L87: 53842.52 | O87: 53842.52
B89: ∑TVa totale delle entrate tariffarie relative alle componenti di costo variabile dopo le detrazioni di cui al comma 4.5 Determina 1/DTAC/2025 | F89: 581733.26 | I89: 627084.77 | L89: 632951.53 | O89: 632951.53
B90: ∑TFa totale delle entrate tariffarie relative alle componenti di costo fisso dopo le detrazioni di cui al comma 4.5 della Determina 1/DTAC/2025 | F90: 436948.79 | I90: 443078.21 | L90: 443450.85 | O90: 437567.86
B91: Totale entrate tariffarie dopo le detrazioni di cui al comma 4.5 della Determina 1/DTAC/2025 | F91: 1018682 | I91: 1070163 | L91: 1076402.4 | O91: 1070519.4

Sheet Carignano
B1: PEF 2026-2029
D3: 2026 | G3: 2027 | J3: 2028 | M3: 2029
D4: Comune di Carignano | G4: Comune di Carignano | J4: Comune di Carignano | M4: Comune di Carignano
D5: Costi del/i gestore/i diverso/i dal Comune | E5: Costi del/i Comune/i | F5: Ciclo integrato RU (TOT PEF) | G5: Costi del/i gestore/i diverso/i dal Comune | H5: Costi del/i Comune/i | I5: Ciclo integrato RU (TOT PEF) | J5: Costi del/i gestore/i diverso/i dal Comune | K5: Costi del/i Comune/i | L5: Ciclo integrato RU (TOT PEF) | M5: Costi del/i gestore/i diverso/i dal Comune | N5: Costi del/i Comune/i | O5: Ciclo integrato RU (TOT PEF)
B6: Costi dell’attività di raccolta e trasporto dei rifiuti urbani indifferenziati CRT | D6: 145079.47 | E6: 0 | F6: 145079.47 | G6: 131166.49 | H6: 0 | I6: 131166.49 | J6: 131166.49 | K6: 0 | L6: 131166.49 | M6: 131166.49 | N6: 0 | O6: 131166.49
B7: Costi dell’attività di trattamento e smaltimento dei rifiuti urbani CTS | D7: 149517.98 | E7: 0 | F7: 149517.98 | G7: 167047.88 | H7: 0 | I7: 167047.88 | J7: 167047.88 | K7: 0 | L7: 167047.88 | M7: 167047.88 | N7: 0 | O7: 167047.88
B8: Costi dell’attività di trattamento e recupero dei rifiuti urbani CTR | D8: 160496.49 | E8: 0 | F8: 160496.49 | G8: 158588.33 | H8: 0 | I8: 158588.33 | J8: 158588.33 | K8: 0 | L8: 158588.33 | M8: 158588.33 | N8: 0 | O8: 158588.33
B9: Costi dell’attività di raccolta e trasporto delle frazioni differenziate CRD | D9: 427604.93 | E9: 0 | F9: 427604.93 | G9: 419854.35 | H9: 0 | I9: 419854.35 | J9: 419854.35 | K9: 0 | L9: 419854.35 | M9: 419854.35 | N9: 0 | O9: 419854.35
B10: Costi operativi variabili previsionali di cui all'articolo 17.2 del MTR-3 CTS∆expTV | D10: 0 | E10: 0 | F10: 0 | G10: 0 | H10: 0 | I10: 0 | J10: 0 | K10: 0 | L10: 0 | M10: 0 | N10: 0 | O10: 0
B11: Costi operativi variabili previsionali di cui all'articolo 17.3 del MTR-3 COEXP116,TV | D11: 0 | E11: 0 | F11: 0 | G11: 0 | H11: 0 | I11: 0 | J11: 0 | K11: 0 | L11: 0 | M11: 0 | N11: 0 | O11: 0
B12: Costi operativi variabili previsionali di cui all'articolo 17.4 del MTR-3 CQEXPTV | D12: 0 | E12: 0 | F12: 0 | G12: 0 | H12: 0 | I12: 0 | J12: 0 | K12: 0 | L12: 0 | M12: 0 | N12: 0 | O12: 0
B13: Costi operativi variabili previsionali di cui all'articolo 17.5 del MTR-3 COANT,TV | D13: 9224.4774 | E13: 0 | F13: 9224.4774 | G13: 23698.289 | H13: 0 | I13: 23698.289 | J13: 0 | K13: 0 | L13: 0 | M13: 0 | N13: 0 | O13: 0
B14: Costi operativi incentivanti sistematici variabili di cui all'articolo 10 del MTR-3 COnewEXPTV | D14: 0 | E14: 0 | F14: 0 | G14: 0 | H14: 0 | I14: 0 | J14: 0 | K14: 0 | L14: 0 | M14: 0 | N14: 0 | O14: 0
B15: Costi operativi incentivanti non sistematici variabili di cui all'articolo 10 del MTR-3 COIEXPTV | D15: 0 | E15: 0 | F15: 0 | G15: 0 | H15: 0 | I15: 0 | J15: 0 | K15: 0 | L15: 0 | M15: 0 | N15: 0 | O15: 0
B16: Fattore di Sharing b | D16: 0.2 | E16: 0.2 | F16: 0.2 | G16: 0.2 | H16: 0.2 | I16: 0.2 | J16: 0.2 | K16: 0.2 | L16: 0.2 | M16: 0.2 | N16: 0.2 | O16: 0.2
B17: Proventi della vendita di materiale ed energia derivante da rifiuti AR | D17: 411.40689 | E17: 0 | F17: 411.40689 | G17: 809.37139 | H17: 0 | I17: 809.37139 | J17: 809.37139 | K17: 0 | L17: 809.37139 | M17: 809.37139 | N17: 0 | O17: 809.37139
... B21: di cui quote pregresse recuperate nell'anno a - quota variabile RC∆(T-Tmax)pre,TV,a | D21: 0 | E21: 0 | F21: 0 | G21: 0 | H21: 0 | I21: 0 | J21: 0 | K21: 0 | L21: 0 | M21: 0 | N21: 0 | O21: 0
B22: Oneri relativi all'IVA indetraibile - PARTE VARIABILE | E22: 75305.883 | F22: 75305.883 | H22: 76023.935 | I22: 76023.935 | K22: 73654.106 | L22: 73654.106 | N22: 73654.106 | O22: 73654.106
B23: ∑TVa totale delle entrate tariffarie relative alle componenti di costo variabile dopo le detrazioni di cui al. Art, 4.5 Del. 397/2025/R/Rif | D23: 864090.68 | E23: 75305.883 | F23: 939396.57 | G23: 871271.2 | H23: 76023.935 | I23: 947295.13 | J23: 847572.91 | K23: 73654.106 | L23: 921227.01 | M23: 847572.91 | N23: 73654.106 | O23: 921227.01
B25: Costi dell’attività di spazzamento e di lavaggio CSL | D25: 171294.23 | E25: 0 | F25: 171294.23 | G25: 156142.13 | H25: 0 | I25: 156142.13 | J25: 156142.13 | K25: 0 | L25: 156142.13 | M25: 156142.13 | N25: 0 | O25: 156142.13
B26: Costi per l’attività di gestione delle tariffe e dei rapporti con gli utenti CARC | D26: 32401.585 | E26: 6317.3604 | F26: 38718.946 | G26: 31986.375 | H26: 6193.4906 | I26: 38179.866 | J26: 31986.375 | K26: 6193.4906 | L26: 38179.866 | M26: 31986.375 | N26: 6193.4906 | O26: 38179.866
B27: Costi generali di gestione CGG | D27: 163341.02 | E27: 0 | F27: 163341.02 | G27: 196413.14 | H27: 0 | I27: 196413.14 | J27: 202239.89 | K27: 0 | L27: 202239.89 | M27: 202239.89 | N27: 0 | O27: 202239.89
B28: Costi relativi alla quota di crediti inesigibili CCD | D28: 0 | E28: 146584.08 | F28: 146584.08 | G28: 0 | H28: 143709.88 | I28: 143709.88 | J28: 0 | K28: 143709.88 | L28: 143709.88 | M28: 0 | N28: 143709.88 | O28: 143709.88
B29: Altri costi COAL | D29: 2503.77 | E29: 0 | F29: 2503.77 | G29: 651.44811 | H29: 0 | I29: 651.44811 | J29: 651.44811 | K29: 0 | L29: 651.44811 | M29: 651.44811 | N29: 0 | O29: 651.44811
B30: Costi comuni CC | D30: 198246.37 | E30: 152901.44 | F30: 351147.81 | G30: 229050.96 | H30: 149903.37 | I30: 378954.33 | J30: 234877.71 | K30: 149903.37 | L30: 384781.08 | M30: 234877.71 | N30: 149903.37 | O30: 384781.08
B31: Ammortamenti Amm | D31: 52095.369 | E31: 0 | F31: 52095.369 | G31: 53530.26 | H31: 0 | I31: 53530.26 | J31: 48525.74 | K31: 0 | L31: 48525.74 | M31: 42904.571 | N31: 0 | O31: 42904.571
B32: Accantonamenti Acc | D32: 0 | E32: 0 | F32: 0 | G32: 0 | H32: 0 | I32: 0 | J32: 0 | K32: 0 | L32: 0 | M32: 0 | N32: 0 | O32: 0
B33: - di cui costi di gestione post-operativa delle discariche | D33: 0 | E33: 0 | F33: 0 | G33: 0 | H33: 0 | I33: 0 | J33: 0 | K33: 0 | L33: 0 | M33: 0 | N33: 0 | O33: 0
B34: - di cui per crediti | D34: 0 | E34: 0 | F34: 0 | G34: 0 | H34: 0 | I34: 0 | J34: 0 | K34: 0 | L34: 0 | M34: 0 | N34: 0 | O34: 0
B35: - di cui per rischi e oneri previsti da normativa di settore e/o dal contratto di affidamento | D35: 0 | E35: 0 | F35: 0 | G35: 0 | H35: 0 | I35: 0 | J35: 0 | K35: 0 | L35: 0 | M35: 0 | N35: 0 | O35: 0
... B47: di cui quote pregresse recuperate nell'anno a - quota fissa RC∆(T-Tmax)pre,TF,a | D47: 0 | E47: 0 | F47: 0 | G47: 0 | H47: 0 | I47: 0 | J47: 0 | K47: 0 | L47: 0 | M47: 0 | N47: 0 | O47: 0
B48: Oneri relativi all'IVA indetraibile - PARTE FISSA | E48: 39267.213 | F48: 39267.213 | H48: 39687.159 | I48: 39687.159 | K48: 36855.598 | L48: 36855.598 | N48: 35959.518 | O48: 35959.518
B49: ∑TFa totale delle entrate tariffarie relative alle componenti di costo fisse dopo le detrazioni di cui al. Art. 4.5 Del. 397/2025/R/Rif | D49: 501695.55 | E49: 192168.65 | F49: 693864.2 | G49: 505934.39 | H49: 189590.53 | I49: 695524.92 | J49: 477618.78 | K49: 186758.97 | L49: 664377.75 | M49: 468657.98 | N49: 185862.89 | O49: 654520.87
B51: ∑Ta= ∑TVa + ∑TFa prima delle detrazioni di cui al. Art. 4.5 Del. 397/2025/R/Rif | D51: 1372913.5 | E51: 289680.9 | F51: 1662594.4 | G51: 1383032.3 | H51: 287820.83 | I51: 1670853.2 | J51: 1325191.7 | K51: 282619.44 | L51: 1607811.1 | M51: 1316230.9 | N51: 281723.36 | O51: 1597954.3
B52: ∑Ta= ∑TVa + ∑TFa dopo le detrazioni di cui al. Art. 4.5 Del. 397/2025/R/Rif | D52: 1365786.2 | E52: 267474.53 | F52: 1633260.8 | G52: 1377205.6 | H52: 265614.46 | I52: 1642820.1 | J52: 1325191.7 | K52: 260413.07 | L52: 1585604.8 | M52: 1316230.9 | N52: 259516.99 | O52: 1575747.9
B54: Grandezze fisico-tecniche
B55: raccolta differenziata % - (a-2) | F55: 0.75943007 | I55: 0.75943007 | L55: 0.75943007 | O55: 0.75943007
B56: qa-2 ton | F56: 4269.146 | I56: 4269.146 | L56: 4269.146 | O56: 4269.146
B57: costo unitario effettivo - Cueff €cent/kg - (a-2) | F57: 33.472177 | I57: 36.713756 | L57: 38.257318 | O57: 38.481234
B58: Benchmark di riferimento [cent€/kg] (fabbisogno standard/costo medio settore) - (a-2) | F58: 29.254 | I58: 29.254 | L58: 29.254 | O58: 29.254
B60: Coefficiente di gradualità
B61: valutazione rispetto agli obiettivi di raccolta differenziata ɣ1 | F61: -0.054090541 | I61: -0.054090541 | L61: -0.054090541 | O61: -0.054090541
B62: valutazione rispetto all' efficacia dell' attività di preparazione per il riutilizzo e riciclo ɣ2 | F62: -0.032564811 | I62: -0.032564811 | L62: -0.032564811 | O62: -0.032564811
B63: Totale ɣ | F63: -0.086655352 | I63: -0.086655352 | L63: -0.086655352 | O63: -0.086655352
B64: Coefficiente di gradualità (1+ ɣ) | F64: 0.91334465 | I64: 0.91334465 | L64: 0.91334465 | O64: 0.91334465
B66: Verifica del limite di crescita
B67: rpia | F67: 0.019 | I67: 0.019 | L67: 0.019 | O67: 0.019
B68: coefficiente di recupero di produttività Xa | F68: 0.0013 | I68: 0.0013 | L68: 0.0013 | O68: 0.0013
B69: coeff. Potenziamento del servizio Ka | F69: 0.0303 | I69: 0.0303 | L69: 0.0303 | O69: 0.0303
B70: coeff. per recupero inflazione CRIa | F70: 0 | I70: 0 | L70: 0 | O70: 0
B71: Parametro per la determinazione del limite alla crescita delle tariffe ρ | F71: 0.048 | I71: 0.048 | L71: 0.048 | O71: 0.048
B72: (1+ρ) | F72: 1.048 | I72: 1.048 | L72: 1.048 | O72: 1.048
B73: ∑Ta | F73: 1633260.8 | I73: 1642820.1 | L73: 1585604.8 | O73: 1575747.9
B74: ∑TVa-1 | F74: 810985.07 | I74: 939396.57 | L74: 947295.13 | O74: 921227.01
B75: ∑TFa-1 | F75: 756378.78 | I75: 693864.2 | L75: 695524.92 | O75: 664377.75
B76: ∑Ta-1 | F76: 1567363.8 | I76: 1633260.8 | L76: 1642820.1 | O76: 1585604.8
B77: ∑Ta/ ∑Ta-1 | F77: 1.0420432 | I77: 1.0058529 | L77: 0.96517252 | O77: 0.99378352
B79: ∑Tmax (entrate tariffarie massime applicabili nel rispetto del limite di crescita) | F79: 1633260.8 | I79: 1642820.1 | L79: 1585604.8 | O79: 1575747.9
B80: delta (∑Ta-∑Tmax) | F80: 0 | I80: 0 | L80: 0 | O80: 0
B82: TVa dopo distribuzione delta (∑Ta-∑Tmax) | D82: 864090.68 | E82: 75305.883 | F82: 939396.57 | G82: 871271.2 | H82: 76023.935 | I82: 947295.13 | J82: 847572.91 | K82: 73654.106 | L82: 921227.01 | M82: 847572.91 | N82: 73654.106 | O82: 921227.01
B83: TFa dopo distribuzione delta (∑Ta-∑Tmax) | D83: 501695.55 | E83: 192168.65 | F83: 693864.2 | G83: 505934.39 | H83: 189590.53 | I83: 695524.92 | J83: 477618.78 | K83: 186758.97 | L83: 664377.75 | M83: 468657.98 | N83: 185862.89 | O83: 654520.87
B84: Ta=TVa+TFa dopo distribuzione delta (∑Ta-∑Tmax) | D84: 1365786.2 | E84: 267474.53 | F84: 1633260.8 | G84: 1377205.6 | H84: 265614.46 | I84: 1642820.1 | J84: 1325191.7 | K84: 260413.07 | L84: 1585604.8 | M84: 1316230.9 | N84: 259516.99 | O84: 1575747.9
B86: Detrazioni di cui al comma 4.5 della Determina 1/DTAC/2025 - parte variabile | F86: 0 | I86: 0 | L86: 0 | O86: 0
B87: Detrazioni di cui al comma 4.5 della Determina 1/DTAC/2025 - parte fissa | F87: 19119.02 | I87: 19119.02 | L87: 19119.02 | O87: 19119.02
B89: ∑TVa totale delle entrate tariffarie relative alle componenti di costo variabile dopo le detrazioni di cui al comma 4.5 Determina 1/DTAC/2025 | F89: 939396.57 | I89: 947295.13 | L89: 921227.01 | O89: 921227.01
B90: ∑TFa totale delle entrate tariffarie relative alle componenti di costo fisso dopo le detrazioni di cui al comma 4.5 della Determina 1/DTAC/2025 | F90: 674745.18 | I90: 676405.9 | L90: 645258.73 | O90: 635401.85
B91: Totale entrate tariffarie dopo le detrazioni di cui al comma 4.5 della Determina 1/DTAC/2025 | F91: 1614141.7 | I91: 1623701 | L91: 1566485.7 | O91: 1556628.9

Sheet Castagnole Piemonte
B1: PEF 2026-2029
D3: 2026 | G3: 2027 | J3: 2028 | M3: 2029
D4: Comune di Castagnole Piemonte | G4: Comune di Castagnole Piemonte | J4: Comune di Castagnole Piemonte | M4: Comune di Castagnole Piemonte
D5: Costi del/i gestore/i diverso/i dal Comune | E5: Costi del/i Comune/i | F5: Ciclo integrato RU (TOT PEF) | G5: Costi del/i gestore/i diverso/i dal Comune | H5: Costi del/i Comune/i | I5: Ciclo integrato RU (TOT PEF) | J5: Costi del/i gestore/i diverso/i dal Comune | K5: Costi del/i Comune/i | L5: Ciclo integrato RU (TOT PEF) | M5: Costi del/i gestore/i diverso/i dal Comune | N5: Costi del/i Comune/i | O5: Ciclo integrato RU (TOT PEF)
B6: Costi dell’attività di raccolta e trasporto dei rifiuti urbani indifferenziati CRT | D6: 29260.288 | E6: 0 | F6: 29260.288 | G6: 29976.78 | H6: 0 | I6: 29976.78 | J6: 29976.78 | K6: 0 | L6: 29976.78 | M6: 29976.78 | N6: 0 | O6: 29976.78
B7: Costi dell’attività di trattamento e smaltimento dei rifiuti urbani CTS | D7: 31972.823 | E7: 0 | F7: 31972.823 | G7: 35154.026 | H7: 0 | I7: 35154.026 | J7: 35154.026 | K7: 0 | L7: 35154.026 | M7: 35154.026 | N7: 0 | O7: 35154.026
B8: Costi dell’attività di trattamento e recupero dei rifiuti urbani CTR | D8: 30487.883 | E8: 0 | F8: 30487.883 | G8: 32200.777 | H8: 0 | I8: 32200.777 | J8: 32200.777 | K8: 0 | L8: 32200.777 | M8: 32200.777 | N8: 0 | O8: 32200.777
B9: Costi dell’attività di raccolta e trasporto delle frazioni differenziate CRD | D9: 86672.26 | E9: 0 | F9: 86672.26 | G9: 96529.831 | H9: 0 | I9: 96529.831 | J9: 96529.831 | K9: 0 | L9: 96529.831 | M9: 96529.831 | N9: 0 | O9: 96529.831
B10: Costi operativi variabili previsionali di cui all'articolo 17.2 del MTR-3 CTS∆expTV | D10: 0 | E10: 0 | F10: 0 | G10: 0 | H10: 0 | I10: 0 | J10: 0 | K10: 0 | L10: 0 | M10: 0 | N10: 0 | O10: 0
B11: Costi operativi variabili previsionali di cui all'articolo 17.3 del MTR-3 COEXP116,TV | D11: 0 | E11: 0 | F11: 0 | G11: 0 | H11: 0 | I11: 0 | J11: 0 | K11: 0 | L11: 0 | M11: 0 | N11: 0 | O11: 0
B12: Costi operativi variabili previsionali di cui all'articolo 17.4 del MTR-3 CQEXPTV | D12: 0 | E12: 0 | F12: 0 | G12: 0 | H12: 0 | I12: 0 | J12: 0 | K12: 0 | L12: 0 | M12: 0 | N12: 0 | O12: 0
B13: Costi operativi variabili previsionali di cui all'articolo 17.5 del MTR-3 COANT,TV | D13: 1860.4347 | E13: 0 | F13: 1860.4347 | G13: 5416.0052 | H13: 0 | I13: 5416.0052 | J13: 0 | K13: 0 | L13: 0 | M13: 0 | N13: 0 | O13: 0
B14: Costi operativi incentivanti sistematici variabili di cui all'articolo 10 del MTR-3 COnewEXPTV | D14: 0 | E14: 0 | F14: 0 | G14: 0 | H14: 0 | I14: 0 | J14: 0 | K14: 0 | L14: 0 | M14: 0 | N14: 0 | O14: 0
B15: Costi operativi incentivanti non sistematici variabili di cui all'articolo 10 del MTR-3 COIEXPTV | D15: 0 | E15: 0 | F15: 0 | G15: 0 | H15: 0 | I15: 0 | J15: 0 | K15: 0 | L15: 0 | M15: 0 | N15: 0 | O15: 0
B16: Fattore di Sharing b | D16: 0.2 | E16: 0.2 | F16: 0.2 | G16: 0.2 | H16: 0.2 | I16: 0.2 | J16: 0.2 | K16: 0.2 | L16: 0.2 | M16: 0.2 | N16: 0.2 | O16: 0.2
B17: Proventi della vendita di materiale ed energia derivante da rifiuti AR | D17: 99.54633 | E17: 0 | F17: 99.54633 | G17: 195.84006 | H17: 0 | I17: 195.84006 | J17: 195.84006 | K17: 0 | L17: 195.84006 | M17: 195.84006 | N17: 0 | O17: 195.84006
... B21: di cui quote pregresse recuperate nell'anno a - quota variabile RC∆(T-Tmax)pre,TV,a | D21: 0 | E21: 0 | F21: 0 | G21: 0 | H21: 0 | I21: 0 | J21: 0 | K21: 0 | L21: 0 | M21: 0 | N21: 0 | O21: 0
B22: Oneri relativi all'IVA indetraibile - PARTE VARIABILE | E22: 17351.914 | F22: 17351.914 | H22: 19224.006 | I22: 19224.006 | K22: 18682.405 | L22: 18682.405 | N22: 18682.405 | O22: 18682.405
B23: ∑TVa totale delle entrate tariffarie relative alle componenti di costo variabile dopo le detrazioni di cui al. Art, 4.5 Del. 397/2025/R/Rif | D23: 173519.14 | E23: 17351.914 | F23: 190871.06 | G23: 192240.06 | H23: 19224.006 | I23: 211464.06 | J23: 186824.05 | K23: 18682.405 | L23: 205506.46 | M23: 186824.05 | N23: 18682.405 | O23: 205506.46
B25: Costi dell’attività di spazzamento e di lavaggio CSL | D25: 34547.401 | E25: 5161.2 | F25: 39708.601 | G25: 35701.827 | H25: 5060 | I25: 40761.827 | J25: 35701.827 | K25: 5060 | L25: 40761.827 | M25: 35701.827 | N25: 5060 | O25: 40761.827
B26: Costi per l’attività di gestione delle tariffe e dei rapporti con gli utenti CARC | D26: 17279.138 | E26: 0 | F26: 17279.138 | G26: 16993.592 | H26: 0 | I26: 16993.592 | J26: 16993.592 | K26: 0 | L26: 16993.592 | M26: 16993.592 | N26: 0 | O26: 16993.592
B27: Costi generali di gestione CGG | D27: 41287.476 | E27: 0 | F27: 41287.476 | G27: 51281.715 | H27: 0 | I27: 51281.715 | J27: 52691.587 | K27: 0 | L27: 52691.587 | M27: 52691.587 | N27: 0 | O27: 52691.587
B28: Costi relativi alla quota di crediti inesigibili CCD | D28: 0 | E28: 0 | F28: 0 | G28: 0 | H28: 0 | I28: 0 | J28: 0 | K28: 0 | L28: 0 | M28: 0 | N28: 0 | O28: 0
B29: Altri costi COAL | D29: 596.1996 | E29: 0 | F29: 596.1996 | G29: 154.79533 | H29: 0 | I29: 154.79533 | J29: 154.79533 | K29: 0 | L29: 154.79533 | M29: 154.79533 | N29: 0 | O29: 154.79533
B30: Costi comuni CC | D30: 59162.814 | E30: 0 | F30: 59162.814 | G30: 68430.102 | H30: 0 | I30: 68430.102 | J30: 69839.974 | K30: 0 | L30: 69839.974 | M30: 69839.974 | N30: 0 | O30: 69839.974
B31: Ammortamenti Amm | D31: 12318.937 | E31: 0 | F31: 12318.937 | G31: 12669.488 | H31: 0 | I31: 12669.488 | J31: 11444.449 | K31: 0 | L31: 11444.449 | M31: 10116.072 | N31: 0 | O31: 10116.072
B32: Accantonamenti Acc | D32: 0 | E32: 6009.9903 | F32: 6009.9903 | G32: 0 | H32: 5892.1474 | I32: 5892.1474 | J32: 0 | K32: 5892.1474 | L32: 5892.1474 | M32: 0 | N32: 5892.1474 | O32: 5892.1474
B33: - di cui costi di gestione post-operativa delle discariche | D33: 0 | E33: 0 | F33: 0 | G33: 0 | H33: 0 | I33: 0 | J33: 0 | K33: 0 | L33: 0 | M33: 0 | N33: 0 | O33: 0
B34: - di cui per crediti | D34: 0 | E34: 6009.9903 | F34: 6009.9903 | G34: 0 | H34: 5892.1474 | I34: 5892.1474 | J34: 0 | K34: 5892.1474 | L34: 5892.1474 | M34: 0 | N34: 5892.1474 | O34: 5892.1474
B35: - di cui per rischi e oneri previsti da normativa di settore e/o dal contratto di affidamento | D35: 0 | E35: 0 | F35: 0 | G35: 0 | H35: 0 | I35: 0 | J35: 0 | K35: 0 | L35: 0 | M35: 0 | N35: 0 | O35: 0
... B47: di cui quote pregresse recuperate nell'anno a - quota fissa RC∆(T-Tmax)pre,TF,a | D47: 0 | E47: 0 | F47: 0 | G47: 0 | H47: 0 | I47: 0 | J47: 0 | K47: 0 | L47: 0 | M47: 0 | N47: 0 | O47: 0
B48: Oneri relativi all'IVA indetraibile - PARTE FISSA | E48: 12461.283 | F48: 12461.283 | H48: 13245.634 | I48: 13245.634 | K48: 12611.989 | L48: 12611.989 | N48: 12400.741 | O48: 12400.741
B49: ∑TFa totale delle entrate tariffarie relative alle componenti di costo fisse dopo le detrazioni di cui al. Art. 4.5 Del. 397/2025/R/Rif | D49: 124612.83 | E49: 23632.474 | F49: 148245.31 | G49: 132456.34 | H49: 24197.782 | I49: 156654.13 | J49: 126119.89 | K49: 23564.137 | L49: 149684.03 | M49: 124007.41 | N49: 23352.889 | O49: 147360.3
B51: ∑Ta= ∑TVa + ∑TFa prima delle detrazioni di cui al. Art. 4.5 Del. 397/2025/R/Rif | D51: 299856.53 | E51: 40984.388 | F51: 340840.91 | G51: 326106.27 | H51: 43421.787 | I51: 369528.06 | J51: 312943.95 | K51: 42246.542 | L51: 355190.49 | M51: 310831.46 | N51: 42035.294 | O51: 352866.76
B52: ∑Ta= ∑TVa + ∑TFa dopo le detrazioni di cui al. Art. 4.5 Del. 397/2025/R/Rif | D52: 298131.97 | E52: 40984.388 | F52: 339116.36 | G52: 324696.4 | H52: 43421.787 | I52: 368118.19 | J52: 312943.95 | K52: 42246.542 | L52: 355190.49 | M52: 310831.46 | N52: 42035.294 | O52: 352866.76
B54: Grandezze fisico-tecniche
B55: raccolta differenziata % - (a-2) | F55: 0.73248795 | I55: 0.73248795 | L55: 0.73248795 | O55: 0.73248795
B56: qa-2 ton | F56: 827.945 | I56: 827.945 | L56: 827.945 | O56: 827.945
B57: costo unitario effettivo - Cueff €cent/kg - (a-2) | F57: 36.479747 | I57: 39.972161 | L57: 40.958803 | O57: 42.924855
B58: Benchmark di riferimento [cent€/kg] (fabbisogno standard/costo medio settore) - (a-2) | F58: 26.642 | I58: 26.642 | L58: 26.642 | O58: 26.642
B60: Coefficiente di gradualità
B61: valutazione rispetto agli obiettivi di raccolta differenziata ɣ1 | F61: -0.090011571 | I61: -0.090011571 | L61: -0.090011571 | O61: -0.090011571
B62: valutazione rispetto all' efficacia dell' attività di preparazione per il riutilizzo e riciclo ɣ2 | F62: -0.032564811 | I62: -0.032564811 | L62: -0.032564811 | O62: -0.032564811
B63: Totale ɣ | F63: -0.12257638 | I63: -0.12257638 | L63: -0.12257638 | O63: -0.12257638
B64: Coefficiente di gradualità (1+ ɣ) | F64: 0.87742362 | I64: 0.87742362 | L64: 0.87742362 | O64: 0.87742362
B66: Verifica del limite di crescita
B67: rpia | F67: 0.019 | I67: 0.019 | L67: 0.019 | O67: 0.019
B68: coefficiente di recupero di produttività Xa | F68: 0.0016 | I68: 0.0016 | L68: 0.0016 | O68: 0.0016
B69: coeff. Potenziamento del servizio Ka | F69: 0.0306 | I69: 0.0306 | L69: 0.0306 | O69: 0.0306
B70: coeff. per recupero inflazione CRIa | F70: 0 | I70: 0 | L70: 0 | O70: 0
B71: Parametro per la determinazione del limite alla crescita delle tariffe ρ | F71: 0.048 | I71: 0.048 | L71: 0.048 | O71: 0.048
B72: (1+ρ) | F72: 1.048 | I72: 1.048 | L72: 1.048 | O72: 1.048
B73: ∑Ta | F73: 339116.36 | I73: 368118.19 | L73: 355190.49 | O73: 352866.76
B74: ∑TVa-1 | F74: 210138.17 | I74: 190871.06 | L74: 204154.81 | O74: 205506.46
B75: ∑TFa-1 | F75: 120809.33 | I75: 148245.31 | L75: 151239.38 | O75: 149684.03
B76: ∑Ta-1 | F76: 330947.51 | I76: 339116.36 | L76: 355394.19 | O76: 355190.49
B77: ∑Ta/ ∑Ta-1 | F77: 1.0246832 | I77: 1.0855218 | L77: 0.99942683 | O77: 0.99345779
B79: ∑Tmax (entrate tariffarie massime applicabili nel rispetto del limite di crescita) | F79: 339116.36 | I79: 355393.95 | L79: 355190.49 | O79: 352866.76
B80: delta (∑Ta-∑Tmax) | F80: 0 | I80: 12724.241 | L80: 0 | O80: 0
B82: TVa dopo distribuzione delta (∑Ta-∑Tmax) | D82: 173519.14 | E82: 17351.914 | F82: 190871.06 | G82: 192240.06 | H82: 11914.753 | I82: 204154.81 | J82: 186824.05 | K82: 18682.405 | L82: 205506.46 | M82: 186824.05 | N82: 18682.405 | O82: 205506.46
B83: TFa dopo distribuzione delta (∑Ta-∑Tmax) | D83: 124612.83 | E83: 23632.474 | F83: 148245.31 | G83: 132456.34 | H83: 18783.034 | I83: 151239.38 | J83: 126119.89 | K83: 23564.137 | L83: 149684.03 | M83: 124007.41 | N83: 23352.889 | O83: 147360.3
B84: Ta=TVa+TFa dopo distribuzione delta (∑Ta-∑Tmax) | D84: 298131.97 | E84: 40984.388 | F84: 339116.36 | G84: 324696.4 | H84: 30697.787 | I84: 355394.19 | J84: 312943.95 | K84: 42246.542 | L84: 355190.49 | M84: 310831.46 | N84: 42035.294 | O84: 352866.76
B86: Detrazioni di cui al comma 4.5 della Determina 1/DTAC/2025 - parte variabile | F86: 0 | I86: 0 | L86: 0 | O86: 0
B87: Detrazioni di cui al comma 4.5 della Determina 1/DTAC/2025 - parte fissa | F87: 7343.48 | I87: 7343.48 | L87: 7343.48 | O87: 7343.48
B89: ∑TVa totale delle entrate tariffarie relative alle componenti di costo variabile dopo le detrazioni di cui al comma 4.5 Determina 1/DTAC/2025 | F89: 190871.06 | I89: 204154.81 | L89: 205506.46 | O89: 205506.46
B90: ∑TFa totale delle entrate tariffarie relative alle componenti di costo fisso dopo le detrazioni di cui al comma 4.5 della Determina 1/DTAC/2025 | F90: 140901.83 | I90: 143895.9 | L90: 142340.55 | O90: 140016.82
B91: Totale entrate tariffarie dopo le detrazioni di cui al comma 4.5 della Determina 1/DTAC/2025 | F91: 331772.88 | I91: 348050.71 | L91: 347847.01 | O91: 345523.28

Sheet La Loggia
B1: PEF 2026-2029
D3: 2026 | G3: 2027 | J3: 2028 | M3: 2029
D4: Comune di La Loggia | G4: Comune di La Loggia | J4: Comune di La Loggia | M4: Comune di La Loggia
D5: Costi del/i gestore/i diverso/i dal Comune | E5: Costi del/i Comune/i | F5: Ciclo integrato RU (TOT PEF) | G5: Costi del/i gestore/i diverso/i dal Comune | H5: Costi del/i Comune/i | I5: Ciclo integrato RU (TOT PEF) | J5: Costi del/i gestore/i diverso/i dal Comune | K5: Costi del/i Comune/i | L5: Ciclo integrato RU (TOT PEF) | M5: Costi del/i gestore/i diverso/i dal Comune | N5: Costi del/i Comune/i | O5: Ciclo integrato RU (TOT PEF)
B6: Costi dell’attività di raccolta e trasporto dei rifiuti urbani indifferenziati CRT | D6: 102610.48 | E6: 0 | F6: 102610.48 | G6: 100598.51 | H6: 0 | I6: 100598.51 | J6: 100598.51 | K6: 0 | L6: 100598.51 | M6: 100598.51 | N6: 0 | O6: 100598.51
B7: Costi dell’attività di trattamento e smaltimento dei rifiuti urbani CTS | D7: 159350.42 | E7: 0 | F7: 159350.42 | G7: 170873.46 | H7: 0 | I7: 170873.46 | J7: 170873.46 | K7: 0 | L7: 170873.46 | M7: 170873.46 | N7: 0 | O7: 170873.46
B8: Costi dell’attività di trattamento e recupero dei rifiuti urbani CTR | D8: 135780.63 | E8: 0 | F8: 135780.63 | G8: 137086.48 | H8: 0 | I8: 137086.48 | J8: 137086.48 | K8: 0 | L8: 137086.48 | M8: 137086.48 | N8: 0 | O8: 137086.48
B9: Costi dell’attività di raccolta e trasporto delle frazioni differenziate CRD | D9: 355103.4 | E9: 0 | F9: 355103.4 | G9: 378587.12 | H9: 0 | I9: 378587.12 | J9: 378587.12 | K9: 0 | L9: 378587.12 | M9: 378587.12 | N9: 0 | O9: 378587.12
B10: Costi operativi variabili previsionali di cui all'articolo 17.2 del MTR-3 CTS∆expTV | D10: 0 | E10: 0 | F10: 0 | G10: 0 | H10: 0 | I10: 0 | J10: 0 | K10: 0 | L10: 0 | M10: 0 | N10: 0 | O10: 0
B11: Costi operativi variabili previsionali di cui all'articolo 17.3 del MTR-3 COEXP116,TV | D11: 0 | E11: 0 | F11: 0 | G11: 0 | H11: 0 | I11: 0 | J11: 0 | K11: 0 | L11: 0 | M11: 0 | N11: 0 | O11: 0
B12: Costi operativi variabili previsionali di cui all'articolo 17.4 del MTR-3 CQEXPTV | D12: 0 | E12: 0 | F12: 0 | G12: 0 | H12: 0 | I12: 0 | J12: 0 | K12: 0 | L12: 0 | M12: 0 | N12: 0 | O12: 0
B13: Costi operativi variabili previsionali di cui all'articolo 17.5 del MTR-3 COANT,TV | D13: 0 | E13: 0 | F13: 0 | G13: 0 | H13: 0 | I13: 0 | J13: 0 | K13: 0 | L13: 0 | M13: 0 | N13: 0 | O13: 0
B14: Costi operativi incentivanti sistematici variabili di cui all'articolo 10 del MTR-3 COnewEXPTV | D14: 0 | E14: 0 | F14: 0 | G14: 0 | H14: 0 | I14: 0 | J14: 0 | K14: 0 | L14: 0 | M14: 0 | N14: 0 | O14: 0
B15: Costi operativi incentivanti non sistematici variabili di cui all'articolo 10 del MTR-3 COIEXPTV | D15: 0 | E15: 0 | F15: 0 | G15: 0 | H15: 0 | I15: 0 | J15: 0 | K15: 0 | L15: 0 | M15: 0 | N15: 0 | O15: 0
B16: Fattore di Sharing b | D16: 0.2 | E16: 0.2 | F16: 0.2 | G16: 0.2 | H16: 0.2 | I16: 0.2 | J16: 0.2 | K16: 0.2 | L16: 0.2 | M16: 0.2 | N16: 0.2 | O16: 0.2
B17: Proventi della vendita di materiale ed energia derivante da rifiuti AR | D17: 386.1245 | E17: 0 | F17: 386.1245 | G17: 759.6327 | H17: 0 | I17: 759.6327 | J17: 759.6327 | K17: 0 | L17: 759.6327 | M17: 759.6327 | N17: 0 | O17: 759.6327
... B21: di cui quote pregresse recuperate nell'anno a - quota variabile RC∆(T-Tmax)pre,TV,a | D21: 0 | E21: 0 | F21: 0 | G21: 0 | H21: 0 | I21: 0 | J21: 0 | K21: 0 | L21: 0 | M21: 0 | N21: 0 | O21: 0
B22: Oneri relativi all'IVA indetraibile - PARTE VARIABILE | E22: 61857.343 | F22: 61857.343 | H22: 65169.951 | I22: 65169.951 | K22: 65169.951 | L22: 65169.951 | N22: 65169.951 | O22: 65169.951
B23: ∑TVa totale delle entrate tariffarie relative alle componenti di costo variabile dopo le detrazioni di cui al. Art, 4.5 Del. 397/2025/R/Rif | D23: 726722.68 | E23: 61857.343 | F23: 788580.03 | G23: 759848.76 | H23: 65169.951 | I23: 825018.71 | J23: 759848.76 | K23: 65169.951 | L23: 825018.71 | M23: 759848.76 | N23: 65169.951 | O23: 825018.71
B25: Costi dell’attività di spazzamento e di lavaggio CSL | D25: 153795.43 | E25: 0 | F25: 153795.43 | G25: 151976.33 | H25: 0 | I25: 151976.33 | J25: 151976.33 | K25: 0 | L25: 151976.33 | M25: 151976.33 | N25: 0 | O25: 151976.33
B26: Costi per l’attività di gestione delle tariffe e dei rapporti con gli utenti CARC | D26: 87119.861 | E26: 0 | F26: 87119.861 | G26: 85618.217 | H26: 0 | I26: 85618.217 | J26: 85618.217 | K26: 0 | L26: 85618.217 | M26: 85618.217 | N26: 0 | O26: 85618.217
B27: Costi generali di gestione CGG | D27: 152732.44 | E27: 0 | F27: 152732.44 | G27: 190429.58 | H27: 0 | I27: 190429.58 | J27: 195898.25 | K27: 0 | L27: 195898.25 | M27: 195898.25 | N27: 0 | O27: 195898.25
B28: Costi relativi alla quota di crediti inesigibili CCD | D28: 0 | E28: 0 | F28: 0 | G28: 0 | H28: 0 | I28: 0 | J28: 0 | K28: 0 | L28: 0 | M28: 0 | N28: 0 | O28: 0
B29: Altri costi COAL | D29: 2125.6032 | E29: 27354.36 | F29: 29479.963 | G29: 413.38809 | H29: 26818 | I29: 27231.388 | J29: 413.38809 | K29: 26818 | L29: 27231.388 | M29: 413.38809 | N29: 26818 | O29: 27231.388
B30: Costi comuni CC | D30: 241977.91 | E30: 27354.36 | F30: 269332.27 | G30: 276461.18 | H30: 26818 | I30: 303279.18 | J30: 281929.85 | K30: 26818 | L30: 308747.85 | M30: 281929.85 | N30: 26818 | O30: 308747.85
B31: Ammortamenti Amm | D31: 50047.805 | E31: 0 | F31: 50047.805 | G31: 51409.742 | H31: 0 | I31: 51409.742 | J31: 46274.722 | K31: 0 | L31: 46274.722 | M31: 42136.363 | N31: 0 | O31: 42136.363
B32: Accantonamenti Acc | D32: 0 | E32: 0 | F32: 0 | G32: 0 | H32: 0 | I32: 0 | J32: 0 | K32: 0 | L32: 0 | M32: 0 | N32: 0 | O32: 0
B33: - di cui costi di gestione post-operativa delle discariche | D33: 0 | E33: 0 | F33: 0 | G33: 0 | H33: 0 | I33: 0 | J33: 0 | K33: 0 | L33: 0 | M33: 0 | N33: 0 | O33: 0
B34: - di cui per crediti | D34: 0 | E34: 0 | F34: 0 | G34: 0 | H34: 0 | I34: 0 | J34: 0 | K34: 0 | L34: 0 | M34: 0 | N34: 0 | O34: 0
B35: - di cui per rischi e oneri previsti da normativa di settore e/o dal contratto di affidamento | D35: 0 | E35: 0 | F35: 0 | G35: 0 | H35: 0 | I35: 0 | J35: 0 | K35: 0 | L35: 0 | M35: 0 | N35: 0 | O35: 0
... B47: di cui quote pregresse recuperate nell'anno a - quota fissa RC∆(T-Tmax)pre,TF,a | D47: 0 | E47: 0 | F47: 0 | G47: 0 | H47: 0 | I47: 0 | J47: 0 | K47: 0 | L47: 0 | M47: 0 | N47: 0 | O47: 0
B48: Oneri relativi all'IVA indetraibile - PARTE FISSA | E48: 43239.14 | F48: 43239.14 | H48: 44942.334 | I48: 44942.334 | K48: 43193.903 | L48: 43193.903 | N48: 42463.769 | O48: 42463.769
B49: ∑TFa totale delle entrate tariffarie relative alle componenti di costo fisse dopo le detrazioni di cui al. Art. 4.5 Del. 397/2025/R/Rif | D49: 540540.65 | E49: 70593.5 | F49: 611134.15 | G49: 557572.59 | H49: 71760.334 | I49: 629332.92 | J49: 540088.28 | K49: 70011.903 | L49: 610100.18 | M49: 532786.94 | N49: 69281.769 | O49: 602068.71
B51: ∑Ta= ∑TVa + ∑TFa prima delle detrazioni di cui al. Art. 4.5 Del. 397/2025/R/Rif | D51: 1273952.6 | E51: 154080.69 | F51: 1428033.3 | G51: 1322890 | H51: 158560.13 | I51: 1481450.2 | J51: 1299937 | K51: 156811.7 | L51: 1456748.7 | M51: 1292635.7 | N51: 156081.57 | O51: 1448717.3
B52: ∑Ta= ∑TVa + ∑TFa dopo le detrazioni di cui al. Art. 4.5 Del. 397/2025/R/Rif | D52: 1267263.3 | E52: 132450.84 | F52: 1399714.2 | G52: 1317421.3 | H52: 136930.28 | I52: 1454351.6 | J52: 1299937 | K52: 135181.85 | L52: 1435118.9 | M52: 1292635.7 | N52: 134451.72 | O52: 1427087.4
B54: Grandezze fisico-tecniche
B55: raccolta differenziata % - (a-2) | F55: 0.71077433 | I55: 0.71077433 | L55: 0.71077433 | O55: 0.71077433
B56: qa-2 ton | F56: 3827.596 | I56: 3827.596 | L56: 3827.596 | O56: 3827.596
B57: costo unitario effettivo - Cueff €cent/kg - (a-2) | F57: 39.240202 | I57: 37.698751 | L57: 36.569016 | O57: 37.996477
B58: Benchmark di riferimento [cent€/kg] (fabbisogno standard/costo medio settore) - (a-2) | F58: 28.25 | I58: 28.25 | L58: 28.25 | O58: 28.25
B60: Coefficiente di gradualità
B61: valutazione rispetto agli obiettivi di raccolta differenziata ɣ1 | F61: -0.11896161 | I61: -0.11896161 | L61: -0.11896161 | O61: -0.11896161
B62: valutazione rispetto all' efficacia dell' attività di preparazione per il riutilizzo e riciclo ɣ2 | F62: -0.032564811 | I62: -0.032564811 | L62: -0.032564811 | O62: -0.032564811
B63: Totale ɣ | F63: -0.15152642 | I63: -0.15152642 | L63: -0.15152642 | O63: -0.15152642
B64: Coefficiente di gradualità (1+ ɣ) | F64: 0.84847358 | I64: 0.84847358 | L64: 0.84847358 | O64: 0.84847358
B66: Verifica del limite di crescita
B67: rpia | F67: 0.019 | I67: 0.019 | L67: 0.019 | O67: 0.019
B68: coefficiente di recupero di produttività Xa | F68: 0.0017 | I68: 0.0017 | L68: 0.0017 | O68: 0.0017
B69: coeff. Potenziamento del servizio Ka | F69: 0.0307 | I69: 0.0307 | L69: 0.0307 | O69: 0.0307
B70: coeff. per recupero inflazione CRIa | F70: 0 | I70: 0 | L70: 0 | O70: 0
B71: Parametro per la determinazione del limite alla crescita delle tariffe ρ | F71: 0.048 | I71: 0.048 | L71: 0.048 | O71: 0.048
B72: (1+ρ) | F72: 1.048 | I72: 1.048 | L72: 1.048 | O72: 1.048
B73: ∑Ta | F73: 1399714.2 | I73: 1454351.6 | L73: 1435118.9 | O73: 1427087.4
B74: ∑TVa-1 | F74: 799572.12 | I74: 788580.03 | L74: 825018.71 | O74: 825018.71
B75: ∑TFa-1 | F75: 643383.78 | I75: 611134.15 | L75: 629332.92 | O75: 610100.18
B76: ∑Ta-1 | F76: 1442955.9 | I76: 1399714.2 | L76: 1454351.6 | O76: 1435118.9
B77: ∑Ta/ ∑Ta-1 | F77: 0.97003254 | I77: 1.0390347 | L77: 0.98677573 | O77: 0.99440362
B79: ∑Tmax (entrate tariffarie massime applicabili nel rispetto del limite di crescita) | F79: 1399714.2 | I79: 1454351.6 | L79: 1435118.9 | O79: 1427087.4
B80: delta (∑Ta-∑Tmax) | F80: 0 | I80: 0 | L80: 0 | O80: 0
B82: TVa dopo distribuzione delta (∑Ta-∑Tmax) | D82: 726722.68 | E82: 61857.343 | F82: 788580.03 | G82: 759848.76 | H82: 65169.951 | I82: 825018.71 | J82: 759848.76 | K82: 65169.951 | L82: 825018.71 | M82: 759848.76 | N82: 65169.951 | O82: 825018.71
B83: TFa dopo distribuzione delta (∑Ta-∑Tmax) | D83: 540540.65 | E83: 70593.5 | F83: 611134.15 | G83: 557572.59 | H83: 71760.334 | I83: 629332.92 | J83: 540088.28 | K83: 70011.903 | L83: 610100.18 | M83: 532786.94 | N83: 69281.769 | O83: 602068.71
B84: Ta=TVa+TFa dopo distribuzione delta (∑Ta-∑Tmax) | D84: 1267263.3 | E84: 132450.84 | F84: 1399714.2 | G84: 1317421.3 | H84: 136930.28 | I84: 1454351.6 | J84: 1299937 | K84: 135181.85 | L84: 1435118.9 | M84: 1292635.7 | N84: 134451.72 | O84: 1427087.4
B86: Detrazioni di cui al comma 4.5 della Determina 1/DTAC/2025 - parte variabile | F86: 0 | I86: 0 | L86: 0 | O86: 0
B87: Detrazioni di cui al comma 4.5 della Determina 1/DTAC/2025 - parte fissa | F87: 9565.73 | I87: 9565.73 | L87: 9565.73 | O87: 9565.73
B89: ∑TVa totale delle entrate tariffarie relative alle componenti di costo variabile dopo le detrazioni di cui al comma 4.5 Determina 1/DTAC/2025 | F89: 788580.03 | I89: 825018.71 | L89: 825018.71 | O89: 825018.71
B90: ∑TFa totale delle entrate tariffarie relative alle componenti di costo fisso dopo le detrazioni di cui al comma 4.5 della Determina 1/DTAC/2025 | F90: 601568.42 | I90: 619767.19 | L90: 600534.45 | O90: 592502.98
B91: Totale entrate tariffarie dopo le detrazioni di cui al comma 4.5 della Determina 1/DTAC/2025 | F91: 1390148.5 | I91: 1444785.9 | L91: 1425553.2 | O91: 1417521.7

Sheet Lombriasco
B1: PEF 2026-2029
D3: 2026 | G3: 2027 | J3: 2028 | M3: 2029
D4: Comune di Lombriasco | G4: Comune di Lombriasco | J4: Comune di Lombriasco | M4: Comune di Lombriasco
D5: Costi del/i gestore/i diverso/i dal Comune | E5: Costi del/i Comune/i | F5: Ciclo integrato RU (TOT PEF) | G5: Costi del/i gestore/i diverso/i dal Comune | H5: Costi del/i Comune/i | I5: Ciclo integrato RU (TOT PEF) | J5: Costi del/i gestore/i diverso/i dal Comune | K5: Costi del/i Comune/i | L5: Ciclo integrato RU (TOT PEF) | M5: Costi del/i gestore/i diverso/i dal Comune | N5: Costi del/i Comune/i | O5: Ciclo integrato RU (TOT PEF)
B6: Costi dell’attività di raccolta e trasporto dei rifiuti urbani indifferenziati CRT | D6: 11632.972 | E6: 0 | F6: 11632.972 | G6: 12048.601 | H6: 0 | I6: 12048.601 | J6: 12048.601 | K6: 0 | L6: 12048.601 | M6: 12048.601 | N6: 0 | O6: 12048.601
B7: Costi dell’attività di trattamento e smaltimento dei rifiuti urbani CTS | D7: 15600.173 | E7: 0 | F7: 15600.173 | G7: 16703.213 | H7: 0 | I7: 16703.213 | J7: 16703.213 | K7: 0 | L7: 16703.213 | M7: 16703.213 | N7: 0 | O7: 16703.213
B8: Costi dell’attività di trattamento e recupero dei rifiuti urbani CTR | D8: 8274.1262 | E8: 0 | F8: 8274.1262 | G8: 8557.7744 | H8: 0 | I8: 8557.7744 | J8: 8557.7744 | K8: 0 | L8: 8557.7744 | M8: 8557.7744 | N8: 0 | O8: 8557.7744
B9: Costi dell’attività di raccolta e trasporto delle frazioni differenziate CRD | D9: 34698.084 | E9: 0 | F9: 34698.084 | G9: 39715.715 | H9: 0 | I9: 39715.715 | J9: 39715.715 | K9: 0 | L9: 39715.715 | M9: 39715.715 | N9: 0 | O9: 39715.715
B10: Costi operativi variabili previsionali di cui all'articolo 17.2 del MTR-3 CTS∆expTV | D10: 0 | E10: 0 | F10: 0 | G10: 0 | H10: 0 | I10: 0 | J10: 0 | K10: 0 | L10: 0 | M10: 0 | N10: 0 | O10: 0
B11: Costi operativi variabili previsionali di cui all'articolo 17.3 del MTR-3 COEXP116,TV | D11: 0 | E11: 0 | F11: 0 | G11: 0 | H11: 0 | I11: 0 | J11: 0 | K11: 0 | L11: 0 | M11: 0 | N11: 0 | O11: 0
B12: Costi operativi variabili previsionali di cui all'articolo 17.4 del MTR-3 CQEXPTV | D12: 0 | E12: 0 | F12: 0 | G12: 0 | H12: 0 | I12: 0 | J12: 0 | K12: 0 | L12: 0 | M12: 0 | N12: 0 | O12: 0
B13: Costi operativi variabili previsionali di cui all'articolo 17.5 del MTR-3 COANT,TV | D13: 739.65038 | E13: 0 | F13: 739.65038 | G13: 2176.8611 | H13: 0 | I13: 2176.8611 | J13: 0 | K13: 0 | L13: 0 | M13: 0 | N13: 0 | O13: 0
B14: Costi operativi incentivanti sistematici variabili di cui all'articolo 10 del MTR-3 COnewEXPTV | D14: 0 | E14: 0 | F14: 0 | G14: 0 | H14: 0 | I14: 0 | J14: 0 | K14: 0 | L14: 0 | M14: 0 | N14: 0 | O14: 0
B15: Costi operativi incentivanti non sistematici variabili di cui all'articolo 10 del MTR-3 COIEXPTV | D15: 0 | E15: 0 | F15: 0 | G15: 0 | H15: 0 | I15: 0 | J15: 0 | K15: 0 | L15: 0 | M15: 0 | N15: 0 | O15: 0
B16: Fattore di Sharing b | D16: 0.2 | E16: 0.2 | F16: 0.2 | G16: 0.2 | H16: 0.2 | I16: 0.2 | J16: 0.2 | K16: 0.2 | L16: 0.2 | M16: 0.2 | N16: 0.2 | O16: 0.2
B17: Proventi della vendita di materiale ed energia derivante da rifiuti AR | D17: 48.802356 | E17: 0 | F17: 48.802356 | G17: 96.010135 | H17: 0 | I17: 96.010135 | J17: 96.010135 | K17: 0 | L17: 96.010135 | M17: 96.010135 | N17: 0 | O17: 96.010135
... B21: di cui quote pregresse recuperate nell'anno a - quota variabile RC∆(T-Tmax)pre,TV,a | D21: 0 | E21: 0 | F21: 0 | G21: 0 | H21: 0 | I21: 0 | J21: 0 | K21: 0 | L21: 0 | M21: 0 | N21: 0 | O21: 0
B22: Oneri relativi all'IVA indetraibile - PARTE VARIABILE | E22: 6764.3409 | F22: 6764.3409 | H22: 7575.2114 | I22: 7575.2114 | K22: 7357.5253 | L22: 7357.5253 | N22: 7357.5253 | O22: 7357.5253
B23: ∑TVa totale delle entrate tariffarie relative alle componenti di costo variabile dopo le detrazioni di cui al. Art, 4.5 Del. 397/2025/R/Rif | D23: 67643.409 | E23: 6764.3409 | F23: 74407.75 | G23: 75752.114 | H23: 7575.2114 | I23: 83327.325 | J23: 73575.253 | K23: 7357.5253 | L23: 80932.778 | M23: 73575.253 | N23: 7357.5253 | O23: 80932.778
B25: Costi dell’attività di spazzamento e di lavaggio CSL | D25: 13734.962 | E25: 0 | F25: 13734.962 | G25: 14376.918 | H25: 0 | I25: 14376.918 | J25: 14376.918 | K25: 0 | L25: 14376.918 | M25: 14376.918 | N25: 0 | O25: 14376.918
B26: Costi per l’attività di gestione delle tariffe e dei rapporti con gli utenti CARC | D26: 3640.9169 | E26: 1848.6386 | F26: 5489.5555 | G26: 3595.6372 | H26: 1812.3908 | I26: 5408.028 | J26: 3595.6372 | K26: 1812.3908 | L26: 5408.028 | M26: 3595.6372 | N26: 1812.3908 | O26: 5408.028
B27: Costi generali di gestione CGG | D27: 16454.801 | E27: 0 | F27: 16454.801 | G27: 21464.324 | H27: 0 | I27: 21464.324 | J27: 22155.511 | K27: 0 | L27: 22155.511 | M27: 22155.511 | N27: 0 | O27: 22155.511
B28: Costi relativi alla quota di crediti inesigibili CCD | D28: 0 | E28: 0 | F28: 0 | G28: 0 | H28: 0 | I28: 0 | J28: 0 | K28: 0 | L28: 0 | M28: 0 | N28: 0 | O28: 0
B29: Altri costi COAL | D29: 287.81831 | E29: 0 | F29: 287.81831 | G29: 71.629409 | H29: 0 | I29: 71.629409 | J29: 71.629409 | K29: 0 | L29: 71.629409 | M29: 71.629409 | N29: 0 | O29: 71.629409
B30: Costi comuni CC | D30: 20383.536 | E30: 1848.6386 | F30: 22232.175 | G30: 25131.591 | H30: 1812.3908 | I30: 26943.982 | J30: 25822.778 | K30: 1812.3908 | L30: 27635.168 | M30: 25822.778 | N30: 1812.3908 | O30: 27635.168
B31: Ammortamenti Amm | D31: 4927.2689 | E31: 0 | F31: 4927.2689 | G31: 5180.6617 | H31: 0 | I31: 5180.6617 | J31: 4595.5246 | K31: 0 | L31: 4595.5246 | M31: 3949.6601 | N31: 0 | O31: 3949.6601
B32: Accantonamenti Acc | D32: 0 | E32: 3488.387 | F32: 3488.387 | G32: 0 | H32: 3419.9872 | I32: 3419.9872 | J32: 0 | K32: 3419.9872 | L32: 3419.9872 | M32: 0 | N32: 3419.9872 | O32: 3419.9872
B33: - di cui costi di gestione post-operativa delle discariche | D33: 0 | E33: 0 | F33: 0 | G33: 0 | H33: 0 | I33: 0 | J33: 0 | K33: 0 | L33: 0 | M33: 0 | N33: 0 | O33: 0
B34: - di cui per crediti | D34: 0 | E34: 3488.387 | F34: 3488.387 | G34: 0 | H34: 3419.9872 | I34: 3419.9872 | J34: 0 | K34: 3419.9872 | L34: 3419.9872 | M34: 0 | N34: 3419.9872 | O34: 3419.9872
B35: - di cui per rischi e oneri previsti da normativa di settore e/o dal contratto di affidamento | D35: 0 | E35: 0 | F35: 0 | G35: 0 | H35: 0 | I35: 0 | J35: 0 | K35: 0 | L35: 0 | M35: 0 | N35: 0 | O35: 0
... B47: di cui quote pregresse recuperate nell'anno a - quota fissa RC∆(T-Tmax)pre,TF,a | D47: 0 | E47: 0 | F47: 0 | G47: 0 | H47: 0 | I47: 0 | J47: 0 | K47: 0 | L47: 0 | M47: 0 | N47: 0 | O47: 0
B48: Oneri relativi all'IVA indetraibile - PARTE FISSA | E48: 4838.821 | F48: 4838.821 | H48: 5251.3879 | I48: 5251.3879 | K48: 4977.8221 | L48: 4977.8221 | N48: 4881.5873 | O48: 4881.5873
B49: ∑TFa totale delle entrate tariffarie relative alle componenti di costo fisse dopo le detrazioni di cui al. Art. 4.5 Del. 397/2025/R/Rif | D49: 47656.558 | E49: 10175.847 | F49: 57832.405 | G49: 51796.573 | H49: 10483.766 | I49: 62280.339 | J49: 49060.915 | K49: 10210.2 | L49: 59271.115 | M49: 48098.567 | N49: 10113.965 | O49: 58212.533
B51: ∑Ta= ∑TVa + ∑TFa prima delle detrazioni di cui al. Art. 4.5 Del. 397/2025/R/Rif | D51: 116145.42 | E51: 16940.187 | F51: 133085.61 | G51: 128239.87 | H51: 18058.977 | I51: 146298.85 | J51: 122636.17 | K51: 17567.725 | L51: 140203.89 | M51: 121673.82 | N51: 17471.491 | O51: 139145.31
B52: ∑Ta= ∑TVa + ∑TFa dopo le detrazioni di cui al. Art. 4.5 Del. 397/2025/R/Rif | D52: 115299.97 | E52: 16940.187 | F52: 132240.15 | G52: 127548.69 | H52: 18058.977 | I52: 145607.66 | J52: 122636.17 | K52: 17567.725 | L52: 140203.89 | M52: 121673.82 | N52: 17471.491 | O52: 139145.31
B54: Grandezze fisico-tecniche
B55: raccolta differenziata % - (a-2) | F55: 0.70614912 | I55: 0.70614912 | L55: 0.70614912 | O55: 0.70614912
B56: qa-2 ton | F56: 335.589 | I56: 335.589 | L56: 335.589 | O56: 335.589
B57: costo unitario effettivo - Cueff €cent/kg - (a-2) | F57: 36.882021 | I57: 40.45299 | L57: 39.40539 | O57: 41.675283
B58: Benchmark di riferimento [cent€/kg] (fabbisogno standard/costo medio settore) - (a-2) | F58: 33.397 | I58: 33.397 | L58: 33.397 | O58: 33.397
B60: Coefficiente di gradualità
B61: valutazione rispetto agli obiettivi di raccolta differenziata ɣ1 | F61: -0.12512826 | I61: -0.12512826 | L61: -0.12512826 | O61: -0.12512826
B62: valutazione rispetto all' efficacia dell' attività di preparazione per il riutilizzo e riciclo ɣ2 | F62: -0.032564811 | I62: -0.032564811 | L62: -0.032564811 | O62: -0.032564811
B63: Totale ɣ | F63: -0.15769307 | I63: -0.15769307 | L63: -0.15769307 | O63: -0.15769307
B64: Coefficiente di gradualità (1+ ɣ) | F64: 0.84230693 | I64: 0.84230693 | L64: 0.84230693 | O64: 0.84230693
B66: Verifica del limite di crescita
B67: rpia | F67: 0.019 | I67: 0.019 | L67: 0.019 | O67: 0.019
B68: coefficiente di recupero di produttività Xa | F68: 0.0014 | I68: 0.0014 | L68: 0.0014 | O68: 0.0014
B69: coeff. Potenziamento del servizio Ka | F69: 0.04 | I69: 0.04 | L69: 0.04 | O69: 0.04
B70: coeff. per recupero inflazione CRIa | F70: 0 | I70: 0 | L70: 0 | O70: 0
B71: Parametro per la determinazione del limite alla crescita delle tariffe ρ | F71: 0.0576 | I71: 0.0576 | L71: 0.0576 | O71: 0.0576
B72: (1+ρ) | F72: 1.0576 | I72: 1.0576 | L72: 1.0576 | O72: 1.0576
B73: ∑Ta | F73: 132240.15 | I73: 145607.66 | L73: 140203.89 | O73: 139145.31
B74: ∑TVa-1 | F74: 92881.254 | I74: 74407.75 | L74: 80036.756 | O74: 80932.778
B75: ∑TFa-1 | F75: 42874.532 | I75: 57832.405 | L75: 59820.908 | O75: 59271.115
B76: ∑Ta-1 | F76: 135755.79 | I76: 132240.15 | L76: 139857.66 | O76: 140203.89
B77: ∑Ta/ ∑Ta-1 | F77: 0.97410327 | I77: 1.1010851 | L77: 1.0024756 | O77: 0.99244969
B79: ∑Tmax (entrate tariffarie massime applicabili nel rispetto del limite di crescita) | F79: 132240.15 | I79: 139857.19 | L79: 140203.89 | O79: 139145.31
B80: delta (∑Ta-∑Tmax) | F80: 0 | I80: 5750.4768 | L80: 0 | O80: 0
B82: TVa dopo distribuzione delta (∑Ta-∑Tmax) | D82: 67643.409 | E82: 6764.3409 | F82: 74407.75 | G82: 75752.114 | H82: 4284.642 | I82: 80036.756 | J82: 73575.253 | K82: 7357.5253 | L82: 80932.778 | M82: 73575.253 | N82: 7357.5253 | O82: 80932.778
B83: TFa dopo distribuzione delta (∑Ta-∑Tmax) | D83: 47656.558 | E83: 10175.847 | F83: 57832.405 | G83: 51796.573 | H83: 8024.3353 | I83: 59820.908 | J83: 49060.915 | K83: 10210.2 | L83: 59271.115 | M83: 48098.567 | N83: 10113.965 | O83: 58212.533
B84: Ta=TVa+TFa dopo distribuzione delta (∑Ta-∑Tmax) | D84: 115299.97 | E84: 16940.187 | F84: 132240.15 | G84: 127548.69 | H84: 12308.977 | I84: 139857.66 | J84: 122636.17 | K84: 17567.725 | L84: 140203.89 | M84: 121673.82 | N84: 17471.491 | O84: 139145.31
B86: Detrazioni di cui al comma 4.5 della Determina 1/DTAC/2025 - parte variabile | F86: 0 | I86: 0 | L86: 0 | O86: 0
B87: Detrazioni di cui al comma 4.5 della Determina 1/DTAC/2025 - parte fissa | F87: 579.62 | I87: 579.62 | L87: 579.62 | O87: 579.62
B89: ∑TVa totale delle entrate tariffarie relative alle componenti di costo variabile dopo le detrazioni di cui al comma 4.5 Determina 1/DTAC/2025 | F89: 74407.75 | I89: 80036.756 | L89: 80932.778 | O89: 80932.778
B90: ∑TFa totale delle entrate tariffarie relative alle componenti di costo fisso dopo le detrazioni di cui al comma 4.5 della Determina 1/DTAC/2025 | F90: 57252.785 | I90: 59241.288 | L90: 58691.495 | O90: 57632.913
B91: Totale entrate tariffarie dopo le detrazioni di cui al comma 4.5 della Determina 1/DTAC/2025 | F91: 131660.53 | I91: 139278.04 | L91: 139624.27 | O91: 138565.69

Sheet Moncalieri
B1: PEF 2026-2029
D3: 2026 | G3: 2027 | J3: 2028 | M3: 2029
D4: Comune di Moncalieri | G4: Comune di Moncalieri | J4: Comune di Moncalieri | M4: Comune di Moncalieri
D5: Costi del/i gestore/i diverso/i dal Comune | E5: Costi del/i Comune/i | F5: Ciclo integrato RU (TOT PEF) | G5: Costi del/i gestore/i diverso/i dal Comune | H5: Costi del/i Comune/i | I5: Ciclo integrato RU (TOT PEF) | J5: Costi del/i gestore/i diverso/i dal Comune | K5: Costi del/i Comune/i | L5: Ciclo integrato RU (TOT PEF) | M5: Costi del/i gestore/i diverso/i dal Comune | N5: Costi del/i Comune/i | O5: Ciclo integrato RU (TOT PEF)
B6: Costi dell’attività di raccolta e trasporto dei rifiuti urbani indifferenziati CRT | D6: 801269.85 | E6: 0 | F6: 801269.85 | G6: 792191.91 | H6: 0 | I6: 792191.91 | J6: 792191.91 | K6: 0 | L6: 792191.91 | M6: 792191.91 | N6: 0 | O6: 792191.91
B7: Costi dell’attività di trattamento e smaltimento dei rifiuti urbani CTS | D7: 1317620.5 | E7: 0 | F7: 1317620.5 | G7: 1417651.8 | H7: 0 | I7: 1417651.8 | J7: 1417651.8 | K7: 0 | L7: 1417651.8 | M7: 1417651.8 | N7: 0 | O7: 1417651.8
B8: Costi dell’attività di trattamento e recupero dei rifiuti urbani CTR | D8: 759222.83 | E8: 0 | F8: 759222.83 | G8: 746930.61 | H8: 0 | I8: 746930.61 | J8: 746930.61 | K8: 0 | L8: 746930.61 | M8: 746930.61 | N8: 0 | O8: 746930.61
B9: Costi dell’attività di raccolta e trasporto delle frazioni differenziate CRD | D9: 2759251.5 | E9: 0 | F9: 2759251.5 | G9: 2923673.6 | H9: 0 | I9: 2923673.6 | J9: 2923673.6 | K9: 0 | L9: 2923673.6 | M9: 2923673.6 | N9: 0 | O9: 2923673.6
B10: Costi operativi variabili previsionali di cui all'articolo 17.2 del MTR-3 CTS∆expTV | D10: 0 | E10: 0 | F10: 0 | G10: 0 | H10: 0 | I10: 0 | J10: 0 | K10: 0 | L10: 0 | M10: 0 | N10: 0 | O10: 0
B11: Costi operativi variabili previsionali di cui all'articolo 17.3 del MTR-3 COEXP116,TV | D11: 0 | E11: 0 | F11: 0 | G11: 0 | H11: 0 | I11: 0 | J11: 0 | K11: 0 | L11: 0 | M11: 0 | N11: 0 | O11: 0
B12: Costi operativi variabili previsionali di cui all'articolo 17.4 del MTR-3 CQEXPTV | D12: 0 | E12: 0 | F12: 0 | G12: 0 | H12: 0 | I12: 0 | J12: 0 | K12: 0 | L12: 0 | M12: 0 | N12: 0 | O12: 0
B13: Costi operativi variabili previsionali di cui all'articolo 17.5 del MTR-3 COANT,TV | D13: 0 | E13: 0 | F13: 0 | G13: 0 | H13: 0 | I13: 0 | J13: 0 | K13: 0 | L13: 0 | M13: 0 | N13: 0 | O13: 0
B14: Costi operativi incentivanti sistematici variabili di cui all'articolo 10 del MTR-3 COnewEXPTV | D14: 0 | E14: 0 | F14: 0 | G14: 0 | H14: 0 | I14: 0 | J14: 0 | K14: 0 | L14: 0 | M14: 0 | N14: 0 | O14: 0
B15: Costi operativi incentivanti non sistematici variabili di cui all'articolo 10 del MTR-3 COIEXPTV | D15: 0 | E15: 0 | F15: 0 | G15: 0 | H15: 0 | I15: 0 | J15: 0 | K15: 0 | L15: 0 | M15: 0 | N15: 0 | O15: 0
B16: Fattore di Sharing b | D16: 0.2 | E16: 0.2 | F16: 0.2 | G16: 0.2 | H16: 0.2 | I16: 0.2 | J16: 0.2 | K16: 0.2 | L16: 0.2 | M16: 0.2 | N16: 0.2 | O16: 0.2
B17: Proventi della vendita di materiale ed energia derivante da rifiuti AR | D17: 2488.4539 | E17: 0 | F17: 2488.4539 | G17: 4895.5995 | H17: 0 | I17: 4895.5995 | J17: 4895.5995 | K17: 0 | L17: 4895.5995 | M17: 4895.5995 | N17: 0 | O17: 4895.5995
... B21: di cui quote pregresse recuperate nell'anno a - quota variabile RC∆(T-Tmax)pre,TV,a | D21: 0 | E21: 0 | F21: 0 | G21: 0 | H21: 0 | I21: 0 | J21: 0 | K21: 0 | L21: 0 | M21: 0 | N21: 0 | O21: 0
B22: Oneri relativi all'IVA indetraibile - PARTE VARIABILE | E22: 430549.54 | F22: 430549.54 | H22: 454100.9 | I22: 454100.9 | K22: 454100.9 | L22: 454100.9 | N22: 454100.9 | O22: 454100.9
B23: ∑TVa totale delle entrate tariffarie relative alle componenti di costo variabile dopo le detrazioni di cui al. Art, 4.5 Del. 397/2025/R/Rif | D23: 5469014.8 | E23: 430549.54 | F23: 5899564.3 | G23: 5704528.4 | H23: 454100.9 | I23: 6158629.3 | J23: 5704528.4 | K23: 454100.9 | L23: 6158629.3 | M23: 5704528.4 | N23: 454100.9 | O23: 6158629.3
B25: Costi dell’attività di spazzamento e di lavaggio CSL | D25: 1200965.4 | E25: 0 | F25: 1200965.4 | G25: 1195070.2 | H25: 0 | I25: 1195070.2 | J25: 1195070.2 | K25: 0 | L25: 1195070.2 | M25: 1195070.2 | N25: 0 | O25: 1195070.2
B26: Costi per l’attività di gestione delle tariffe e dei rapporti con gli utenti CARC | D26: 573959.45 | E26: 0 | F26: 573959.45 | G26: 564036.74 | H26: 0 | I26: 564036.74 | J26: 564036.74 | K26: 0 | L26: 564036.74 | M26: 564036.74 | N26: 0 | O26: 564036.74
B27: Costi generali di gestione CGG | D27: 1062042.1 | E27: 69759.481 | F27: 1131801.6 | G27: 1289364.2 | H27: 68391.648 | I27: 1357755.9 | J27: 1324608.2 | K27: 68391.648 | L27: 1392999.8 | M27: 1324608.2 | N27: 68391.648 | O27: 1392999.8
B28: Costi relativi alla quota di crediti inesigibili CCD | D28: 0 | E28: 252652.14 | F28: 252652.14 | G28: 0 | H28: 247698.18 | I28: 247698.18 | J28: 0 | K28: 247698.18 | L28: 247698.18 | M28: 0 | N28: 247698.18 | O28: 247698.18
B29: Altri costi COAL | D29: 13698.86 | E29: 0 | F29: 13698.86 | G29: 2664.1593 | H29: 0 | I29: 2664.1593 | J29: 2664.1593 | K29: 0 | L29: 2664.1593 | M29: 2664.1593 | N29: 0 | O29: 2664.1593
B30: Costi comuni CC | D30: 1649700.4 | E30: 322411.62 | F30: 1972112 | G30: 1856065.1 | H30: 316089.82 | I30: 2172155 | J30: 1891309.1 | K30: 316089.82 | L30: 2207398.9 | M30: 1891309.1 | N30: 316089.82 | O30: 2207398.9
B31: Ammortamenti Amm | D31: 337554.95 | E31: 33971.222 | F31: 371526.17 | G31: 345905.03 | H31: 33971.222 | I31: 379876.25 | J31: 312323.71 | K31: 33971.222 | L31: 346294.93 | M31: 285465.05 | N31: 33971.222 | O31: 319436.27
B32: Accantonamenti Acc | D32: 0 | E32: 0 | F32: 0 | G32: 0 | H32: 0 | I32: 0 | J32: 0 | K32: 0 | L32: 0 | M32: 0 | N32: 0 | O32: 0
B33: - di cui costi di gestione post-operativa delle discariche | D33: 0 | E33: 0 | F33: 0 | G33: 0 | H33: 0 | I33: 0 | J33: 0 | K33: 0 | L33: 0 | M33: 0 | N33: 0 | O33: 0
B34: - di cui per crediti | D34: 0 | E34: 0 | F34: 0 | G34: 0 | H34: 0 | I34: 0 | J34: 0 | K34: 0 | L34: 0 | M34: 0 | N34: 0 | O34: 0
B35: - di cui per rischi e oneri previsti da normativa di settore e/o dal contratto di affidamento | D35: 0 | E35: 0 | F35: 0 | G35: 0 | H35: 0 | I35: 0 | J35: 0 | K35: 0 | L35: 0 | M35: 0 | N35: 0 | O35: 0
... B47: di cui quote pregresse recuperate nell'anno a - quota fissa RC∆(T-Tmax)pre,TF,a | D47: 0 | E47: 0 | F47: 0 | G47: 0 | H47: 0 | I47: 0 | J47: 0 | K47: 0 | L47: 0 | M47: 0 | N47: 0 | O47: 0
B48: Oneri relativi all'IVA indetraibile - PARTE FISSA | E48: 265542.15 | F48: 265542.15 | H48: 274509.23 | I48: 274509.23 | K48: 265764.23 | L48: 265764.23 | N48: 260943.34 | O48: 260943.34
B49: ∑TFa totale delle entrate tariffarie relative alle componenti di costo fisse dopo le detrazioni di cui al. Art. 4.5 Del. 397/2025/R/Rif | D49: 3818940.9 | E49: 703965.5 | F49: 4522906.4 | G49: 3908611.6 | H49: 704266.76 | I49: 4612878.4 | J49: 3821161.6 | K49: 693177.74 | L49: 4514339.4 | M49: 3772952.7 | N49: 686012.84 | O49: 4458965.6
B51: ∑Ta= ∑TVa + ∑TFa prima delle detrazioni di cui al. Art. 4.5 Del. 397/2025/R/Rif | D51: 9331065.9 | E51: 1367218.9 | F51: 10698285 | G51: 9648383.9 | H51: 1391071.5 | I51: 11039455 | J51: 9525690 | K51: 1379982.5 | L51: 10905672 | M51: 9477481.1 | N51: 1372817.6 | O51: 10850299
B52: ∑Ta= ∑TVa + ∑TFa dopo le detrazioni di cui al. Art. 4.5 Del. 397/2025/R/Rif | D52: 9287955.7 | E52: 1134515 | F52: 10422471 | G52: 9613140 | H52: 1158367.7 | I52: 10771508 | J52: 9525690 | K52: 1147278.6 | L52: 10672969 | M52: 9477481.1 | N52: 1140113.7 | O52: 10617595
B54: Grandezze fisico-tecniche
B55: raccolta differenziata % - (a-2) | F55: 0.65838728 | I55: 0.65838728 | L55: 0.65838728 | O55: 0.65838728
B56: qa-2 ton | F56: 25716.872 | I56: 25716.872 | L56: 25716.872 | O56: 25716.872
B57: costo unitario effettivo - Cueff €cent/kg - (a-2) | F57: 40.373014 | I57: 38.782447 | L57: 40.527754 | O57: 41.884984
B58: Benchmark di riferimento [cent€/kg] (fabbisogno standard/costo medio settore) - (a-2) | F58: 33.797 | I58: 33.797 | L58: 33.797 | O58: 33.797
B60: Coefficiente di gradualità
B61: valutazione rispetto agli obiettivi di raccolta differenziata ɣ1 | F61: -0.18880752 | I61: -0.18880752 | L61: -0.18880752 | O61: -0.18880752
B62: valutazione rispetto all' efficacia dell' attività di preparazione per il riutilizzo e riciclo ɣ2 | F62: -0.032564811 | I62: -0.032564811 | L62: -0.032564811 | O62: -0.032564811
B63: Totale ɣ | F63: -0.22137233 | I63: -0.22137233 | L63: -0.22137233 | O63: -0.22137233
B64: Coefficiente di gradualità (1+ ɣ) | F64: 0.77862767 | I64: 0.77862767 | L64: 0.77862767 | O64: 0.77862767
B66: Verifica del limite di crescita
B67: rpia | F67: 0.019 | I67: 0.019 | L67: 0.019 | O67: 0.019
B68: coefficiente di recupero di produttività Xa | F68: 0.0016 | I68: 0.0016 | L68: 0.0016 | O68: 0.0016
B69: coeff. Potenziamento del servizio Ka | F69: 0.0306 | I69: 0.0306 | L69: 0.0306 | O69: 0.0306
B70: coeff. per recupero inflazione CRIa | F70: 0 | I70: 0 | L70: 0 | O70: 0
B71: Parametro per la determinazione del limite alla crescita delle tariffe ρ | F71: 0.048 | I71: 0.048 | L71: 0.048 | O71: 0.048
B72: (1+ρ) | F72: 1.048 | I72: 1.048 | L72: 1.048 | O72: 1.048
B73: ∑Ta | F73: 10422471 | I73: 10771508 | L73: 10672969 | O73: 10617595
B74: ∑TVa-1 | F74: 5557168.9 | I74: 5899564.3 | L74: 6158629.3 | O74: 6158629.3
B75: ∑TFa-1 | F75: 4416463.4 | I75: 4522906.4 | L75: 4612878.4 | O75: 4514339.4
B76: ∑Ta-1 | F76: 9973632.3 | I76: 10422471 | L76: 10771508 | O76: 10672969
B77: ∑Ta/ ∑Ta-1 | F77: 1.0450025 | I77: 1.0334889 | L77: 0.99085188 | O77: 0.99481177
B79: ∑Tmax (entrate tariffarie massime applicabili nel rispetto del limite di crescita) | F79: 10422471 | I79: 10771508 | L79: 10672969 | O79: 10617595
B80: delta (∑Ta-∑Tmax) | F80: 0 | I80: 0 | L80: 0 | O80: 0
B82: TVa dopo distribuzione delta (∑Ta-∑Tmax) | D82: 5469014.8 | E82: 430549.54 | F82: 5899564.3 | G82: 5704528.4 | H82: 454100.9 | I82: 6158629.3 | J82: 5704528.4 | K82: 454100.9 | L82: 6158629.3 | M82: 5704528.4 | N82: 454100.9 | O82: 6158629.3
B83: TFa dopo distribuzione delta (∑Ta-∑Tmax) | D83: 3818940.9 | E83: 703965.5 | F83: 4522906.4 | G83: 3908611.6 | H83: 704266.76 | I83: 4612878.4 | J83: 3821161.6 | K83: 693177.74 | L83: 4514339.4 | M83: 3772952.7 | N83: 686012.84 | O83: 4458965.6
B84: Ta=TVa+TFa dopo distribuzione delta (∑Ta-∑Tmax) | D84: 9287955.7 | E84: 1134515 | F84: 10422471 | G84: 9613140 | H84: 1158367.7 | I84: 10771508 | J84: 9525690 | K84: 1147278.6 | L84: 10672969 | M84: 9477481.1 | N84: 1140113.7 | O84: 10617595
B86: Detrazioni di cui al comma 4.5 della Determina 1/DTAC/2025 - parte variabile | F86: 0 | I86: 0 | L86: 0 | O86: 0
B87: Detrazioni di cui al comma 4.5 della Determina 1/DTAC/2025 - parte fissa | F87: 47787.4 | I87: 47787.4 | L87: 47787.4 | O87: 47787.4
B89: ∑TVa totale delle entrate tariffarie relative alle componenti di costo variabile dopo le detrazioni di cui al comma 4.5 Determina 1/DTAC/2025 | F89: 5899564.3 | I89: 6158629.3 | L89: 6158629.3 | O89: 6158629.3
B90: ∑TFa totale delle entrate tariffarie relative alle componenti di costo fisso dopo le detrazioni di cui al comma 4.5 della Determina 1/DTAC/2025 | F90: 4475119 | I90: 4565091 | L90: 4466552 | O90: 4411178.2
B91: Totale entrate tariffarie dopo le detrazioni di cui al comma 4.5 della Determina 1/DTAC/2025 | F91: 10374683 | I91: 10723720 | L91: 10625181 | O91: 10569807

Sheet Nichelino
B1: PEF 2026-2029
D3: 2026 | G3: 2027 | J3: 2028 | M3: 2029
D4: Comune di Nichelino | G4: Comune di Nichelino | J4: Comune di Nichelino | M4: Comune di Nichelino
D5: Costi del/i gestore/i diverso/i dal Comune | E5: Costi del/i Comune/i | F5: Ciclo integrato RU (TOT PEF) | G5: Costi del/i gestore/i diverso/i dal Comune | H5: Costi del/i Comune/i | I5: Ciclo integrato RU (TOT PEF) | J5: Costi del/i gestore/i diverso/i dal Comune | K5: Costi del/i Comune/i | L5: Ciclo integrato RU (TOT PEF) | M5: Costi del/i gestore/i diverso/i dal Comune | N5: Costi del/i Comune/i | O5: Ciclo integrato RU (TOT PEF)
B6: Costi dell’attività di raccolta e trasporto dei rifiuti urbani indifferenziati CRT | D6: 787659.94 | E6: 0 | F6: 787659.94 | G6: 831602.75 | H6: 0 | I6: 831602.75 | J6: 831602.75 | K6: 0 | L6: 831602.75 | M6: 831602.75 | N6: 0 | O6: 831602.75
B7: Costi dell’attività di trattamento e smaltimento dei rifiuti urbani CTS | D7: 1219485 | E7: 0 | F7: 1219485 | G7: 1297444.6 | H7: 0 | I7: 1297444.6 | J7: 1297444.6 | K7: 0 | L7: 1297444.6 | M7: 1297444.6 | N7: 0 | O7: 1297444.6
B8: Costi dell’attività di trattamento e recupero dei rifiuti urbani CTR | D8: 622575.26 | E8: 0 | F8: 622575.26 | G8: 609569.56 | H8: 0 | I8: 609569.56 | J8: 609569.56 | K8: 0 | L8: 609569.56 | M8: 609569.56 | N8: 0 | O8: 609569.56
B9: Costi dell’attività di raccolta e trasporto delle frazioni differenziate CRD | D9: 2315683.2 | E9: 0 | F9: 2315683.2 | G9: 2599309.2 | H9: 0 | I9: 2599309.2 | J9: 2599309.2 | K9: 0 | L9: 2599309.2 | M9: 2599309.2 | N9: 0 | O9: 2599309.2
B10: Costi operativi variabili previsionali di cui all'articolo 17.2 del MTR-3 CTS∆expTV | D10: 0 | E10: 0 | F10: 0 | G10: 0 | H10: 0 | I10: 0 | J10: 0 | K10: 0 | L10: 0 | M10: 0 | N10: 0 | O10: 0
B11: Costi operativi variabili previsionali di cui all'articolo 17.3 del MTR-3 COEXP116,TV | D11: 0 | E11: 0 | F11: 0 | G11: 0 | H11: 0 | I11: 0 | J11: 0 | K11: 0 | L11: 0 | M11: 0 | N11: 0 | O11: 0
B12: Costi operativi variabili previsionali di cui all'articolo 17.4 del MTR-3 CQEXPTV | D12: 0 | E12: 0 | F12: 0 | G12: 0 | H12: 0 | I12: 0 | J12: 0 | K12: 0 | L12: 0 | M12: 0 | N12: 0 | O12: 0
B13: Costi operativi variabili previsionali di cui all'articolo 17.5 del MTR-3 COANT,TV | D13: 50081.183 | E13: 0 | F13: 50081.183 | G13: 150248.45 | H13: 0 | I13: 150248.45 | J13: 0 | K13: 0 | L13: 0 | M13: 0 | N13: 0 | O13: 0
B14: Costi operativi incentivanti sistematici variabili di cui all'articolo 10 del MTR-3 COnewEXPTV | D14: 0 | E14: 0 | F14: 0 | G14: 0 | H14: 0 | I14: 0 | J14: 0 | K14: 0 | L14: 0 | M14: 0 | N14: 0 | O14: 0
B15: Costi operativi incentivanti non sistematici variabili di cui all'articolo 10 del MTR-3 COIEXPTV | D15: 0 | E15: 0 | F15: 0 | G15: 0 | H15: 0 | I15: 0 | J15: 0 | K15: 0 | L15: 0 | M15: 0 | N15: 0 | O15: 0
B16: Fattore di Sharing b | D16: 0.4 | E16: 0.4 | F16: 0.4 | G16: 0.4 | H16: 0.4 | I16: 0.4 | J16: 0.4 | K16: 0.4 | L16: 0.4 | M16: 0.4 | N16: 0.4 | O16: 0.4
B17: Proventi della vendita di materiale ed energia derivante da rifiuti AR | D17: 2008.51 | E17: 0 | F17: 2008.51 | G17: 3951.3936 | H17: 0 | I17: 3951.3936 | J17: 3951.3936 | K17: 0 | L17: 3951.3936 | M17: 3951.3936 | N17: 0 | O17: 3951.3936
... B21: di cui quote pregresse recuperate nell'anno a - quota variabile RC∆(T-Tmax)pre,TV,a | D21: 0 | E21: 0 | F21: 0 | G21: 0 | H21: 0 | I21: 0 | J21: 0 | K21: 0 | L21: 0 | M21: 0 | N21: 0 | O21: 0
B22: Oneri relativi all'IVA indetraibile - PARTE VARIABILE | E22: 406665.2 | F22: 406665.2 | H22: 454712.24 | I22: 454712.24 | K22: 439687.4 | L22: 439687.4 | N22: 439687.4 | O22: 439687.4
B23: ∑TVa totale delle entrate tariffarie relative alle componenti di costo variabile dopo le detrazioni di cui al. Art, 4.5 Del. 397/2025/R/Rif | D23: 4723723.5 | E23: 406665.2 | F23: 5130388.7 | G23: 5204194 | H23: 454712.24 | I23: 5658906.2 | J23: 5053945.5 | K23: 439687.4 | L23: 5493632.9 | M23: 5053945.5 | N23: 439687.4 | O23: 5493632.9
B25: Costi dell’attività di spazzamento e di lavaggio CSL | D25: 956955.64 | E25: 0 | F25: 956955.64 | G25: 1016639.1 | H25: 0 | I25: 1016639.1 | J25: 1016639.1 | K25: 0 | L25: 1016639.1 | M25: 1016639.1 | N25: 0 | O25: 1016639.1
B26: Costi per l’attività di gestione delle tariffe e dei rapporti con gli utenti CARC | D26: 467229.51 | E26: 32089.245 | F26: 499318.76 | G26: 459142.76 | H26: 0 | I26: 459142.76 | J26: 459142.76 | K26: 0 | L26: 459142.76 | M26: 459142.76 | N26: 0 | O26: 459142.76
B27: Costi generali di gestione CGG | D27: 992096.37 | E27: 0 | F27: 992096.37 | G27: 1204926.5 | H27: 39647.323 | I27: 1244573.8 | J27: 1233372.9 | K27: 39647.323 | L27: 1273020.3 | M27: 1233372.9 | N27: 39647.323 | O27: 1273020.3
B28: Costi relativi alla quota di crediti inesigibili CCD | D28: 0 | E28: 783601.25 | F28: 783601.25 | G28: 0 | H28: 6257.349 | I28: 6257.349 | J28: 0 | K28: 6257.349 | L28: 6257.349 | M28: 0 | N28: 6257.349 | O28: 6257.349
B29: Altri costi COAL | D29: 12354.289 | E29: 0 | F29: 12354.289 | G29: 3488.0314 | H29: 0 | I29: 3488.0314 | J29: 3488.0314 | K29: 0 | L29: 3488.0314 | M29: 3488.0314 | N29: 0 | O29: 3488.0314
B30: Costi comuni CC | D30: 1471680.2 | E30: 815690.5 | F30: 2287370.7 | G30: 1667557.2 | H30: 45904.672 | I30: 1713461.9 | J30: 1696003.7 | K30: 45904.672 | L30: 1741908.4 | M30: 1696003.7 | N30: 45904.672 | O30: 1741908.4
B31: Ammortamenti Amm | D31: 254200.46 | E31: 0 | F31: 254200.46 | G31: 261501.12 | H31: 0 | I31: 261501.12 | J31: 236390.19 | K31: 0 | L31: 236390.19 | M31: 209204.92 | N31: 0 | O31: 209204.92
B32: Accantonamenti Acc | D32: 0 | E32: 0 | F32: 0 | G32: 0 | H32: 0 | I32: 0 | J32: 0 | K32: 0 | L32: 0 | M32: 0 | N32: 0 | O32: 0
B33: - di cui costi di gestione post-operativa delle discariche | D33: 0 | E33: 0 | F33: 0 | G33: 0 | H33: 0 | I33: 0 | J33: 0 | K33: 0 | L33: 0 | M33: 0 | N33: 0 | O33: 0
B34: - di cui per crediti | D34: 0 | E34: 0 | F34: 0 | G34: 0 | H34: 0 | I34: 0 | J34: 0 | K34: 0 | L34: 0 | M34: 0 | N34: 0 | O34: 0
B35: - di cui per rischi e oneri previsti da normativa di settore e/o dal contratto di affidamento | D35: 0 | E35: 0 | F35: 0 | G35: 0 | H35: 0 | I35: 0 | J35: 0 | K35: 0 | L35: 0 | M35: 0 | N35: 0 | O35: 0
... B47: di cui quote pregresse recuperate nell'anno a - quota fissa RC∆(T-Tmax)pre,TF,a | D47: 0 | E47: 0 | F47: 0 | G47: 0 | H47: 0 | I47: 0 | J47: 0 | K47: 0 | L47: 0 | M47: 0 | N47: 0 | O47: 0
B48: Oneri relativi all'IVA indetraibile - PARTE FISSA | E48: 239303.24 | F48: 239303.24 | H48: 259923.62 | I48: 259923.62 | K48: 248613.32 | L48: 248613.32 | N48: 244280.08 | O48: 244280.08
B49: ∑TFa totale delle entrate tariffarie relative alle componenti di costo fisse dopo le detrazioni di cui al. Art. 4.5 Del. 397/2025/R/Rif | D49: 3050104 | E49: 1054993.7 | F49: 4105097.7 | G49: 3256307.7 | H49: 305828.29 | I49: 3562136 | J49: 3143204.7 | K49: 294517.99 | L49: 3437722.7 | M49: 3099872.4 | N49: 290184.76 | O49: 3390057.2
B51: ∑Ta= ∑TVa + ∑TFa prima delle detrazioni di cui al. Art. 4.5 Del. 397/2025/R/Rif | D51: 7808623.2 | E51: 1593073.2 | F51: 9401696.4 | G51: 8488948.2 | H51: 891954.85 | I51: 9380903.1 | J51: 8197150.3 | K51: 865619.7 | L51: 9062770 | M51: 8153817.9 | N51: 861286.47 | O51: 9015104.4
B52: ∑Ta= ∑TVa + ∑TFa dopo le detrazioni di cui al. Art. 4.5 Del. 397/2025/R/Rif | D52: 7773827.5 | E52: 1461658.9 | F52: 9235486.4 | G52: 8460501.7 | H52: 760540.54 | I52: 9221042.3 | J52: 8197150.3 | K52: 734205.39 | L52: 8931355.7 | M52: 8153817.9 | N52: 729872.16 | O52: 8883690.1
B54: Grandezze fisico-tecniche
B55: raccolta differenziata % - (a-2) | F55: 0.60600963 | I55: 0.60600963 | L55: 0.60600963 | O55: 0.60600963
B56: qa-2 ton | F56: 22085.065 | I56: 22085.065 | L56: 22085.065 | O56: 22085.065
B57: costo unitario effettivo - Cueff €cent/kg - (a-2) | F57: 42.579633 | I57: 41.07838 | L57: 41.817792 | O57: 41.752389
B58: Benchmark di riferimento [cent€/kg] (fabbisogno standard/costo medio settore) - (a-2) | F58: 35.271 | I58: 35.271 | L58: 35.271 | O58: 35.271
B60: Coefficiente di gradualità
B61: valutazione rispetto agli obiettivi di raccolta differenziata ɣ1 | F61: -0.25865383 | I61: -0.25865383 | L61: -0.25865383 | O61: -0.25865383
B62: valutazione rispetto all' efficacia dell' attività di preparazione per il riutilizzo e riciclo ɣ2 | F62: -0.032564811 | I62: -0.032564811 | L62: -0.032564811 | O62: -0.032564811
B63: Totale ɣ | F63: -0.29121864 | I63: -0.29121864 | L63: -0.29121864 | O63: -0.29121864
B64: Coefficiente di gradualità (1+ ɣ) | F64: 0.70878136 | I64: 0.70878136 | L64: 0.70878136 | O64: 0.70878136
B66: Verifica del limite di crescita
B67: rpia | F67: 0.019 | I67: 0.019 | L67: 0.019 | O67: 0.019
B68: coefficiente di recupero di produttività Xa | F68: 0.0018 | I68: 0.0018 | L68: 0.0018 | O68: 0.0018
B69: coeff. Potenziamento del servizio Ka | F69: 0.0308 | I69: 0.0308 | L69: 0.0308 | O69: 0.0308
B70: coeff. per recupero inflazione CRIa | F70: 0 | I70: 0 | L70: 0 | O70: 0
B71: Parametro per la determinazione del limite alla crescita delle tariffe ρ | F71: 0.048 | I71: 0.048 | L71: 0.048 | O71: 0.048
B72: (1+ρ) | F72: 1.048 | I72: 1.048 | L72: 1.048 | O72: 1.048
B73: ∑Ta | F73: 9235486.4 | I73: 9221042.3 | L73: 8931355.7 | O73: 8883690.1
B74: ∑TVa-1 | F74: 4707491.3 | I74: 5130388.7 | L74: 5658906.2 | O74: 5493632.9
B75: ∑TFa-1 | F75: 4364695.7 | I75: 4105097.7 | L75: 3562136 | O75: 3437722.7
B76: ∑Ta-1 | F76: 9072186.9 | I76: 9235486.4 | L76: 9221042.3 | O76: 8931355.7
B77: ∑Ta/ ∑Ta-1 | F77: 1.018 | I77: 0.99843601 | L77: 0.96858418 | O77: 0.99466312
B79: ∑Tmax (entrate tariffarie massime applicabili nel rispetto del limite di crescita) | F79: 9235486.4 | I79: 9221042.3 | L79: 8931355.7 | O79: 8883690.1
B80: delta (∑Ta-∑Tmax) | F80: 0 | I80: 0 | L80: 0 | O80: 0
B82: TVa dopo distribuzione delta (∑Ta-∑Tmax) | D82: 4723723.5 | E82: 406665.2 | F82: 5130388.7 | G82: 5204194 | H82: 454712.24 | I82: 5658906.2 | J82: 5053945.5 | K82: 439687.4 | L82: 5493632.9 | M82: 5053945.5 | N82: 439687.4 | O82: 5493632.9
B83: TFa dopo distribuzione delta (∑Ta-∑Tmax) | D83: 3050104 | E83: 1054993.7 | F83: 4105097.7 | G83: 3256307.7 | H83: 305828.29 | I83: 3562136 | J83: 3143204.7 | K83: 294517.99 | L83: 3437722.7 | M83: 3099872.4 | N83: 290184.76 | O83: 3390057.2
B84: Ta=TVa+TFa dopo distribuzione delta (∑Ta-∑Tmax) | D84: 7773827.5 | E84: 1461658.9 | F84: 9235486.4 | G84: 8460501.7 | H84: 760540.54 | I84: 9221042.3 | J84: 8197150.3 | K84: 734205.39 | L84: 8931355.7 | M84: 8153817.9 | N84: 729872.16 | O84: 8883690.1
B86: Detrazioni di cui al comma 4.5 della Determina 1/DTAC/2025 - parte variabile | F86: 0 | I86: 0 | L86: 0 | O86: 0
B87: Detrazioni di cui al comma 4.5 della Determina 1/DTAC/2025 - parte fissa | F87: 34739.14 | I87: 33100.14 | L87: 33100.14 | O87: 33100.14
B89: ∑TVa totale delle entrate tariffarie relative alle componenti di costo variabile dopo le detrazioni di cui al comma 4.5 Determina 1/DTAC/2025 | F89: 5130388.7 | I89: 5658906.2 | L89: 5493632.9 | O89: 5493632.9
B90: ∑TFa totale delle entrate tariffarie relative alle componenti di costo fisso dopo le detrazioni di cui al comma 4.5 della Determina 1/DTAC/2025 | F90: 4070358.6 | I90: 3529035.9 | L90: 3404622.6 | O90: 3356957
B91: Totale entrate tariffarie dopo le detrazioni di cui al comma 4.5 della Determina 1/DTAC/2025 | F91: 9200747.3 | I91: 9187942.1 | L91: 8898255.5 | O91: 8850589.9

Sheet Orbassano
B1: PEF 2026-2029
D3: 2026 | G3: 2027 | J3: 2028 | M3: 2029
D4: Comune di Orbassano | G4: Comune di Orbassano | J4: Comune di Orbassano | M4: Comune di Orbassano
D5: Costi del/i gestore/i diverso/i dal Comune | E5: Costi del/i Comune/i | F5: Ciclo integrato RU (TOT PEF) | G5: Costi del/i gestore/i diverso/i dal Comune | H5: Costi del/i Comune/i | I5: Ciclo integrato RU (TOT PEF) | J5: Costi del/i gestore/i diverso/i dal Comune | K5: Costi del/i Comune/i | L5: Ciclo integrato RU (TOT PEF) | M5: Costi del/i gestore/i diverso/i dal Comune | N5: Costi del/i Comune/i | O5: Ciclo integrato RU (TOT PEF)
B6: Costi dell’attività di raccolta e trasporto dei rifiuti urbani indifferenziati CRT | D6: 447015.98 | E6: 0 | F6: 447015.98 | G6: 434231.2 | H6: 0 | I6: 434231.2 | J6: 434231.2 | K6: 0 | L6: 434231.2 | M6: 434231.2 | N6: 0 | O6: 434231.2
B7: Costi dell’attività di trattamento e smaltimento dei rifiuti urbani CTS | D7: 630028.39 | E7: 0 | F7: 630028.39 | G7: 695008.64 | H7: 0 | I7: 695008.64 | J7: 695008.64 | K7: 0 | L7: 695008.64 | M7: 695008.64 | N7: 0 | O7: 695008.64
B8: Costi dell’attività di trattamento e recupero dei rifiuti urbani CTR | D8: 321173.76 | E8: 0 | F8: 321173.76 | G8: 316636.82 | H8: 0 | I8: 316636.82 | J8: 316636.82 | K8: 0 | L8: 316636.82 | M8: 316636.82 | N8: 0 | O8: 316636.82
B9: Costi dell’attività di raccolta e trasporto delle frazioni differenziate CRD | D9: 1310805.8 | E9: 0 | F9: 1310805.8 | G9: 1353123.5 | H9: 0 | I9: 1353123.5 | J9: 1353123.5 | K9: 0 | L9: 1353123.5 | M9: 1353123.5 | N9: 0 | O9: 1353123.5
B10: Costi operativi variabili previsionali di cui all'articolo 17.2 del MTR-3 CTS∆expTV | D10: 0 | E10: 0 | F10: 0 | G10: 0 | H10: 0 | I10: 0 | J10: 0 | K10: 0 | L10: 0 | M10: 0 | N10: 0 | O10: 0
B11: Costi operativi variabili previsionali di cui all'articolo 17.3 del MTR-3 COEXP116,TV | D11: 0 | E11: 0 | F11: 0 | G11: 0 | H11: 0 | I11: 0 | J11: 0 | K11: 0 | L11: 0 | M11: 0 | N11: 0 | O11: 0
B12: Costi operativi variabili previsionali di cui all'articolo 17.4 del MTR-3 CQEXPTV | D12: 0 | E12: 0 | F12: 0 | G12: 0 | H12: 0 | I12: 0 | J12: 0 | K12: 0 | L12: 0 | M12: 0 | N12: 0 | O12: 0
B13: Costi operativi variabili previsionali di cui all'articolo 17.5 del MTR-3 COANT,TV | D13: 28422.277 | E13: 0 | F13: 28422.277 | G13: 78454.005 | H13: 0 | I13: 78454.005 | J13: 0 | K13: 0 | L13: 0 | M13: 0 | N13: 0 | O13: 0
B14: Costi operativi incentivanti sistematici variabili di cui all'articolo 10 del MTR-3 COnewEXPTV | D14: 0 | E14: 0 | F14: 0 | G14: 0 | H14: 0 | I14: 0 | J14: 0 | K14: 0 | L14: 0 | M14: 0 | N14: 0 | O14: 0
B15: Costi operativi incentivanti non sistematici variabili di cui all'articolo 10 del MTR-3 COIEXPTV | D15: 0 | E15: 0 | F15: 0 | G15: 0 | H15: 0 | I15: 0 | J15: 0 | K15: 0 | L15: 0 | M15: 0 | N15: 0 | O15: 0
B16: Fattore di Sharing b | D16: 0.4 | E16: 0.4 | F16: 0.4 | G16: 0.4 | H16: 0.4 | I16: 0.4 | J16: 0.4 | K16: 0.4 | L16: 0.4 | M16: 0.4 | N16: 0.4 | O16: 0.4
B17: Proventi della vendita di materiale ed energia derivante da rifiuti AR | D17: 1009.1254 | E17: 0 | F17: 1009.1254 | G17: 1985.2784 | H17: 0 | I17: 1985.2784 | J17: 1985.2784 | K17: 0 | L17: 1985.2784 | M17: 1985.2784 | N17: 0 | O17: 1985.2784
... B21: di cui quote pregresse recuperate nell'anno a - quota variabile RC∆(T-Tmax)pre,TV,a | D21: 0 | E21: 0 | F21: 0 | G21: 0 | H21: 0 | I21: 0 | J21: 0 | K21: 0 | L21: 0 | M21: 0 | N21: 0 | O21: 0
B22: Oneri relativi all'IVA indetraibile - PARTE VARIABILE | E22: 260090.67 | F22: 260090.67 | H22: 273477.53 | I22: 273477.53 | K22: 265632.13 | L22: 265632.13 | N22: 265632.13 | O22: 265632.13
B23: ∑TVa totale delle entrate tariffarie relative alle componenti di costo variabile dopo le detrazioni di cui al. Art, 4.5 Del. 397/2025/R/Rif | D23: 2600906.7 | E23: 260090.67 | F23: 2860997.3 | G23: 2734775.3 | H23: 273477.53 | I23: 3008252.8 | J23: 2656321.3 | K23: 265632.13 | L23: 2921953.4 | M23: 2656321.3 | N23: 265632.13 | O23: 2921953.4
B25: Costi dell’attività di spazzamento e di lavaggio CSL | D25: 527788.39 | E25: 0 | F25: 527788.39 | G25: 515820.52 | H25: 0 | I25: 515820.52 | J25: 515820.52 | K25: 0 | L25: 515820.52 | M25: 515820.52 | N25: 0 | O25: 515820.52
B26: Costi per l’attività di gestione delle tariffe e dei rapporti con gli utenti CARC | D26: 237016.86 | E26: 0 | F26: 237016.86 | G26: 232909.38 | H26: 0 | I26: 232909.38 | J26: 232909.38 | K26: 0 | L26: 232909.38 | M26: 232909.38 | N26: 0 | O26: 232909.38
B27: Costi generali di gestione CGG | D27: 525515.96 | E27: 0 | F27: 525515.96 | G27: 614610.86 | H27: 0 | I27: 614610.86 | J27: 628903.08 | K27: 0 | L27: 628903.08 | M27: 628903.08 | N27: 0 | O27: 628903.08
B28: Costi relativi alla quota di crediti inesigibili CCD | D28: 0 | E28: 0 | F28: 0 | G28: 0 | H28: 0 | I28: 0 | J28: 0 | K28: 0 | L28: 0 | M28: 0 | N28: 0 | O28: 0
B29: Altri costi COAL | D29: 6291.5687 | E29: 0 | F29: 6291.5687 | G29: 1778.8759 | H29: 0 | I29: 1778.8759 | J29: 1778.8759 | K29: 0 | L29: 1778.8759 | M29: 1778.8759 | N29: 0 | O29: 1778.8759
