Workbook

Sheet Consolidato PEF
B1: PEF 2026-2029
D3: 2026 | G3: 2027 | J3: 2028 | M3: 2029
D4: CONSOLIDATO | G4: CONSOLIDATO | J4: CONSOLIDATO | M4: CONSOLIDATO
D5: Costi del/i gestore/i diverso/i dal Comune | E5: Costi del/i Comune/i | F5: Ciclo integrato RU (TOT PEF) | G5: Costi del/i gestore/i diverso/i dal Comune | H5: Costi del/i Comune/i | I5: Ciclo integrato RU (TOT PEF) | J5: Costi del/i gestore/i diverso/i dal Comune | K5: Costi del/i Comune/i | L5: Ciclo integrato RU (TOT PEF) | M5: Costi del/i gestore/i diverso/i dal Comune | N5: Costi del/i Comune/i | O5: Ciclo integrato RU (TOT PEF)
B6: Costi dell’attività di raccolta e trasporto dei rifiuti urbani indifferenziati CRT | D6: =+Beinasco!D6+Bruino!D6+Candiolo!D6+Carignano!D6+'Castagnole Piemonte'!D6+'La Loggia'!D6+Lombriasco!D6+Moncalieri!D6+Nichelino!D6+Orbassano!D6+Osasio!D6+Pancalieri!D6+'Piobesi Torinese'!D6+Piossasco!D6+'Rivalta di Torino'!D6+Trofarello!D6+Villastellone!D6+Vinovo!D6+'Virle Piemonte'!D6 -> 4135803.5 | E6: =+Beinasco!E6+Bruino!E6+Candiolo!E6+Carignano!E6+'Castagnole Piemonte'!E6+'La Loggia'!E6+Lombriasco!E6+Moncalieri!E6+Nichelino!E6+Orbassano!E6+Osasio!E6+Pancalieri!E6+'Piobesi Torinese'!E6+Piossasco!E6+'Rivalta di Torino'!E6+Trofarello!E6+Villastellone!E6+Vinovo!E6+'Virle Piemonte'!E6 -> 0 | F6: =+Beinasco!F6+Bruino!F6+Candiolo!F6+Carignano!F6+'Castagnole Piemonte'!F6+'La Loggia'!F6+Lombriasco!F6+Moncalieri!F6+Nichelino!F6+Orbassano!F6+Osasio!F6+Pancalieri!F6+'Piobesi Torinese'!F6+Piossasco!F6+'Rivalta di Torino'!F6+Trofarello!F6+Villastellone!F6+Vinovo!F6+'Virle Piemonte'!F6 -> 4135803.5 | G6: =+Beinasco!G6+Bruino!G6+Candiolo!G6+Carignano!G6+'Castagnole Piemonte'!G6+'La Loggia'!G6+Lombriasco!G6+Moncalieri!G6+Nichelino!G6+Orbassano!G6+Osasio!G6+Pancalieri!G6+'Piobesi Torinese'!G6+Piossasco!G6+'Rivalta di Torino'!G6+Trofarello!G6+Villastellone!G6+Vinovo!G6+'Virle Piemonte'!G6 -> 4094802.4 | H6: =+Beinasco!H6+Bruino!H6+Candiolo!H6+Carignano!H6+'Castagnole Piemonte'!H6+'La Loggia'!H6+Lombriasco!H6+Moncalieri!H6+Nichelino!H6+Orbassano!H6+Osasio!H6+Pancalieri!H6+'Piobesi Torinese'!H6+Piossasco!H6+'Rivalta di Torino'!H6+Trofarello!H6+Villastellone!H6+Vinovo!H6+'Virle Piemonte'!H6 -> 0 | I6: =+Beinasco!I6+Bruino!I6+Candiolo!I6+Carignano!I6+'Castagnole Piemonte'!I6+'La Loggia'!I6+Lombriasco!I6+Moncalieri!I6+Nichelino!I6+Orbassano!I6+Osasio!I6+Pancalieri!I6+'Piobesi Torinese'!I6+Piossasco!I6+'Rivalta di Torino'!I6+Trofarello!I6+Villastellone!I6+Vinovo!I6+'Virle Piemonte'!I6 -> 4094802.4 | J6: =+Beinasco!J6+Bruino!J6+Candiolo!J6+Carignano!J6+'Castagnole Piemonte'!J6+'La Loggia'!J6+Lombriasco!J6+Moncalieri!J6+Nichelino!J6+Orbassano!J6+Osasio!J6+Pancalieri!J6+'Piobesi Torinese'!J6+Piossasco!J6+'Rivalta di Torino'!J6+Trofarello!J6+Villastellone!J6+Vinovo!J6+'Virle Piemonte'!J6 -> 4094802.4 | K6: =+Beinasco!K6+Bruino!K6+Candiolo!K6+Carignano!K6+'Castagnole Piemonte'!K6+'La Loggia'!K6+Lombriasco!K6+Moncalieri!K6+Nichelino!K6+Orbassano!K6+Osasio!K6+Pancalieri!K6+'Piobesi Torinese'!K6+Piossasco!K6+'Rivalta di Torino'!K6+Trofarello!K6+Villastellone!K6+Vinovo!K6+'Virle Piemonte'!K6 -> 0 | ... O6: =+Beinasco!O6+Bruino!O6+Candiolo!O6+Carignano!O6+'Castagnole Piemonte'!O6+'La Loggia'!O6+Lombriasco!O6+Moncalieri!O6+Nichelino!O6+Orbassano!O6+Osasio!O6+Pancalieri!O6+'Piobesi Torinese'!O6+Piossasco!O6+'Rivalta di Torino'!O6+Trofarello!O6+Villastellone!O6+Vinovo!O6+'Virle Piemonte'!O6 -> 4094802.4
B7: Costi dell’attività di trattamento e smaltimento dei rifiuti urbani CTS | D7: =+Beinasco!D7+Bruino!D7+Candiolo!D7+Carignano!D7+'Castagnole Piemonte'!D7+'La Loggia'!D7+Lombriasco!D7+Moncalieri!D7+Nichelino!D7+Orbassano!D7+Osasio!D7+Pancalieri!D7+'Piobesi Torinese'!D7+Piossasco!D7+'Rivalta di Torino'!D7+Trofarello!D7+Villastellone!D7+Vinovo!D7+'Virle Piemonte'!D7 -> 5456884.4 | E7: =+Beinasco!E7+Bruino!E7+Candiolo!E7+Carignano!E7+'Castagnole Piemonte'!E7+'La Loggia'!E7+Lombriasco!E7+Moncalieri!E7+Nichelino!E7+Orbassano!E7+Osasio!E7+Pancalieri!E7+'Piobesi Torinese'!E7+Piossasco!E7+'Rivalta di Torino'!E7+Trofarello!E7+Villastellone!E7+Vinovo!E7+'Virle Piemonte'!E7 -> 247.7376 | F7: =+Beinasco!F7+Bruino!F7+Candiolo!F7+Carignano!F7+'Castagnole Piemonte'!F7+'La Loggia'!F7+Lombriasco!F7+Moncalieri!F7+Nichelino!F7+Orbassano!F7+Osasio!F7+Pancalieri!F7+'Piobesi Torinese'!F7+Piossasco!F7+'Rivalta di Torino'!F7+Trofarello!F7+Villastellone!F7+Vinovo!F7+'Virle Piemonte'!F7 -> 5457132.1 | G7: =+Beinasco!G7+Bruino!G7+Candiolo!G7+Carignano!G7+'Castagnole Piemonte'!G7+'La Loggia'!G7+Lombriasco!G7+Moncalieri!G7+Nichelino!G7+Orbassano!G7+Osasio!G7+Pancalieri!G7+'Piobesi Torinese'!G7+Piossasco!G7+'Rivalta di Torino'!G7+Trofarello!G7+Villastellone!G7+Vinovo!G7+'Virle Piemonte'!G7 -> 5891041.8 | H7: =+Beinasco!H7+Bruino!H7+Candiolo!H7+Carignano!H7+'Castagnole Piemonte'!H7+'La Loggia'!H7+Lombriasco!H7+Moncalieri!H7+Nichelino!H7+Orbassano!H7+Osasio!H7+Pancalieri!H7+'Piobesi Torinese'!H7+Piossasco!H7+'Rivalta di Torino'!H7+Trofarello!H7+Villastellone!H7+Vinovo!H7+'Virle Piemonte'!H7 -> 242.88 | I7: =+Beinasco!I7+Bruino!I7+Candiolo!I7+Carignano!I7+'Castagnole Piemonte'!I7+'La Loggia'!I7+Lombriasco!I7+Moncalieri!I7+Nichelino!I7+Orbassano!I7+Osasio!I7+Pancalieri!I7+'Piobesi Torinese'!I7+Piossasco!I7+'Rivalta di Torino'!I7+Trofarello!I7+Villastellone!I7+Vinovo!I7+'Virle Piemonte'!I7 -> 5891284.6 | J7: =+Beinasco!J7+Bruino!J7+Candiolo!J7+Carignano!J7+'Castagnole Piemonte'!J7+'La Loggia'!J7+Lombriasco!J7+Moncalieri!J7+Nichelino!J7+Orbassano!J7+Osasio!J7+Pancalieri!J7+'Piobesi Torinese'!J7+Piossasco!J7+'Rivalta di Torino'!J7+Trofarello!J7+Villastellone!J7+Vinovo!J7+'Virle Piemonte'!J7 -> 5891041.8 | K7: =+Beinasco!K7+Bruino!K7+Candiolo!K7+Carignano!K7+'Castagnole Piemonte'!K7+'La Loggia'!K7+Lombriasco!K7+Moncalieri!K7+Nichelino!K7+Orbassano!K7+Osasio!K7+Pancalieri!K7+'Piobesi Torinese'!K7+Piossasco!K7+'Rivalta di Torino'!K7+Trofarello!K7+Villastellone!K7+Vinovo!K7+'Virle Piemonte'!K7 -> 242.88 | ... O7: =+Beinasco!O7+Bruino!O7+Candiolo!O7+Carignano!O7+'Castagnole Piemonte'!O7+'La Loggia'!O7+Lombriasco!O7+Moncalieri!O7+Nichelino!O7+Orbassano!O7+Osasio!O7+Pancalieri!O7+'Piobesi Torinese'!O7+Piossasco!O7+'Rivalta di Torino'!O7+Trofarello!O7+Villastellone!O7+Vinovo!O7+'Virle Piemonte'!O7 -> 5891284.6
B8: Costi dell’attività di trattamento e recupero dei rifiuti urbani CTR | D8: =+Beinasco!D8+Bruino!D8+Candiolo!D8+Carignano!D8+'Castagnole Piemonte'!D8+'La Loggia'!D8+Lombriasco!D8+Moncalieri!D8+Nichelino!D8+Orbassano!D8+Osasio!D8+Pancalieri!D8+'Piobesi Torinese'!D8+Piossasco!D8+'Rivalta di Torino'!D8+Trofarello!D8+Villastellone!D8+Vinovo!D8+'Virle Piemonte'!D8 -> 3662966 | E8: =+Beinasco!E8+Bruino!E8+Candiolo!E8+Carignano!E8+'Castagnole Piemonte'!E8+'La Loggia'!E8+Lombriasco!E8+Moncalieri!E8+Nichelino!E8+Orbassano!E8+Osasio!E8+Pancalieri!E8+'Piobesi Torinese'!E8+Piossasco!E8+'Rivalta di Torino'!E8+Trofarello!E8+Villastellone!E8+Vinovo!E8+'Virle Piemonte'!E8 -> 0 | F8: =+Beinasco!F8+Bruino!F8+Candiolo!F8+Carignano!F8+'Castagnole Piemonte'!F8+'La Loggia'!F8+Lombriasco!F8+Moncalieri!F8+Nichelino!F8+Orbassano!F8+Osasio!F8+Pancalieri!F8+'Piobesi Torinese'!F8+Piossasco!F8+'Rivalta di Torino'!F8+Trofarello!F8+Villastellone!F8+Vinovo!F8+'Virle Piemonte'!F8 -> 3662966 | G8: =+Beinasco!G8+Bruino!G8+Candiolo!G8+Carignano!G8+'Castagnole Piemonte'!G8+'La Loggia'!G8+Lombriasco!G8+Moncalieri!G8+Nichelino!G8+Orbassano!G8+Osasio!G8+Pancalieri!G8+'Piobesi Torinese'!G8+Piossasco!G8+'Rivalta di Torino'!G8+Trofarello!G8+Villastellone!G8+Vinovo!G8+'Virle Piemonte'!G8 -> 3642732.3 | H8: =+Beinasco!H8+Bruino!H8+Candiolo!H8+Carignano!H8+'Castagnole Piemonte'!H8+'La Loggia'!H8+Lombriasco!H8+Moncalieri!H8+Nichelino!H8+Orbassano!H8+Osasio!H8+Pancalieri!H8+'Piobesi Torinese'!H8+Piossasco!H8+'Rivalta di Torino'!H8+Trofarello!H8+Villastellone!H8+Vinovo!H8+'Virle Piemonte'!H8 -> 0 | I8: =+Beinasco!I8+Bruino!I8+Candiolo!I8+Carignano!I8+'Castagnole Piemonte'!I8+'La Loggia'!I8+Lombriasco!I8+Moncalieri!I8+Nichelino!I8+Orbassano!I8+Osasio!I8+Pancalieri!I8+'Piobesi Torinese'!I8+Piossasco!I8+'Rivalta di Torino'!I8+Trofarello!I8+Villastellone!I8+Vinovo!I8+'Virle Piemonte'!I8 -> 3642732.3 | J8: =+Beinasco!J8+Bruino!J8+Candiolo!J8+Carignano!J8+'Castagnole Piemonte'!J8+'La Loggia'!J8+Lombriasco!J8+Moncalieri!J8+Nichelino!J8+Orbassano!J8+Osasio!J8+Pancalieri!J8+'Piobesi Torinese'!J8+Piossasco!J8+'Rivalta di Torino'!J8+Trofarello!J8+Villastellone!J8+Vinovo!J8+'Virle Piemonte'!J8 -> 3642732.3 | K8: =+Beinasco!K8+Bruino!K8+Candiolo!K8+Carignano!K8+'Castagnole Piemonte'!K8+'La Loggia'!K8+Lombriasco!K8+Moncalieri!K8+Nichelino!K8+Orbassano!K8+Osasio!K8+Pancalieri!K8+'Piobesi Torinese'!K8+Piossasco!K8+'Rivalta di Torino'!K8+Trofarello!K8+Villastellone!K8+Vinovo!K8+'Virle Piemonte'!K8 -> 0 | ... O8: =+Beinasco!O8+Bruino!O8+Candiolo!O8+Carignano!O8+'Castagnole Piemonte'!O8+'La Loggia'!O8+Lombriasco!O8+Moncalieri!O8+Nichelino!O8+Orbassano!O8+Osasio!O8+Pancalieri!O8+'Piobesi Torinese'!O8+Piossasco!O8+'Rivalta di Torino'!O8+Trofarello!O8+Villastellone!O8+Vinovo!O8+'Virle Piemonte'!O8 -> 3642732.3
B9: Costi dell’attività di raccolta e trasporto delle frazioni differenziate CRD | D9: =+Beinasco!D9+Bruino!D9+Candiolo!D9+Carignano!D9+'Castagnole Piemonte'!D9+'La Loggia'!D9+Lombriasco!D9+Moncalieri!D9+Nichelino!D9+Orbassano!D9+Osasio!D9+Pancalieri!D9+'Piobesi Torinese'!D9+Piossasco!D9+'Rivalta di Torino'!D9+Trofarello!D9+Villastellone!D9+Vinovo!D9+'Virle Piemonte'!D9 -> 12648167 | E9: =+Beinasco!E9+Bruino!E9+Candiolo!E9+Carignano!E9+'Castagnole Piemonte'!E9+'La Loggia'!E9+Lombriasco!E9+Moncalieri!E9+Nichelino!E9+Orbassano!E9+Osasio!E9+Pancalieri!E9+'Piobesi Torinese'!E9+Piossasco!E9+'Rivalta di Torino'!E9+Trofarello!E9+Villastellone!E9+Vinovo!E9+'Virle Piemonte'!E9 -> 0 | F9: =+Beinasco!F9+Bruino!F9+Candiolo!F9+Carignano!F9+'Castagnole Piemonte'!F9+'La Loggia'!F9+Lombriasco!F9+Moncalieri!F9+Nichelino!F9+Orbassano!F9+Osasio!F9+Pancalieri!F9+'Piobesi Torinese'!F9+Piossasco!F9+'Rivalta di Torino'!F9+Trofarello!F9+Villastellone!F9+Vinovo!F9+'Virle Piemonte'!F9 -> 12648167 | G9: =+Beinasco!G9+Bruino!G9+Candiolo!G9+Carignano!G9+'Castagnole Piemonte'!G9+'La Loggia'!G9+Lombriasco!G9+Moncalieri!G9+Nichelino!G9+Orbassano!G9+Osasio!G9+Pancalieri!G9+'Piobesi Torinese'!G9+Piossasco!G9+'Rivalta di Torino'!G9+Trofarello!G9+Villastellone!G9+Vinovo!G9+'Virle Piemonte'!G9 -> 13402607 | H9: =+Beinasco!H9+Bruino!H9+Candiolo!H9+Carignano!H9+'Castagnole Piemonte'!H9+'La Loggia'!H9+Lombriasco!H9+Moncalieri!H9+Nichelino!H9+Orbassano!H9+Osasio!H9+Pancalieri!H9+'Piobesi Torinese'!H9+Piossasco!H9+'Rivalta di Torino'!H9+Trofarello!H9+Villastellone!H9+Vinovo!H9+'Virle Piemonte'!H9 -> 0 | I9: =+Beinasco!I9+Bruino!I9+Candiolo!I9+Carignano!I9+'Castagnole Piemonte'!I9+'La Loggia'!I9+Lombriasco!I9+Moncalieri!I9+Nichelino!I9+Orbassano!I9+Osasio!I9+Pancalieri!I9+'Piobesi Torinese'!I9+Piossasco!I9+'Rivalta di Torino'!I9+Trofarello!I9+Villastellone!I9+Vinovo!I9+'Virle Piemonte'!I9 -> 13402607 | J9: =+Beinasco!J9+Bruino!J9+Candiolo!J9+Carignano!J9+'Castagnole Piemonte'!J9+'La Loggia'!J9+Lombriasco!J9+Moncalieri!J9+Nichelino!J9+Orbassano!J9+Osasio!J9+Pancalieri!J9+'Piobesi Torinese'!J9+Piossasco!J9+'Rivalta di Torino'!J9+Trofarello!J9+Villastellone!J9+Vinovo!J9+'Virle Piemonte'!J9 -> 13402607 | K9: =+Beinasco!K9+Bruino!K9+Candiolo!K9+Carignano!K9+'Castagnole Piemonte'!K9+'La Loggia'!K9+Lombriasco!K9+Moncalieri!K9+Nichelino!K9+Orbassano!K9+Osasio!K9+Pancalieri!K9+'Piobesi Torinese'!K9+Piossasco!K9+'Rivalta di Torino'!K9+Trofarello!K9+Villastellone!K9+Vinovo!K9+'Virle Piemonte'!K9 -> 0 | ... O9: =+Beinasco!O9+Bruino!O9+Candiolo!O9+Carignano!O9+'Castagnole Piemonte'!O9+'La Loggia'!O9+Lombriasco!O9+Moncalieri!O9+Nichelino!O9+Orbassano!O9+Osasio!O9+Pancalieri!O9+'Piobesi Torinese'!O9+Piossasco!O9+'Rivalta di Torino'!O9+Trofarello!O9+Villastellone!O9+Vinovo!O9+'Virle Piemonte'!O9 -> 13402607
B10: Costi operativi variabili previsionali di cui all'articolo 17.2 del MTR-3 CTS∆expTV | D10: =+Beinasco!D10+Bruino!D10+Candiolo!D10+Carignano!D10+'Castagnole Piemonte'!D10+'La Loggia'!D10+Lombriasco!D10+Moncalieri!D10+Nichelino!D10+Orbassano!D10+Osasio!D10+Pancalieri!D10+'Piobesi Torinese'!D10+Piossasco!D10+'Rivalta di Torino'!D10+Trofarello!D10+Villastellone!D10+Vinovo!D10+'Virle Piemonte'!D10 -> 0 | E10: =+Beinasco!E10+Bruino!E10+Candiolo!E10+Carignano!E10+'Castagnole Piemonte'!E10+'La Loggia'!E10+Lombriasco!E10+Moncalieri!E10+Nichelino!E10+Orbassano!E10+Osasio!E10+Pancalieri!E10+'Piobesi Torinese'!E10+Piossasco!E10+'Rivalta di Torino'!E10+Trofarello!E10+Villastellone!E10+Vinovo!E10+'Virle Piemonte'!E10 -> 0 | F10: =+Beinasco!F10+Bruino!F10+Candiolo!F10+Carignano!F10+'Castagnole Piemonte'!F10+'La Loggia'!F10+Lombriasco!F10+Moncalieri!F10+Nichelino!F10+Orbassano!F10+Osasio!F10+Pancalieri!F10+'Piobesi Torinese'!F10+Piossasco!F10+'Rivalta di Torino'!F10+Trofarello!F10+Villastellone!F10+Vinovo!F10+'Virle Piemonte'!F10 -> 0 | G10: =+Beinasco!G10+Bruino!G10+Candiolo!G10+Carignano!G10+'Castagnole Piemonte'!G10+'La Loggia'!G10+Lombriasco!G10+Moncalieri!G10+Nichelino!G10+Orbassano!G10+Osasio!G10+Pancalieri!G10+'Piobesi Torinese'!G10+Piossasco!G10+'Rivalta di Torino'!G10+Trofarello!G10+Villastellone!G10+Vinovo!G10+'Virle Piemonte'!G10 -> 0 | H10: =+Beinasco!H10+Bruino!H10+Candiolo!H10+Carignano!H10+'Castagnole Piemonte'!H10+'La Loggia'!H10+Lombriasco!H10+Moncalieri!H10+Nichelino!H10+Orbassano!H10+Osasio!H10+Pancalieri!H10+'Piobesi Torinese'!H10+Piossasco!H10+'Rivalta di Torino'!H10+Trofarello!H10+Villastellone!H10+Vinovo!H10+'Virle Piemonte'!H10 -> 0 | I10: =+Beinasco!I10+Bruino!I10+Candiolo!I10+Carignano!I10+'Castagnole Piemonte'!I10+'La Loggia'!I10+Lombriasco!I10+Moncalieri!I10+Nichelino!I10+Orbassano!I10+Osasio!I10+Pancalieri!I10+'Piobesi Torinese'!I10+Piossasco!I10+'Rivalta di Torino'!I10+Trofarello!I10+Villastellone!I10+Vinovo!I10+'Virle Piemonte'!I10 -> 0 | J10: =+Beinasco!J10+Bruino!J10+Candiolo!J10+Carignano!J10+'Castagnole Piemonte'!J10+'La Loggia'!J10+Lombriasco!J10+Moncalieri!J10+Nichelino!J10+Orbassano!J10+Osasio!J10+Pancalieri!J10+'Piobesi Torinese'!J10+Piossasco!J10+'Rivalta di Torino'!J10+Trofarello!J10+Villastellone!J10+Vinovo!J10+'Virle Piemonte'!J10 -> 0 | K10: =+Beinasco!K10+Bruino!K10+Candiolo!K10+Carignano!K10+'Castagnole Piemonte'!K10+'La Loggia'!K10+Lombriasco!K10+Moncalieri!K10+Nichelino!K10+Orbassano!K10+Osasio!K10+Pancalieri!K10+'Piobesi Torinese'!K10+Piossasco!K10+'Rivalta di Torino'!K10+Trofarello!K10+Villastellone!K10+Vinovo!K10+'Virle Piemonte'!K10 -> 0 | ... O10: =+Beinasco!O10+Bruino!O10+Candiolo!O10+Carignano!O10+'Castagnole Piemonte'!O10+'La Loggia'!O10+Lombriasco!O10+Moncalieri!O10+Nichelino!O10+Orbassano!O10+Osasio!O10+Pancalieri!O10+'Piobesi Torinese'!O10+Piossasco!O10+'Rivalta di Torino'!O10+Trofarello!O10+Villastellone!O10+Vinovo!O10+'Virle Piemonte'!O10 -> 0
B11: Costi operativi variabili previsionali di cui all'articolo 17.3 del MTR-3 COEXP116,TV | D11: =+Beinasco!D11+Bruino!D11+Candiolo!D11+Carignano!D11+'Castagnole Piemonte'!D11+'La Loggia'!D11+Lombriasco!D11+Moncalieri!D11+Nichelino!D11+Orbassano!D11+Osasio!D11+Pancalieri!D11+'Piobesi Torinese'!D11+Piossasco!D11+'Rivalta di Torino'!D11+Trofarello!D11+Villastellone!D11+Vinovo!D11+'Virle Piemonte'!D11 -> 0 | E11: =+Beinasco!E11+Bruino!E11+Candiolo!E11+Carignano!E11+'Castagnole Piemonte'!E11+'La Loggia'!E11+Lombriasco!E11+Moncalieri!E11+Nichelino!E11+Orbassano!E11+Osasio!E11+Pancalieri!E11+'Piobesi Torinese'!E11+Piossasco!E11+'Rivalta di Torino'!E11+Trofarello!E11+Villastellone!E11+Vinovo!E11+'Virle Piemonte'!E11 -> 0 | F11: =+Beinasco!F11+Bruino!F11+Candiolo!F11+Carignano!F11+'Castagnole Piemonte'!F11+'La Loggia'!F11+Lombriasco!F11+Moncalieri!F11+Nichelino!F11+Orbassano!F11+Osasio!F11+Pancalieri!F11+'Piobesi Torinese'!F11+Piossasco!F11+'Rivalta di Torino'!F11+Trofarello!F11+Villastellone!F11+Vinovo!F11+'Virle Piemonte'!F11 -> 0 | G11: =+Beinasco!G11+Bruino!G11+Candiolo!G11+Carignano!G11+'Castagnole Piemonte'!G11+'La Loggia'!G11+Lombriasco!G11+Moncalieri!G11+Nichelino!G11+Orbassano!G11+Osasio!G11+Pancalieri!G11+'Piobesi Torinese'!G11+Piossasco!G11+'Rivalta di Torino'!G11+Trofarello!G11+Villastellone!G11+Vinovo!G11+'Virle Piemonte'!G11 -> 0 | H11: =+Beinasco!H11+Bruino!H11+Candiolo!H11+Carignano!H11+'Castagnole Piemonte'!H11+'La Loggia'!H11+Lombriasco!H11+Moncalieri!H11+Nichelino!H11+Orbassano!H11+Osasio!H11+Pancalieri!H11+'Piobesi Torinese'!H11+Piossasco!H11+'Rivalta di Torino'!H11+Trofarello!H11+Villastellone!H11+Vinovo!H11+'Virle Piemonte'!H11 -> 0 | I11: =+Beinasco!I11+Bruino!I11+Candiolo!I11+Carignano!I11+'Castagnole Piemonte'!I11+'La Loggia'!I11+Lombriasco!I11+Moncalieri!I11+Nichelino!I11+Orbassano!I11+Osasio!I11+Pancalieri!I11+'Piobesi Torinese'!I11+Piossasco!I11+'Rivalta di Torino'!I11+Trofarello!I11+Villastellone!I11+Vinovo!I11+'Virle Piemonte'!I11 -> 0 | J11: =+Beinasco!J11+Bruino!J11+Candiolo!J11+Carignano!J11+'Castagnole Piemonte'!J11+'La Loggia'!J11+Lombriasco!J11+Moncalieri!J11+Nichelino!J11+Orbassano!J11+Osasio!J11+Pancalieri!J11+'Piobesi Torinese'!J11+Piossasco!J11+'Rivalta di Torino'!J11+Trofarello!J11+Villastellone!J11+Vinovo!J11+'Virle Piemonte'!J11 -> 0 | K11: =+Beinasco!K11+Bruino!K11+Candiolo!K11+Carignano!K11+'Castagnole Piemonte'!K11+'La Loggia'!K11+Lombriasco!K11+Moncalieri!K11+Nichelino!K11+Orbassano!K11+Osasio!K11+Pancalieri!K11+'Piobesi Torinese'!K11+Piossasco!K11+'Rivalta di Torino'!K11+Trofarello!K11+Villastellone!K11+Vinovo!K11+'Virle Piemonte'!K11 -> 0 | ... O11: =+Beinasco!O11+Bruino!O11+Candiolo!O11+Carignano!O11+'Castagnole Piemonte'!O11+'La Loggia'!O11+Lombriasco!O11+Moncalieri!O11+Nichelino!O11+Orbassano!O11+Osasio!O11+Pancalieri!O11+'Piobesi Torinese'!O11+Piossasco!O11+'Rivalta di Torino'!O11+Trofarello!O11+Villastellone!O11+Vinovo!O11+'Virle Piemonte'!O11 -> 0
B12: Costi operativi variabili previsionali di cui all'articolo 17.4 del MTR-3 CQEXPTV | D12: =+Beinasco!D12+Bruino!D12+Candiolo!D12+Carignano!D12+'Castagnole Piemonte'!D12+'La Loggia'!D12+Lombriasco!D12+Moncalieri!D12+Nichelino!D12+Orbassano!D12+Osasio!D12+Pancalieri!D12+'Piobesi Torinese'!D12+Piossasco!D12+'Rivalta di Torino'!D12+Trofarello!D12+Villastellone!D12+Vinovo!D12+'Virle Piemonte'!D12 -> 0 | E12: =+Beinasco!E12+Bruino!E12+Candiolo!E12+Carignano!E12+'Castagnole Piemonte'!E12+'La Loggia'!E12+Lombriasco!E12+Moncalieri!E12+Nichelino!E12+Orbassano!E12+Osasio!E12+Pancalieri!E12+'Piobesi Torinese'!E12+Piossasco!E12+'Rivalta di Torino'!E12+Trofarello!E12+Villastellone!E12+Vinovo!E12+'Virle Piemonte'!E12 -> 0 | F12: =+Beinasco!F12+Bruino!F12+Candiolo!F12+Carignano!F12+'Castagnole Piemonte'!F12+'La Loggia'!F12+Lombriasco!F12+Moncalieri!F12+Nichelino!F12+Orbassano!F12+Osasio!F12+Pancalieri!F12+'Piobesi Torinese'!F12+Piossasco!F12+'Rivalta di Torino'!F12+Trofarello!F12+Villastellone!F12+Vinovo!F12+'Virle Piemonte'!F12 -> 0 | G12: =+Beinasco!G12+Bruino!G12+Candiolo!G12+Carignano!G12+'Castagnole Piemonte'!G12+'La Loggia'!G12+Lombriasco!G12+Moncalieri!G12+Nichelino!G12+Orbassano!G12+Osasio!G12+Pancalieri!G12+'Piobesi Torinese'!G12+Piossasco!G12+'Rivalta di Torino'!G12+Trofarello!G12+Villastellone!G12+Vinovo!G12+'Virle Piemonte'!G12 -> 0 | H12: =+Beinasco!H12+Bruino!H12+Candiolo!H12+Carignano!H12+'Castagnole Piemonte'!H12+'La Loggia'!H12+Lombriasco!H12+Moncalieri!H12+Nichelino!H12+Orbassano!H12+Osasio!H12+Pancalieri!H12+'Piobesi Torinese'!H12+Piossasco!H12+'Rivalta di Torino'!H12+Trofarello!H12+Villastellone!H12+Vinovo!H12+'Virle Piemonte'!H12 -> 0 | I12: =+Beinasco!I12+Bruino!I12+Candiolo!I12+Carignano!I12+'Castagnole Piemonte'!I12+'La Loggia'!I12+Lombriasco!I12+Moncalieri!I12+Nichelino!I12+Orbassano!I12+Osasio!I12+Pancalieri!I12+'Piobesi Torinese'!I12+Piossasco!I12+'Rivalta di Torino'!I12+Trofarello!I12+Villastellone!I12+Vinovo!I12+'Virle Piemonte'!I12 -> 0 | J12: =+Beinasco!J12+Bruino!J12+Candiolo!J12+Carignano!J12+'Castagnole Piemonte'!J12+'La Loggia'!J12+Lombriasco!J12+Moncalieri!J12+Nichelino!J12+Orbassano!J12+Osasio!J12+Pancalieri!J12+'Piobesi Torinese'!J12+Piossasco!J12+'Rivalta di Torino'!J12+Trofarello!J12+Villastellone!J12+Vinovo!J12+'Virle Piemonte'!J12 -> 0 | K12: =+Beinasco!K12+Bruino!K12+Candiolo!K12+Carignano!K12+'Castagnole Piemonte'!K12+'La Loggia'!K12+Lombriasco!K12+Moncalieri!K12+Nichelino!K12+Orbassano!K12+Osasio!K12+Pancalieri!K12+'Piobesi Torinese'!K12+Piossasco!K12+'Rivalta di Torino'!K12+Trofarello!K12+Villastellone!K12+Vinovo!K12+'Virle Piemonte'!K12 -> 0 | ... O12: =+Beinasco!O12+Bruino!O12+Candiolo!O12+Carignano!O12+'Castagnole Piemonte'!O12+'La Loggia'!O12+Lombriasco!O12+Moncalieri!O12+Nichelino!O12+Orbassano!O12+Osasio!O12+Pancalieri!O12+'Piobesi Torinese'!O12+Piossasco!O12+'Rivalta di Torino'!O12+Trofarello!O12+Villastellone!O12+Vinovo!O12+'Virle Piemonte'!O12 -> 0
B13: Costi operativi variabili previsionali di cui all'articolo 17.5 del MTR-3 COANT,TV | D13: =+Beinasco!D13+Bruino!D13+Candiolo!D13+Carignano!D13+'Castagnole Piemonte'!D13+'La Loggia'!D13+Lombriasco!D13+Moncalieri!D13+Nichelino!D13+Orbassano!D13+Osasio!D13+Pancalieri!D13+'Piobesi Torinese'!D13+Piossasco!D13+'Rivalta di Torino'!D13+Trofarello!D13+Villastellone!D13+Vinovo!D13+'Virle Piemonte'!D13 -> 201632 | E13: =+Beinasco!E13+Bruino!E13+Candiolo!E13+Carignano!E13+'Castagnole Piemonte'!E13+'La Loggia'!E13+Lombriasco!E13+Moncalieri!E13+Nichelino!E13+Orbassano!E13+Osasio!E13+Pancalieri!E13+'Piobesi Torinese'!E13+Piossasco!E13+'Rivalta di Torino'!E13+Trofarello!E13+Villastellone!E13+Vinovo!E13+'Virle Piemonte'!E13 -> 0 | F13: =+Beinasco!F13+Bruino!F13+Candiolo!F13+Carignano!F13+'Castagnole Piemonte'!F13+'La Loggia'!F13+Lombriasco!F13+Moncalieri!F13+Nichelino!F13+Orbassano!F13+Osasio!F13+Pancalieri!F13+'Piobesi Torinese'!F13+Piossasco!F13+'Rivalta di Torino'!F13+Trofarello!F13+Villastellone!F13+Vinovo!F13+'Virle Piemonte'!F13 -> 201632 | G13: =+Beinasco!G13+Bruino!G13+Candiolo!G13+Carignano!G13+'Castagnole Piemonte'!G13+'La Loggia'!G13+Lombriasco!G13+Moncalieri!G13+Nichelino!G13+Orbassano!G13+Osasio!G13+Pancalieri!G13+'Piobesi Torinese'!G13+Piossasco!G13+'Rivalta di Torino'!G13+Trofarello!G13+Villastellone!G13+Vinovo!G13+'Virle Piemonte'!G13 -> 567693 | H13: =+Beinasco!H13+Bruino!H13+Candiolo!H13+Carignano!H13+'Castagnole Piemonte'!H13+'La Loggia'!H13+Lombriasco!H13+Moncalieri!H13+Nichelino!H13+Orbassano!H13+Osasio!H13+Pancalieri!H13+'Piobesi Torinese'!H13+Piossasco!H13+'Rivalta di Torino'!H13+Trofarello!H13+Villastellone!H13+Vinovo!H13+'Virle Piemonte'!H13 -> 0 | I13: =+Beinasco!I13+Bruino!I13+Candiolo!I13+Carignano!I13+'Castagnole Piemonte'!I13+'La Loggia'!I13+Lombriasco!I13+Moncalieri!I13+Nichelino!I13+Orbassano!I13+Osasio!I13+Pancalieri!I13+'Piobesi Torinese'!I13+Piossasco!I13+'Rivalta di Torino'!I13+Trofarello!I13+Villastellone!I13+Vinovo!I13+'Virle Piemonte'!I13 -> 567693 | J13: =+Beinasco!J13+Bruino!J13+Candiolo!J13+Carignano!J13+'Castagnole Piemonte'!J13+'La Loggia'!J13+Lombriasco!J13+Moncalieri!J13+Nichelino!J13+Orbassano!J13+Osasio!J13+Pancalieri!J13+'Piobesi Torinese'!J13+Piossasco!J13+'Rivalta di Torino'!J13+Trofarello!J13+Villastellone!J13+Vinovo!J13+'Virle Piemonte'!J13 -> 0 | K13: =+Beinasco!K13+Bruino!K13+Candiolo!K13+Carignano!K13+'Castagnole Piemonte'!K13+'La Loggia'!K13+Lombriasco!K13+Moncalieri!K13+Nichelino!K13+Orbassano!K13+Osasio!K13+Pancalieri!K13+'Piobesi Torinese'!K13+Piossasco!K13+'Rivalta di Torino'!K13+Trofarello!K13+Villastellone!K13+Vinovo!K13+'Virle Piemonte'!K13 -> 0 | ... O13: =+Beinasco!O13+Bruino!O13+Candiolo!O13+Carignano!O13+'Castagnole Piemonte'!O13+'La Loggia'!O13+Lombriasco!O13+Moncalieri!O13+Nichelino!O13+Orbassano!O13+Osasio!O13+Pancalieri!O13+'Piobesi Torinese'!O13+Piossasco!O13+'Rivalta di Torino'!O13+Trofarello!O13+Villastellone!O13+Vinovo!O13+'Virle Piemonte'!O13 -> 0
B14: Costi operativi incentivanti sistematici variabili di cui all'articolo 10 del MTR-3 COnewEXPTV | D14: =+Beinasco!D14+Bruino!D14+Candiolo!D14+Carignano!D14+'Castagnole Piemonte'!D14+'La Loggia'!D14+Lombriasco!D14+Moncalieri!D14+Nichelino!D14+Orbassano!D14+Osasio!D14+Pancalieri!D14+'Piobesi Torinese'!D14+Piossasco!D14+'Rivalta di Torino'!D14+Trofarello!D14+Villastellone!D14+Vinovo!D14+'Virle Piemonte'!D14 -> 0 | E14: =+Beinasco!E14+Bruino!E14+Candiolo!E14+Carignano!E14+'Castagnole Piemonte'!E14+'La Loggia'!E14+Lombriasco!E14+Moncalieri!E14+Nichelino!E14+Orbassano!E14+Osasio!E14+Pancalieri!E14+'Piobesi Torinese'!E14+Piossasco!E14+'Rivalta di Torino'!E14+Trofarello!E14+Villastellone!E14+Vinovo!E14+'Virle Piemonte'!E14 -> 0 | F14: =+Beinasco!F14+Bruino!F14+Candiolo!F14+Carignano!F14+'Castagnole Piemonte'!F14+'La Loggia'!F14+Lombriasco!F14+Moncalieri!F14+Nichelino!F14+Orbassano!F14+Osasio!F14+Pancalieri!F14+'Piobesi Torinese'!F14+Piossasco!F14+'Rivalta di Torino'!F14+Trofarello!F14+Villastellone!F14+Vinovo!F14+'Virle Piemonte'!F14 -> 0 | G14: =+Beinasco!G14+Bruino!G14+Candiolo!G14+Carignano!G14+'Castagnole Piemonte'!G14+'La Loggia'!G14+Lombriasco!G14+Moncalieri!G14+Nichelino!G14+Orbassano!G14+Osasio!G14+Pancalieri!G14+'Piobesi Torinese'!G14+Piossasco!G14+'Rivalta di Torino'!G14+Trofarello!G14+Villastellone!G14+Vinovo!G14+'Virle Piemonte'!G14 -> 0 | H14: =+Beinasco!H14+Bruino!H14+Candiolo!H14+Carignano!H14+'Castagnole Piemonte'!H14+'La Loggia'!H14+Lombriasco!H14+Moncalieri!H14+Nichelino!H14+Orbassano!H14+Osasio!H14+Pancalieri!H14+'Piobesi Torinese'!H14+Piossasco!H14+'Rivalta di Torino'!H14+Trofarello!H14+Villastellone!H14+Vinovo!H14+'Virle Piemonte'!H14 -> 0 | I14: =+Beinasco!I14+Bruino!I14+Candiolo!I14+Carignano!I14+'Castagnole Piemonte'!I14+'La Loggia'!I14+Lombriasco!I14+Moncalieri!I14+Nichelino!I14+Orbassano!I14+Osasio!I14+Pancalieri!I14+'Piobesi Torinese'!I14+Piossasco!I14+'Rivalta di Torino'!I14+Trofarello!I14+Villastellone!I14+Vinovo!I14+'Virle Piemonte'!I14 -> 0 | J14: =+Beinasco!J14+Bruino!J14+Candiolo!J14+Carignano!J14+'Castagnole Piemonte'!J14+'La Loggia'!J14+Lombriasco!J14+Moncalieri!J14+Nichelino!J14+Orbassano!J14+Osasio!J14+Pancalieri!J14+'Piobesi Torinese'!J14+Piossasco!J14+'Rivalta di Torino'!J14+Trofarello!J14+Villastellone!J14+Vinovo!J14+'Virle Piemonte'!J14 -> 0 | K14: =+Beinasco!K14+Bruino!K14+Candiolo!K14+Carignano!K14+'Castagnole Piemonte'!K14+'La Loggia'!K14+Lombriasco!K14+Moncalieri!K14+Nichelino!K14+Orbassano!K14+Osasio!K14+Pancalieri!K14+'Piobesi Torinese'!K14+Piossasco!K14+'Rivalta di Torino'!K14+Trofarello!K14+Villastellone!K14+Vinovo!K14+'Virle Piemonte'!K14 -> 0 | ... O14: =+Beinasco!O14+Bruino!O14+Candiolo!O14+Carignano!O14+'Castagnole Piemonte'!O14+'La Loggia'!O14+Lombriasco!O14+Moncalieri!O14+Nichelino!O14+Orbassano!O14+Osasio!O14+Pancalieri!O14+'Piobesi Torinese'!O14+Piossasco!O14+'Rivalta di Torino'!O14+Trofarello!O14+Villastellone!O14+Vinovo!O14+'Virle Piemonte'!O14 -> 0
B15: Costi operativi incentivanti non sistematici variabili di cui all'articolo 10 del MTR-3 COIEXPTV | D15: =+Beinasco!D15+Bruino!D15+Candiolo!D15+Carignano!D15+'Castagnole Piemonte'!D15+'La Loggia'!D15+Lombriasco!D15+Moncalieri!D15+Nichelino!D15+Orbassano!D15+Osasio!D15+Pancalieri!D15+'Piobesi Torinese'!D15+Piossasco!D15+'Rivalta di Torino'!D15+Trofarello!D15+Villastellone!D15+Vinovo!D15+'Virle Piemonte'!D15 -> 0 | E15: =+Beinasco!E15+Bruino!E15+Candiolo!E15+Carignano!E15+'Castagnole Piemonte'!E15+'La Loggia'!E15+Lombriasco!E15+Moncalieri!E15+Nichelino!E15+Orbassano!E15+Osasio!E15+Pancalieri!E15+'Piobesi Torinese'!E15+Piossasco!E15+'Rivalta di Torino'!E15+Trofarello!E15+Villastellone!E15+Vinovo!E15+'Virle Piemonte'!E15 -> 0 | F15: =+Beinasco!F15+Bruino!F15+Candiolo!F15+Carignano!F15+'Castagnole Piemonte'!F15+'La Loggia'!F15+Lombriasco!F15+Moncalieri!F15+Nichelino!F15+Orbassano!F15+Osasio!F15+Pancalieri!F15+'Piobesi Torinese'!F15+Piossasco!F15+'Rivalta di Torino'!F15+Trofarello!F15+Villastellone!F15+Vinovo!F15+'Virle Piemonte'!F15 -> 0 | G15: =+Beinasco!G15+Bruino!G15+Candiolo!G15+Carignano!G15+'Castagnole Piemonte'!G15+'La Loggia'!G15+Lombriasco!G15+Moncalieri!G15+Nichelino!G15+Orbassano!G15+Osasio!G15+Pancalieri!G15+'Piobesi Torinese'!G15+Piossasco!G15+'Rivalta di Torino'!G15+Trofarello!G15+Villastellone!G15+Vinovo!G15+'Virle Piemonte'!G15 -> 0 | H15: =+Beinasco!H15+Bruino!H15+Candiolo!H15+Carignano!H15+'Castagnole Piemonte'!H15+'La Loggia'!H15+Lombriasco!H15+Moncalieri!H15+Nichelino!H15+Orbassano!H15+Osasio!H15+Pancalieri!H15+'Piobesi Torinese'!H15+Piossasco!H15+'Rivalta di Torino'!H15+Trofarello!H15+Villastellone!H15+Vinovo!H15+'Virle Piemonte'!H15 -> 0 | I15: =+Beinasco!I15+Bruino!I15+Candiolo!I15+Carignano!I15+'Castagnole Piemonte'!I15+'La Loggia'!I15+Lombriasco!I15+Moncalieri!I15+Nichelino!I15+Orbassano!I15+Osasio!I15+Pancalieri!I15+'Piobesi Torinese'!I15+Piossasco!I15+'Rivalta di Torino'!I15+Trofarello!I15+Villastellone!I15+Vinovo!I15+'Virle Piemonte'!I15 -> 0 | J15: =+Beinasco!J15+Bruino!J15+Candiolo!J15+Carignano!J15+'Castagnole Piemonte'!J15+'La Loggia'!J15+Lombriasco!J15+Moncalieri!J15+Nichelino!J15+Orbassano!J15+Osasio!J15+Pancalieri!J15+'Piobesi Torinese'!J15+Piossasco!J15+'Rivalta di Torino'!J15+Trofarello!J15+Villastellone!J15+Vinovo!J15+'Virle Piemonte'!J15 -> 0 | K15: =+Beinasco!K15+Bruino!K15+Candiolo!K15+Carignano!K15+'Castagnole Piemonte'!K15+'La Loggia'!K15+Lombriasco!K15+Moncalieri!K15+Nichelino!K15+Orbassano!K15+Osasio!K15+Pancalieri!K15+'Piobesi Torinese'!K15+Piossasco!K15+'Rivalta di Torino'!K15+Trofarello!K15+Villastellone!K15+Vinovo!K15+'Virle Piemonte'!K15 -> 0 | ... O15: =+Beinasco!O15+Bruino!O15+Candiolo!O15+Carignano!O15+'Castagnole Piemonte'!O15+'La Loggia'!O15+Lombriasco!O15+Moncalieri!O15+Nichelino!O15+Orbassano!O15+Osasio!O15+Pancalieri!O15+'Piobesi Torinese'!O15+Piossasco!O15+'Rivalta di Torino'!O15+Trofarello!O15+Villastellone!O15+Vinovo!O15+'Virle Piemonte'!O15 -> 0
B16: Fattore di Sharing b
B17: Proventi della vendita di materiale ed energia derivante da rifiuti AR | D17: =+Beinasco!D17+Bruino!D17+Candiolo!D17+Carignano!D17+'Castagnole Piemonte'!D17+'La Loggia'!D17+Lombriasco!D17+Moncalieri!D17+Nichelino!D17+Orbassano!D17+Osasio!D17+Pancalieri!D17+'Piobesi Torinese'!D17+Piossasco!D17+'Rivalta di Torino'!D17+Trofarello!D17+Villastellone!D17+Vinovo!D17+'Virle Piemonte'!D17 -> 11208.361 | E17: =+Beinasco!E17+Bruino!E17+Candiolo!E17+Carignano!E17+'Castagnole Piemonte'!E17+'La Loggia'!E17+Lombriasco!E17+Moncalieri!E17+Nichelino!E17+Orbassano!E17+Osasio!E17+Pancalieri!E17+'Piobesi Torinese'!E17+Piossasco!E17+'Rivalta di Torino'!E17+Trofarello!E17+Villastellone!E17+Vinovo!E17+'Virle Piemonte'!E17 -> 0 | F17: =+Beinasco!F17+Bruino!F17+Candiolo!F17+Carignano!F17+'Castagnole Piemonte'!F17+'La Loggia'!F17+Lombriasco!F17+Moncalieri!F17+Nichelino!F17+Orbassano!F17+Osasio!F17+Pancalieri!F17+'Piobesi Torinese'!F17+Piossasco!F17+'Rivalta di Torino'!F17+Trofarello!F17+Villastellone!F17+Vinovo!F17+'Virle Piemonte'!F17 -> 11208.361 | G17: =+Beinasco!G17+Bruino!G17+Candiolo!G17+Carignano!G17+'Castagnole Piemonte'!G17+'La Loggia'!G17+Lombriasco!G17+Moncalieri!G17+Nichelino!G17+Orbassano!G17+Osasio!G17+Pancalieri!G17+'Piobesi Torinese'!G17+Piossasco!G17+'Rivalta di Torino'!G17+Trofarello!G17+Villastellone!G17+Vinovo!G17+'Virle Piemonte'!G17 -> 22050.498 | H17: =+Beinasco!H17+Bruino!H17+Candiolo!H17+Carignano!H17+'Castagnole Piemonte'!H17+'La Loggia'!H17+Lombriasco!H17+Moncalieri!H17+Nichelino!H17+Orbassano!H17+Osasio!H17+Pancalieri!H17+'Piobesi Torinese'!H17+Piossasco!H17+'Rivalta di Torino'!H17+Trofarello!H17+Villastellone!H17+Vinovo!H17+'Virle Piemonte'!H17 -> 0 | I17: =+Beinasco!I17+Bruino!I17+Candiolo!I17+Carignano!I17+'Castagnole Piemonte'!I17+'La Loggia'!I17+Lombriasco!I17+Moncalieri!I17+Nichelino!I17+Orbassano!I17+Osasio!I17+Pancalieri!I17+'Piobesi Torinese'!I17+Piossasco!I17+'Rivalta di Torino'!I17+Trofarello!I17+Villastellone!I17+Vinovo!I17+'Virle Piemonte'!I17 -> 22050.498 | J17: =+Beinasco!J17+Bruino!J17+Candiolo!J17+Carignano!J17+'Castagnole Piemonte'!J17+'La Loggia'!J17+Lombriasco!J17+Moncalieri!J17+Nichelino!J17+Orbassano!J17+Osasio!J17+Pancalieri!J17+'Piobesi Torinese'!J17+Piossasco!J17+'Rivalta di Torino'!J17+Trofarello!J17+Villastellone!J17+Vinovo!J17+'Virle Piemonte'!J17 -> 22050.498 | K17: =+Beinasco!K17+Bruino!K17+Candiolo!K17+Carignano!K17+'Castagnole Piemonte'!K17+'La Loggia'!K17+Lombriasco!K17+Moncalieri!K17+Nichelino!K17+Orbassano!K17+Osasio!K17+Pancalieri!K17+'Piobesi Torinese'!K17+Piossasco!K17+'Rivalta di Torino'!K17+Trofarello!K17+Villastellone!K17+Vinovo!K17+'Virle Piemonte'!K17 -> 0 | ... O17: =+Beinasco!O17+Bruino!O17+Candiolo!O17+Carignano!O17+'Castagnole Piemonte'!O17+'La Loggia'!O17+Lombriasco!O17+Moncalieri!O17+Nichelino!O17+Orbassano!O17+Osasio!O17+Pancalieri!O17+'Piobesi Torinese'!O17+Piossasco!O17+'Rivalta di Torino'!O17+Trofarello!O17+Villastellone!O17+Vinovo!O17+'Virle Piemonte'!O17 -> 22050.498
B18: Ricavi derivanti dai corrispettivi riconosciuti dai sistemi collettivi di compliance ARsc | D18: =+Beinasco!D18+Bruino!D18+Candiolo!D18+Carignano!D18+'Castagnole Piemonte'!D18+'La Loggia'!D18+Lombriasco!D18+Moncalieri!D18+Nichelino!D18+Orbassano!D18+Osasio!D18+Pancalieri!D18+'Piobesi Torinese'!D18+Piossasco!D18+'Rivalta di Torino'!D18+Trofarello!D18+Villastellone!D18+Vinovo!D18+'Virle Piemonte'!D18 -> 3780154.3 | E18: =+Beinasco!E18+Bruino!E18+Candiolo!E18+Carignano!E18+'Castagnole Piemonte'!E18+'La Loggia'!E18+Lombriasco!E18+Moncalieri!E18+Nichelino!E18+Orbassano!E18+Osasio!E18+Pancalieri!E18+'Piobesi Torinese'!E18+Piossasco!E18+'Rivalta di Torino'!E18+Trofarello!E18+Villastellone!E18+Vinovo!E18+'Virle Piemonte'!E18 -> 0 | F18: =+Beinasco!F18+Bruino!F18+Candiolo!F18+Carignano!F18+'Castagnole Piemonte'!F18+'La Loggia'!F18+Lombriasco!F18+Moncalieri!F18+Nichelino!F18+Orbassano!F18+Osasio!F18+Pancalieri!F18+'Piobesi Torinese'!F18+Piossasco!F18+'Rivalta di Torino'!F18+Trofarello!F18+Villastellone!F18+Vinovo!F18+'Virle Piemonte'!F18 -> 3780154.3 | G18: =+Beinasco!G18+Bruino!G18+Candiolo!G18+Carignano!G18+'Castagnole Piemonte'!G18+'La Loggia'!G18+Lombriasco!G18+Moncalieri!G18+Nichelino!G18+Orbassano!G18+Osasio!G18+Pancalieri!G18+'Piobesi Torinese'!G18+Piossasco!G18+'Rivalta di Torino'!G18+Trofarello!G18+Villastellone!G18+Vinovo!G18+'Virle Piemonte'!G18 -> 3939788.6 | H18: =+Beinasco!H18+Bruino!H18+Candiolo!H18+Carignano!H18+'Castagnole Piemonte'!H18+'La Loggia'!H18+Lombriasco!H18+Moncalieri!H18+Nichelino!H18+Orbassano!H18+Osasio!H18+Pancalieri!H18+'Piobesi Torinese'!H18+Piossasco!H18+'Rivalta di Torino'!H18+Trofarello!H18+Villastellone!H18+Vinovo!H18+'Virle Piemonte'!H18 -> 0 | I18: =+Beinasco!I18+Bruino!I18+Candiolo!I18+Carignano!I18+'Castagnole Piemonte'!I18+'La Loggia'!I18+Lombriasco!I18+Moncalieri!I18+Nichelino!I18+Orbassano!I18+Osasio!I18+Pancalieri!I18+'Piobesi Torinese'!I18+Piossasco!I18+'Rivalta di Torino'!I18+Trofarello!I18+Villastellone!I18+Vinovo!I18+'Virle Piemonte'!I18 -> 3939788.6 | J18: =+Beinasco!J18+Bruino!J18+Candiolo!J18+Carignano!J18+'Castagnole Piemonte'!J18+'La Loggia'!J18+Lombriasco!J18+Moncalieri!J18+Nichelino!J18+Orbassano!J18+Osasio!J18+Pancalieri!J18+'Piobesi Torinese'!J18+Piossasco!J18+'Rivalta di Torino'!J18+Trofarello!J18+Villastellone!J18+Vinovo!J18+'Virle Piemonte'!J18 -> 3939788.6 | K18: =+Beinasco!K18+Bruino!K18+Candiolo!K18+Carignano!K18+'Castagnole Piemonte'!K18+'La Loggia'!K18+Lombriasco!K18+Moncalieri!K18+Nichelino!K18+Orbassano!K18+Osasio!K18+Pancalieri!K18+'Piobesi Torinese'!K18+Piossasco!K18+'Rivalta di Torino'!K18+Trofarello!K18+Villastellone!K18+Vinovo!K18+'Virle Piemonte'!K18 -> 0 | ... O18: =+Beinasco!O18+Bruino!O18+Candiolo!O18+Carignano!O18+'Castagnole Piemonte'!O18+'La Loggia'!O18+Lombriasco!O18+Moncalieri!O18+Nichelino!O18+Orbassano!O18+Osasio!O18+Pancalieri!O18+'Piobesi Torinese'!O18+Piossasco!O18+'Rivalta di Torino'!O18+Trofarello!O18+Villastellone!O18+Vinovo!O18+'Virle Piemonte'!O18 -> 3939788.6
B19: Ricavi derivanti dai corrispettivi riconosciuti dal dai sistemi collettivi di compliance dopo sharing b(ARa + ARsc,a) | D19: =+Beinasco!D19+Bruino!D19+Candiolo!D19+Carignano!D19+'Castagnole Piemonte'!D19+'La Loggia'!D19+Lombriasco!D19+Moncalieri!D19+Nichelino!D19+Orbassano!D19+Osasio!D19+Pancalieri!D19+'Piobesi Torinese'!D19+Piossasco!D19+'Rivalta di Torino'!D19+Trofarello!D19+Villastellone!D19+Vinovo!D19+'Virle Piemonte'!D19 -> 1014008.3 | E19: =+Beinasco!E19+Bruino!E19+Candiolo!E19+Carignano!E19+'Castagnole Piemonte'!E19+'La Loggia'!E19+Lombriasco!E19+Moncalieri!E19+Nichelino!E19+Orbassano!E19+Osasio!E19+Pancalieri!E19+'Piobesi Torinese'!E19+Piossasco!E19+'Rivalta di Torino'!E19+Trofarello!E19+Villastellone!E19+Vinovo!E19+'Virle Piemonte'!E19 -> 0 | F19: =+Beinasco!F19+Bruino!F19+Candiolo!F19+Carignano!F19+'Castagnole Piemonte'!F19+'La Loggia'!F19+Lombriasco!F19+Moncalieri!F19+Nichelino!F19+Orbassano!F19+Osasio!F19+Pancalieri!F19+'Piobesi Torinese'!F19+Piossasco!F19+'Rivalta di Torino'!F19+Trofarello!F19+Villastellone!F19+Vinovo!F19+'Virle Piemonte'!F19 -> 1014008.3 | G19: =+Beinasco!G19+Bruino!G19+Candiolo!G19+Carignano!G19+'Castagnole Piemonte'!G19+'La Loggia'!G19+Lombriasco!G19+Moncalieri!G19+Nichelino!G19+Orbassano!G19+Osasio!G19+Pancalieri!G19+'Piobesi Torinese'!G19+Piossasco!G19+'Rivalta di Torino'!G19+Trofarello!G19+Villastellone!G19+Vinovo!G19+'Virle Piemonte'!G19 -> 1059602.6 | H19: =+Beinasco!H19+Bruino!H19+Candiolo!H19+Carignano!H19+'Castagnole Piemonte'!H19+'La Loggia'!H19+Lombriasco!H19+Moncalieri!H19+Nichelino!H19+Orbassano!H19+Osasio!H19+Pancalieri!H19+'Piobesi Torinese'!H19+Piossasco!H19+'Rivalta di Torino'!H19+Trofarello!H19+Villastellone!H19+Vinovo!H19+'Virle Piemonte'!H19 -> 0 | I19: =+Beinasco!I19+Bruino!I19+Candiolo!I19+Carignano!I19+'Castagnole Piemonte'!I19+'La Loggia'!I19+Lombriasco!I19+Moncalieri!I19+Nichelino!I19+Orbassano!I19+Osasio!I19+Pancalieri!I19+'Piobesi Torinese'!I19+Piossasco!I19+'Rivalta di Torino'!I19+Trofarello!I19+Villastellone!I19+Vinovo!I19+'Virle Piemonte'!I19 -> 1059602.6 | J19: =+Beinasco!J19+Bruino!J19+Candiolo!J19+Carignano!J19+'Castagnole Piemonte'!J19+'La Loggia'!J19+Lombriasco!J19+Moncalieri!J19+Nichelino!J19+Orbassano!J19+Osasio!J19+Pancalieri!J19+'Piobesi Torinese'!J19+Piossasco!J19+'Rivalta di Torino'!J19+Trofarello!J19+Villastellone!J19+Vinovo!J19+'Virle Piemonte'!J19 -> 1059602.6 | K19: =+Beinasco!K19+Bruino!K19+Candiolo!K19+Carignano!K19+'Castagnole Piemonte'!K19+'La Loggia'!K19+Lombriasco!K19+Moncalieri!K19+Nichelino!K19+Orbassano!K19+Osasio!K19+Pancalieri!K19+'Piobesi Torinese'!K19+Piossasco!K19+'Rivalta di Torino'!K19+Trofarello!K19+Villastellone!K19+Vinovo!K19+'Virle Piemonte'!K19 -> 0 | ... O19: =+Beinasco!O19+Bruino!O19+Candiolo!O19+Carignano!O19+'Castagnole Piemonte'!O19+'La Loggia'!O19+Lombriasco!O19+Moncalieri!O19+Nichelino!O19+Orbassano!O19+Osasio!O19+Pancalieri!O19+'Piobesi Torinese'!O19+Piossasco!O19+'Rivalta di Torino'!O19+Trofarello!O19+Villastellone!O19+Vinovo!O19+'Virle Piemonte'!O19 -> 1059602.6
B20: Componente a conguaglio relativa ai costi variabili RCtotTV | D20: =+Beinasco!D20+Bruino!D20+Candiolo!D20+Carignano!D20+'Castagnole Piemonte'!D20+'La Loggia'!D20+Lombriasco!D20+Moncalieri!D20+Nichelino!D20+Orbassano!D20+Osasio!D20+Pancalieri!D20+'Piobesi Torinese'!D20+Piossasco!D20+'Rivalta di Torino'!D20+Trofarello!D20+Villastellone!D20+Vinovo!D20+'Virle Piemonte'!D20 -> 0 | E20: =+Beinasco!E20+Bruino!E20+Candiolo!E20+Carignano!E20+'Castagnole Piemonte'!E20+'La Loggia'!E20+Lombriasco!E20+Moncalieri!E20+Nichelino!E20+Orbassano!E20+Osasio!E20+Pancalieri!E20+'Piobesi Torinese'!E20+Piossasco!E20+'Rivalta di Torino'!E20+Trofarello!E20+Villastellone!E20+Vinovo!E20+'Virle Piemonte'!E20 -> 0 | F20: =+Beinasco!F20+Bruino!F20+Candiolo!F20+Carignano!F20+'Castagnole Piemonte'!F20+'La Loggia'!F20+Lombriasco!F20+Moncalieri!F20+Nichelino!F20+Orbassano!F20+Osasio!F20+Pancalieri!F20+'Piobesi Torinese'!F20+Piossasco!F20+'Rivalta di Torino'!F20+Trofarello!F20+Villastellone!F20+Vinovo!F20+'Virle Piemonte'!F20 -> 0 | G20: =+Beinasco!G20+Bruino!G20+Candiolo!G20+Carignano!G20+'Castagnole Piemonte'!G20+'La Loggia'!G20+Lombriasco!G20+Moncalieri!G20+Nichelino!G20+Orbassano!G20+Osasio!G20+Pancalieri!G20+'Piobesi Torinese'!G20+Piossasco!G20+'Rivalta di Torino'!G20+Trofarello!G20+Villastellone!G20+Vinovo!G20+'Virle Piemonte'!G20 -> 0 | H20: =+Beinasco!H20+Bruino!H20+Candiolo!H20+Carignano!H20+'Castagnole Piemonte'!H20+'La Loggia'!H20+Lombriasco!H20+Moncalieri!H20+Nichelino!H20+Orbassano!H20+Osasio!H20+Pancalieri!H20+'Piobesi Torinese'!H20+Piossasco!H20+'Rivalta di Torino'!H20+Trofarello!H20+Villastellone!H20+Vinovo!H20+'Virle Piemonte'!H20 -> 0 | I20: =+Beinasco!I20+Bruino!I20+Candiolo!I20+Carignano!I20+'Castagnole Piemonte'!I20+'La Loggia'!I20+Lombriasco!I20+Moncalieri!I20+Nichelino!I20+Orbassano!I20+Osasio!I20+Pancalieri!I20+'Piobesi Torinese'!I20+Piossasco!I20+'Rivalta di Torino'!I20+Trofarello!I20+Villastellone!I20+Vinovo!I20+'Virle Piemonte'!I20 -> 0 | J20: =+Beinasco!J20+Bruino!J20+Candiolo!J20+Carignano!J20+'Castagnole Piemonte'!J20+'La Loggia'!J20+Lombriasco!J20+Moncalieri!J20+Nichelino!J20+Orbassano!J20+Osasio!J20+Pancalieri!J20+'Piobesi Torinese'!J20+Piossasco!J20+'Rivalta di Torino'!J20+Trofarello!J20+Villastellone!J20+Vinovo!J20+'Virle Piemonte'!J20 -> 0 | K20: =+Beinasco!K20+Bruino!K20+Candiolo!K20+Carignano!K20+'Castagnole Piemonte'!K20+'La Loggia'!K20+Lombriasco!K20+Moncalieri!K20+Nichelino!K20+Orbassano!K20+Osasio!K20+Pancalieri!K20+'Piobesi Torinese'!K20+Piossasco!K20+'Rivalta di Torino'!K20+Trofarello!K20+Villastellone!K20+Vinovo!K20+'Virle Piemonte'!K20 -> 0 | ... O20: =+Beinasco!O20+Bruino!O20+Candiolo!O20+Carignano!O20+'Castagnole Piemonte'!O20+'La Loggia'!O20+Lombriasco!O20+Moncalieri!O20+Nichelino!O20+Orbassano!O20+Osasio!O20+Pancalieri!O20+'Piobesi Torinese'!O20+Piossasco!O20+'Rivalta di Torino'!O20+Trofarello!O20+Villastellone!O20+Vinovo!O20+'Virle Piemonte'!O20 -> 0
B21: di cui quote pregresse recuperate nell'anno a - quota variabile RC∆(T-Tmax)pre,TV,a | D21: =+Beinasco!D21+Bruino!D21+Candiolo!D21+Carignano!D21+'Castagnole Piemonte'!D21+'La Loggia'!D21+Lombriasco!D21+Moncalieri!D21+Nichelino!D21+Orbassano!D21+Osasio!D21+Pancalieri!D21+'Piobesi Torinese'!D21+Piossasco!D21+'Rivalta di Torino'!D21+Trofarello!D21+Villastellone!D21+Vinovo!D21+'Virle Piemonte'!D21 -> 0 | E21: =+Beinasco!E21+Bruino!E21+Candiolo!E21+Carignano!E21+'Castagnole Piemonte'!E21+'La Loggia'!E21+Lombriasco!E21+Moncalieri!E21+Nichelino!E21+Orbassano!E21+Osasio!E21+Pancalieri!E21+'Piobesi Torinese'!E21+Piossasco!E21+'Rivalta di Torino'!E21+Trofarello!E21+Villastellone!E21+Vinovo!E21+'Virle Piemonte'!E21 -> 0 | F21: =+Beinasco!F21+Bruino!F21+Candiolo!F21+Carignano!F21+'Castagnole Piemonte'!F21+'La Loggia'!F21+Lombriasco!F21+Moncalieri!F21+Nichelino!F21+Orbassano!F21+Osasio!F21+Pancalieri!F21+'Piobesi Torinese'!F21+Piossasco!F21+'Rivalta di Torino'!F21+Trofarello!F21+Villastellone!F21+Vinovo!F21+'Virle Piemonte'!F21 -> 0 | G21: =+Beinasco!G21+Bruino!G21+Candiolo!G21+Carignano!G21+'Castagnole Piemonte'!G21+'La Loggia'!G21+Lombriasco!G21+Moncalieri!G21+Nichelino!G21+Orbassano!G21+Osasio!G21+Pancalieri!G21+'Piobesi Torinese'!G21+Piossasco!G21+'Rivalta di Torino'!G21+Trofarello!G21+Villastellone!G21+Vinovo!G21+'Virle Piemonte'!G21 -> 0 | H21: =+Beinasco!H21+Bruino!H21+Candiolo!H21+Carignano!H21+'Castagnole Piemonte'!H21+'La Loggia'!H21+Lombriasco!H21+Moncalieri!H21+Nichelino!H21+Orbassano!H21+Osasio!H21+Pancalieri!H21+'Piobesi Torinese'!H21+Piossasco!H21+'Rivalta di Torino'!H21+Trofarello!H21+Villastellone!H21+Vinovo!H21+'Virle Piemonte'!H21 -> 0 | I21: =+Beinasco!I21+Bruino!I21+Candiolo!I21+Carignano!I21+'Castagnole Piemonte'!I21+'La Loggia'!I21+Lombriasco!I21+Moncalieri!I21+Nichelino!I21+Orbassano!I21+Osasio!I21+Pancalieri!I21+'Piobesi Torinese'!I21+Piossasco!I21+'Rivalta di Torino'!I21+Trofarello!I21+Villastellone!I21+Vinovo!I21+'Virle Piemonte'!I21 -> 0 | J21: =+Beinasco!J21+Bruino!J21+Candiolo!J21+Carignano!J21+'Castagnole Piemonte'!J21+'La Loggia'!J21+Lombriasco!J21+Moncalieri!J21+Nichelino!J21+Orbassano!J21+Osasio!J21+Pancalieri!J21+'Piobesi Torinese'!J21+Piossasco!J21+'Rivalta di Torino'!J21+Trofarello!J21+Villastellone!J21+Vinovo!J21+'Virle Piemonte'!J21 -> 0 | K21: =+Beinasco!K21+Bruino!K21+Candiolo!K21+Carignano!K21+'Castagnole Piemonte'!K21+'La Loggia'!K21+Lombriasco!K21+Moncalieri!K21+Nichelino!K21+Orbassano!K21+Osasio!K21+Pancalieri!K21+'Piobesi Torinese'!K21+Piossasco!K21+'Rivalta di Torino'!K21+Trofarello!K21+Villastellone!K21+Vinovo!K21+'Virle Piemonte'!K21 -> 0 | ... O21: =+Beinasco!O21+Bruino!O21+Candiolo!O21+Carignano!O21+'Castagnole Piemonte'!O21+'La Loggia'!O21+Lombriasco!O21+Moncalieri!O21+Nichelino!O21+Orbassano!O21+Osasio!O21+Pancalieri!O21+'Piobesi Torinese'!O21+Piossasco!O21+'Rivalta di Torino'!O21+Trofarello!O21+Villastellone!O21+Vinovo!O21+'Virle Piemonte'!O21 -> 0
B22: Oneri relativi all'IVA indetraibile - PARTE VARIABILE | D22: =+Beinasco!D22+Bruino!D22+Candiolo!D22+Carignano!D22+'Castagnole Piemonte'!D22+'La Loggia'!D22+Lombriasco!D22+Moncalieri!D22+Nichelino!D22+Orbassano!D22+Osasio!D22+Pancalieri!D22+'Piobesi Torinese'!D22+Piossasco!D22+'Rivalta di Torino'!D22+Trofarello!D22+Villastellone!D22+Vinovo!D22+'Virle Piemonte'!D22 -> 0 | E22: =+Beinasco!E22+Bruino!E22+Candiolo!E22+Carignano!E22+'Castagnole Piemonte'!E22+'La Loggia'!E22+Lombriasco!E22+Moncalieri!E22+Nichelino!E22+Orbassano!E22+Osasio!E22+Pancalieri!E22+'Piobesi Torinese'!E22+Piossasco!E22+'Rivalta di Torino'!E22+Trofarello!E22+Villastellone!E22+Vinovo!E22+'Virle Piemonte'!E22 -> 2179425.7 | F22: =+Beinasco!F22+Bruino!F22+Candiolo!F22+Carignano!F22+'Castagnole Piemonte'!F22+'La Loggia'!F22+Lombriasco!F22+Moncalieri!F22+Nichelino!F22+Orbassano!F22+Osasio!F22+Pancalieri!F22+'Piobesi Torinese'!F22+Piossasco!F22+'Rivalta di Torino'!F22+Trofarello!F22+Villastellone!F22+Vinovo!F22+'Virle Piemonte'!F22 -> 2179425.7 | G22: =+Beinasco!G22+Bruino!G22+Candiolo!G22+Carignano!G22+'Castagnole Piemonte'!G22+'La Loggia'!G22+Lombriasco!G22+Moncalieri!G22+Nichelino!G22+Orbassano!G22+Osasio!G22+Pancalieri!G22+'Piobesi Torinese'!G22+Piossasco!G22+'Rivalta di Torino'!G22+Trofarello!G22+Villastellone!G22+Vinovo!G22+'Virle Piemonte'!G22 -> 0 | H22: =+Beinasco!H22+Bruino!H22+Candiolo!H22+Carignano!H22+'Castagnole Piemonte'!H22+'La Loggia'!H22+Lombriasco!H22+Moncalieri!H22+Nichelino!H22+Orbassano!H22+Osasio!H22+Pancalieri!H22+'Piobesi Torinese'!H22+Piossasco!H22+'Rivalta di Torino'!H22+Trofarello!H22+Villastellone!H22+Vinovo!H22+'Virle Piemonte'!H22 -> 2324207.6 | I22: =+Beinasco!I22+Bruino!I22+Candiolo!I22+Carignano!I22+'Castagnole Piemonte'!I22+'La Loggia'!I22+Lombriasco!I22+Moncalieri!I22+Nichelino!I22+Orbassano!I22+Osasio!I22+Pancalieri!I22+'Piobesi Torinese'!I22+Piossasco!I22+'Rivalta di Torino'!I22+Trofarello!I22+Villastellone!I22+Vinovo!I22+'Virle Piemonte'!I22 -> 2324207.6 | J22: =+Beinasco!J22+Bruino!J22+Candiolo!J22+Carignano!J22+'Castagnole Piemonte'!J22+'La Loggia'!J22+Lombriasco!J22+Moncalieri!J22+Nichelino!J22+Orbassano!J22+Osasio!J22+Pancalieri!J22+'Piobesi Torinese'!J22+Piossasco!J22+'Rivalta di Torino'!J22+Trofarello!J22+Villastellone!J22+Vinovo!J22+'Virle Piemonte'!J22 -> 0 | K22: =+Beinasco!K22+Bruino!K22+Candiolo!K22+Carignano!K22+'Castagnole Piemonte'!K22+'La Loggia'!K22+Lombriasco!K22+Moncalieri!K22+Nichelino!K22+Orbassano!K22+Osasio!K22+Pancalieri!K22+'Piobesi Torinese'!K22+Piossasco!K22+'Rivalta di Torino'!K22+Trofarello!K22+Villastellone!K22+Vinovo!K22+'Virle Piemonte'!K22 -> 2267438.3 | ... O22: =+Beinasco!O22+Bruino!O22+Candiolo!O22+Carignano!O22+'Castagnole Piemonte'!O22+'La Loggia'!O22+Lombriasco!O22+Moncalieri!O22+Nichelino!O22+Orbassano!O22+Osasio!O22+Pancalieri!O22+'Piobesi Torinese'!O22+Piossasco!O22+'Rivalta di Torino'!O22+Trofarello!O22+Villastellone!O22+Vinovo!O22+'Virle Piemonte'!O22 -> 2267438.3
B23: ∑TVa totale delle entrate tariffarie relative alle componenti di costo variabile dopo le detrazioni di cui al. Art, 4.5 Del. 397/2025/R/Rif | D23: =+Beinasco!D23+Bruino!D23+Candiolo!D23+Carignano!D23+'Castagnole Piemonte'!D23+'La Loggia'!D23+Lombriasco!D23+Moncalieri!D23+Nichelino!D23+Orbassano!D23+Osasio!D23+Pancalieri!D23+'Piobesi Torinese'!D23+Piossasco!D23+'Rivalta di Torino'!D23+Trofarello!D23+Villastellone!D23+Vinovo!D23+'Virle Piemonte'!D23 -> 25091445 | E23: =+Beinasco!E23+Bruino!E23+Candiolo!E23+Carignano!E23+'Castagnole Piemonte'!E23+'La Loggia'!E23+Lombriasco!E23+Moncalieri!E23+Nichelino!E23+Orbassano!E23+Osasio!E23+Pancalieri!E23+'Piobesi Torinese'!E23+Piossasco!E23+'Rivalta di Torino'!E23+Trofarello!E23+Villastellone!E23+Vinovo!E23+'Virle Piemonte'!E23 -> 2179673.5 | F23: =+Beinasco!F23+Bruino!F23+Candiolo!F23+Carignano!F23+'Castagnole Piemonte'!F23+'La Loggia'!F23+Lombriasco!F23+Moncalieri!F23+Nichelino!F23+Orbassano!F23+Osasio!F23+Pancalieri!F23+'Piobesi Torinese'!F23+Piossasco!F23+'Rivalta di Torino'!F23+Trofarello!F23+Villastellone!F23+Vinovo!F23+'Virle Piemonte'!F23 -> 27271118 | G23: =+Beinasco!G23+Bruino!G23+Candiolo!G23+Carignano!G23+'Castagnole Piemonte'!G23+'La Loggia'!G23+Lombriasco!G23+Moncalieri!G23+Nichelino!G23+Orbassano!G23+Osasio!G23+Pancalieri!G23+'Piobesi Torinese'!G23+Piossasco!G23+'Rivalta di Torino'!G23+Trofarello!G23+Villastellone!G23+Vinovo!G23+'Virle Piemonte'!G23 -> 26539274 | H23: =+Beinasco!H23+Bruino!H23+Candiolo!H23+Carignano!H23+'Castagnole Piemonte'!H23+'La Loggia'!H23+Lombriasco!H23+Moncalieri!H23+Nichelino!H23+Orbassano!H23+Osasio!H23+Pancalieri!H23+'Piobesi Torinese'!H23+Piossasco!H23+'Rivalta di Torino'!H23+Trofarello!H23+Villastellone!H23+Vinovo!H23+'Virle Piemonte'!H23 -> 2324450.5 | I23: =+Beinasco!I23+Bruino!I23+Candiolo!I23+Carignano!I23+'Castagnole Piemonte'!I23+'La Loggia'!I23+Lombriasco!I23+Moncalieri!I23+Nichelino!I23+Orbassano!I23+Osasio!I23+Pancalieri!I23+'Piobesi Torinese'!I23+Piossasco!I23+'Rivalta di Torino'!I23+Trofarello!I23+Villastellone!I23+Vinovo!I23+'Virle Piemonte'!I23 -> 28863725 | J23: =+Beinasco!J23+Bruino!J23+Candiolo!J23+Carignano!J23+'Castagnole Piemonte'!J23+'La Loggia'!J23+Lombriasco!J23+Moncalieri!J23+Nichelino!J23+Orbassano!J23+Osasio!J23+Pancalieri!J23+'Piobesi Torinese'!J23+Piossasco!J23+'Rivalta di Torino'!J23+Trofarello!J23+Villastellone!J23+Vinovo!J23+'Virle Piemonte'!J23 -> 25971581 | K23: =+Beinasco!K23+Bruino!K23+Candiolo!K23+Carignano!K23+'Castagnole Piemonte'!K23+'La Loggia'!K23+Lombriasco!K23+Moncalieri!K23+Nichelino!K23+Orbassano!K23+Osasio!K23+Pancalieri!K23+'Piobesi Torinese'!K23+Piossasco!K23+'Rivalta di Torino'!K23+Trofarello!K23+Villastellone!K23+Vinovo!K23+'Virle Piemonte'!K23 -> 2267681.2 | ... O23: =+Beinasco!O23+Bruino!O23+Candiolo!O23+Carignano!O23+'Castagnole Piemonte'!O23+'La Loggia'!O23+Lombriasco!O23+Moncalieri!O23+Nichelino!O23+Orbassano!O23+Osasio!O23+Pancalieri!O23+'Piobesi Torinese'!O23+Piossasco!O23+'Rivalta di Torino'!O23+Trofarello!O23+Villastellone!O23+Vinovo!O23+'Virle Piemonte'!O23 -> 28239262
B25: Costi dell’attività di spazzamento e di lavaggio CSL | D25: =+Beinasco!D25+Bruino!D25+Candiolo!D25+Carignano!D25+'Castagnole Piemonte'!D25+'La Loggia'!D25+Lombriasco!D25+Moncalieri!D25+Nichelino!D25+Orbassano!D25+Osasio!D25+Pancalieri!D25+'Piobesi Torinese'!D25+Piossasco!D25+'Rivalta di Torino'!D25+Trofarello!D25+Villastellone!D25+Vinovo!D25+'Virle Piemonte'!D25 -> 5189985.7 | E25: =+Beinasco!E25+Bruino!E25+Candiolo!E25+Carignano!E25+'Castagnole Piemonte'!E25+'La Loggia'!E25+Lombriasco!E25+Moncalieri!E25+Nichelino!E25+Orbassano!E25+Osasio!E25+Pancalieri!E25+'Piobesi Torinese'!E25+Piossasco!E25+'Rivalta di Torino'!E25+Trofarello!E25+Villastellone!E25+Vinovo!E25+'Virle Piemonte'!E25 -> 59163.094 | F25: =+Beinasco!F25+Bruino!F25+Candiolo!F25+Carignano!F25+'Castagnole Piemonte'!F25+'La Loggia'!F25+Lombriasco!F25+Moncalieri!F25+Nichelino!F25+Orbassano!F25+Osasio!F25+Pancalieri!F25+'Piobesi Torinese'!F25+Piossasco!F25+'Rivalta di Torino'!F25+Trofarello!F25+Villastellone!F25+Vinovo!F25+'Virle Piemonte'!F25 -> 5249148.8 | G25: =+Beinasco!G25+Bruino!G25+Candiolo!G25+Carignano!G25+'Castagnole Piemonte'!G25+'La Loggia'!G25+Lombriasco!G25+Moncalieri!G25+Nichelino!G25+Orbassano!G25+Osasio!G25+Pancalieri!G25+'Piobesi Torinese'!G25+Piossasco!G25+'Rivalta di Torino'!G25+Trofarello!G25+Villastellone!G25+Vinovo!G25+'Virle Piemonte'!G25 -> 5172524.6 | H25: =+Beinasco!H25+Bruino!H25+Candiolo!H25+Carignano!H25+'Castagnole Piemonte'!H25+'La Loggia'!H25+Lombriasco!H25+Moncalieri!H25+Nichelino!H25+Orbassano!H25+Osasio!H25+Pancalieri!H25+'Piobesi Torinese'!H25+Piossasco!H25+'Rivalta di Torino'!H25+Trofarello!H25+Villastellone!H25+Vinovo!H25+'Virle Piemonte'!H25 -> 58003.033 | I25: =+Beinasco!I25+Bruino!I25+Candiolo!I25+Carignano!I25+'Castagnole Piemonte'!I25+'La Loggia'!I25+Lombriasco!I25+Moncalieri!I25+Nichelino!I25+Orbassano!I25+Osasio!I25+Pancalieri!I25+'Piobesi Torinese'!I25+Piossasco!I25+'Rivalta di Torino'!I25+Trofarello!I25+Villastellone!I25+Vinovo!I25+'Virle Piemonte'!I25 -> 5230527.7 | J25: =+Beinasco!J25+Bruino!J25+Candiolo!J25+Carignano!J25+'Castagnole Piemonte'!J25+'La Loggia'!J25+Lombriasco!J25+Moncalieri!J25+Nichelino!J25+Orbassano!J25+Osasio!J25+Pancalieri!J25+'Piobesi Torinese'!J25+Piossasco!J25+'Rivalta di Torino'!J25+Trofarello!J25+Villastellone!J25+Vinovo!J25+'Virle Piemonte'!J25 -> 5172524.6 | K25: =+Beinasco!K25+Bruino!K25+Candiolo!K25+Carignano!K25+'Castagnole Piemonte'!K25+'La Loggia'!K25+Lombriasco!K25+Moncalieri!K25+Nichelino!K25+Orbassano!K25+Osasio!K25+Pancalieri!K25+'Piobesi Torinese'!K25+Piossasco!K25+'Rivalta di Torino'!K25+Trofarello!K25+Villastellone!K25+Vinovo!K25+'Virle Piemonte'!K25 -> 58003.033 | ... O25: =+Beinasco!O25+Bruino!O25+Candiolo!O25+Carignano!O25+'Castagnole Piemonte'!O25+'La Loggia'!O25+Lombriasco!O25+Moncalieri!O25+Nichelino!O25+Orbassano!O25+Osasio!O25+Pancalieri!O25+'Piobesi Torinese'!O25+Piossasco!O25+'Rivalta di Torino'!O25+Trofarello!O25+Villastellone!O25+Vinovo!O25+'Virle Piemonte'!O25 -> 5230527.7
B26: Costi per l’attività di gestione delle tariffe e dei rapporti con gli utenti CARC | D26: =+Beinasco!D26+Bruino!D26+Candiolo!D26+Carignano!D26+'Castagnole Piemonte'!D26+'La Loggia'!D26+Lombriasco!D26+Moncalieri!D26+Nichelino!D26+Orbassano!D26+Osasio!D26+Pancalieri!D26+'Piobesi Torinese'!D26+Piossasco!D26+'Rivalta di Torino'!D26+Trofarello!D26+Villastellone!D26+Vinovo!D26+'Virle Piemonte'!D26 -> 2291272.3 | E26: =+Beinasco!E26+Bruino!E26+Candiolo!E26+Carignano!E26+'Castagnole Piemonte'!E26+'La Loggia'!E26+Lombriasco!E26+Moncalieri!E26+Nichelino!E26+Orbassano!E26+Osasio!E26+Pancalieri!E26+'Piobesi Torinese'!E26+Piossasco!E26+'Rivalta di Torino'!E26+Trofarello!E26+Villastellone!E26+Vinovo!E26+'Virle Piemonte'!E26 -> 364033.91 | F26: =+Beinasco!F26+Bruino!F26+Candiolo!F26+Carignano!F26+'Castagnole Piemonte'!F26+'La Loggia'!F26+Lombriasco!F26+Moncalieri!F26+Nichelino!F26+Orbassano!F26+Osasio!F26+Pancalieri!F26+'Piobesi Torinese'!F26+Piossasco!F26+'Rivalta di Torino'!F26+Trofarello!F26+Villastellone!F26+Vinovo!F26+'Virle Piemonte'!F26 -> 2655306.2 | G26: =+Beinasco!G26+Bruino!G26+Candiolo!G26+Carignano!G26+'Castagnole Piemonte'!G26+'La Loggia'!G26+Lombriasco!G26+Moncalieri!G26+Nichelino!G26+Orbassano!G26+Osasio!G26+Pancalieri!G26+'Piobesi Torinese'!G26+Piossasco!G26+'Rivalta di Torino'!G26+Trofarello!G26+Villastellone!G26+Vinovo!G26+'Virle Piemonte'!G26 -> 2252342.2 | H26: =+Beinasco!H26+Bruino!H26+Candiolo!H26+Carignano!H26+'Castagnole Piemonte'!H26+'La Loggia'!H26+Lombriasco!H26+Moncalieri!H26+Nichelino!H26+Orbassano!H26+Osasio!H26+Pancalieri!H26+'Piobesi Torinese'!H26+Piossasco!H26+'Rivalta di Torino'!H26+Trofarello!H26+Villastellone!H26+Vinovo!H26+'Virle Piemonte'!H26 -> 297304.55 | I26: =+Beinasco!I26+Bruino!I26+Candiolo!I26+Carignano!I26+'Castagnole Piemonte'!I26+'La Loggia'!I26+Lombriasco!I26+Moncalieri!I26+Nichelino!I26+Orbassano!I26+Osasio!I26+Pancalieri!I26+'Piobesi Torinese'!I26+Piossasco!I26+'Rivalta di Torino'!I26+Trofarello!I26+Villastellone!I26+Vinovo!I26+'Virle Piemonte'!I26 -> 2549646.7 | J26: =+Beinasco!J26+Bruino!J26+Candiolo!J26+Carignano!J26+'Castagnole Piemonte'!J26+'La Loggia'!J26+Lombriasco!J26+Moncalieri!J26+Nichelino!J26+Orbassano!J26+Osasio!J26+Pancalieri!J26+'Piobesi Torinese'!J26+Piossasco!J26+'Rivalta di Torino'!J26+Trofarello!J26+Villastellone!J26+Vinovo!J26+'Virle Piemonte'!J26 -> 2252342.2 | K26: =+Beinasco!K26+Bruino!K26+Candiolo!K26+Carignano!K26+'Castagnole Piemonte'!K26+'La Loggia'!K26+Lombriasco!K26+Moncalieri!K26+Nichelino!K26+Orbassano!K26+Osasio!K26+Pancalieri!K26+'Piobesi Torinese'!K26+Piossasco!K26+'Rivalta di Torino'!K26+Trofarello!K26+Villastellone!K26+Vinovo!K26+'Virle Piemonte'!K26 -> 297304.55 | ... O26: =+Beinasco!O26+Bruino!O26+Candiolo!O26+Carignano!O26+'Castagnole Piemonte'!O26+'La Loggia'!O26+Lombriasco!O26+Moncalieri!O26+Nichelino!O26+Orbassano!O26+Osasio!O26+Pancalieri!O26+'Piobesi Torinese'!O26+Piossasco!O26+'Rivalta di Torino'!O26+Trofarello!O26+Villastellone!O26+Vinovo!O26+'Virle Piemonte'!O26 -> 2549646.7
B27: Costi generali di gestione CGG | D27: =+Beinasco!D27+Bruino!D27+Candiolo!D27+Carignano!D27+'Castagnole Piemonte'!D27+'La Loggia'!D27+Lombriasco!D27+Moncalieri!D27+Nichelino!D27+Orbassano!D27+Osasio!D27+Pancalieri!D27+'Piobesi Torinese'!D27+Piossasco!D27+'Rivalta di Torino'!D27+Trofarello!D27+Villastellone!D27+Vinovo!D27+'Virle Piemonte'!D27 -> 5152865.8 | E27: =+Beinasco!E27+Bruino!E27+Candiolo!E27+Carignano!E27+'Castagnole Piemonte'!E27+'La Loggia'!E27+Lombriasco!E27+Moncalieri!E27+Nichelino!E27+Orbassano!E27+Osasio!E27+Pancalieri!E27+'Piobesi Torinese'!E27+Piossasco!E27+'Rivalta di Torino'!E27+Trofarello!E27+Villastellone!E27+Vinovo!E27+'Virle Piemonte'!E27 -> 74852.811 | F27: =+Beinasco!F27+Bruino!F27+Candiolo!F27+Carignano!F27+'Castagnole Piemonte'!F27+'La Loggia'!F27+Lombriasco!F27+Moncalieri!F27+Nichelino!F27+Orbassano!F27+Osasio!F27+Pancalieri!F27+'Piobesi Torinese'!F27+Piossasco!F27+'Rivalta di Torino'!F27+Trofarello!F27+Villastellone!F27+Vinovo!F27+'Virle Piemonte'!F27 -> 5227718.6 | G27: =+Beinasco!G27+Bruino!G27+Candiolo!G27+Carignano!G27+'Castagnole Piemonte'!G27+'La Loggia'!G27+Lombriasco!G27+Moncalieri!G27+Nichelino!G27+Orbassano!G27+Osasio!G27+Pancalieri!G27+'Piobesi Torinese'!G27+Piossasco!G27+'Rivalta di Torino'!G27+Trofarello!G27+Villastellone!G27+Vinovo!G27+'Virle Piemonte'!G27 -> 6198969 | H27: =+Beinasco!H27+Bruino!H27+Candiolo!H27+Carignano!H27+'Castagnole Piemonte'!H27+'La Loggia'!H27+Lombriasco!H27+Moncalieri!H27+Nichelino!H27+Orbassano!H27+Osasio!H27+Pancalieri!H27+'Piobesi Torinese'!H27+Piossasco!H27+'Rivalta di Torino'!H27+Trofarello!H27+Villastellone!H27+Vinovo!H27+'Virle Piemonte'!H27 -> 113032.43 | I27: =+Beinasco!I27+Bruino!I27+Candiolo!I27+Carignano!I27+'Castagnole Piemonte'!I27+'La Loggia'!I27+Lombriasco!I27+Moncalieri!I27+Nichelino!I27+Orbassano!I27+Osasio!I27+Pancalieri!I27+'Piobesi Torinese'!I27+Piossasco!I27+'Rivalta di Torino'!I27+Trofarello!I27+Villastellone!I27+Vinovo!I27+'Virle Piemonte'!I27 -> 6312001.4 | J27: =+Beinasco!J27+Bruino!J27+Candiolo!J27+Carignano!J27+'Castagnole Piemonte'!J27+'La Loggia'!J27+Lombriasco!J27+Moncalieri!J27+Nichelino!J27+Orbassano!J27+Osasio!J27+Pancalieri!J27+'Piobesi Torinese'!J27+Piossasco!J27+'Rivalta di Torino'!J27+Trofarello!J27+Villastellone!J27+Vinovo!J27+'Virle Piemonte'!J27 -> 6357712.8 | K27: =+Beinasco!K27+Bruino!K27+Candiolo!K27+Carignano!K27+'Castagnole Piemonte'!K27+'La Loggia'!K27+Lombriasco!K27+Moncalieri!K27+Nichelino!K27+Orbassano!K27+Osasio!K27+Pancalieri!K27+'Piobesi Torinese'!K27+Piossasco!K27+'Rivalta di Torino'!K27+Trofarello!K27+Villastellone!K27+Vinovo!K27+'Virle Piemonte'!K27 -> 113032.43 | ... O27: =+Beinasco!O27+Bruino!O27+Candiolo!O27+Carignano!O27+'Castagnole Piemonte'!O27+'La Loggia'!O27+Lombriasco!O27+Moncalieri!O27+Nichelino!O27+Orbassano!O27+Osasio!O27+Pancalieri!O27+'Piobesi Torinese'!O27+Piossasco!O27+'Rivalta di Torino'!O27+Trofarello!O27+Villastellone!O27+Vinovo!O27+'Virle Piemonte'!O27 -> 6470745.2
